Workbook

Sheet tkbieu
D7: SỈ SỐ | AA7: Tổng cộng: | AB7: =SUM(E7:X7) -> 0
D8: KHOA | E8: KHOA CƠ KHÍ - ÔTÔ | J8: KHOA ĐIỆN VÀ ĐIỆN LẠNH | O8: KHOA KINH TẾ | R8: KHOA CÔNG NGHỆ THÔNG TIN
A9: GVCN | C9: TIẾT | D9: GIỜ | AA9: GIỜ DẠY | AB9: TIẾT | AC9: GVCN
A10: LỚP | D10: DẠY | E10: T26OTO1 | F10: C26OTO1 | G10: T26CK1 | H10: C26CK1 | I10: C26BTCK1 | J10: T26KTML1 | K10: C26KTML1 | L10: T26DC1 | M10: C26DC1 | O10: T26KT1 | P10: C26QTDN1 | Q10: C26KT1 | R10: T26LRMT1 | S10: C26LRMT1 | T10: T26MT1 | U10: T26UDPM1 | V10: T26TKĐH1 | W10: C26MT1 | X10: C26UDPM1 | Y10: C26TKĐH1 | Z10: C26DT1 | AD10: LỚP | AG10: =COUNTA(I10:Y10) -> 16
A11: THỨ HAI 12/10 | B11: BẮT ĐẦU & KẾT THÚC TIẾN ĐỘ | E11: 07/9- | F11: 07/9- | G11: 28/9- | H11: 07/9- | I11: 07/9- | J11: 28/9- | L11: 28/9- | M11: 07/9- | O11: 28/9- | P11: 07/9- | Q11: 07/9- | R11: 07/9- | T11: 07/9- | U11: 07/9- | V11: 07/9- | W11: 07/9- | X11: 07/9- | Y11: 07/9- | Z11: 07/9- | AD11: THỨ HAI
B12: SÁNG | C12: 1 | D12: 7h00-7h45 | E12: TIẾNG ANH 1 | F12: GIÁO DỤC | G12: KỸ NĂNG | H12: GIÁO DỤC | I12: GIÁO DỤC | J12: KỸ NĂNG | L12: KỸ NĂNG | M12: GIÁO DỤC | O12: KỸ NĂNG | P12: GIÁO DỤC | Q12: GIÁO DỤC | R12: TIẾNG ANH 1 | T12: TIẾNG ANH 1 | U12: TIẾNG ANH 1 | V12: TIẾNG ANH 1 | W12: GIÁO DỤC | X12: GIÁO DỤC | Y12: GIÁO DỤC | Z12: GIÁO DỤC | AA12: 7h00-7h45 | AB12: 1
C13: 2 | D13: 7h45-8h30 | F13: THỂ CHẤT | G13: THIẾT YẾU | H13: CHÍNH TRỊ | I13: CHÍNH TRỊ | J13: THIẾT YẾU | L13: THIẾT YẾU | M13: CHÍNH TRỊ | O13: THIẾT YẾU | P13: CHÍNH TRỊ | Q13: CHÍNH TRỊ | W13: CHÍNH TRỊ | X13: CHÍNH TRỊ | Y13: CHÍNH TRỊ | Z13: CHÍNH TRỊ | AA13: 7h45-8h30 | AB13: 2
C14: 3 | D14: 9h00-9h45 | G14: HỌC GHÉP AD TỪ 28/9 | H14: HỌC GHÉP | I14: HỌC GHÉP | J14: HỌC GHÉP AD TỪ 28/9 | L14: HỌC GHÉP AD TỪ 28/9 | M14: HỌC GHÉP | O14: HỌC GHÉP AD TỪ 28/9 | P14: HỌC GHÉP | Q14: HỌC GHÉP | R14: HỌC GHÉP | T14: HỌC GHÉP | U14: HỌC GHÉP | V14: HỌC GHÉP | W14: HỌC GHÉP | X14: HỌC GHÉP | Y14: HỌC GHÉP | Z14: HỌC GHÉP | AA14: 9h00-9h45 | AB14: 3
C15: 4 | D15: 9h45-10h30 | E15: A209 | F15: S. TRƯỜNG | G15: A208 | H15: A207 | I15: A207 | J15: A208 | L15: A208 | M15: A207 | O15: A208 | P15: A207 | Q15: A207 | R15: A210 | T15: A210 | U15: A210 | V15: A210 | W15: A207 | X15: A207 | Y15: A207 | Z15: A207 | AA15: 9h45-10h30 | AB15: 4 | AG15: =COUNTA(E15:Y15) -> 18
C16: 5 | D16: 10h30-11h15 | E16: C. Q. PHƯƠNG | F16: T. THANH | G16: C. LINH | H16: C. NGUYÊN | I16: C. NGUYÊN | J16: C. LINH | L16: C. LINH | M16: C. NGUYÊN | O16: C. LINH | P16: C. NGUYÊN | Q16: C. NGUYÊN | R16: T. C. HOÀNG | T16: T. C. HOÀNG | U16: T. C. HOÀNG | V16: T. C. HOÀNG | W16: C. NGUYÊN | X16: C. NGUYÊN | Y16: C. NGUYÊN | Z16: C. NGUYÊN | AA16: 10h30-11h15 | AB16: 5 | AG16: =COUNTA(E16:Y16) -> 18
AA17: 11h00-11h45 | AB17: 6
B18: BẮT ĐẦU & KẾT THÚC TIẾN ĐỘ | F18: 07/9- | K18: 07/9- | S18: 07/9- | AA18: KẾT THÚC TIẾN ĐỘ
B19: CHIỀU | C19: 6 | D19: 12h45-13h30 | E19: HỌC VHPT | F19: TIẾNG ANH 1 | G19: HỌC VHPT | J19: HỌC VHPT | K19: GIÁO DỤC | L19: HỌC VHPT | O19: HỌC VHPT | R19: HỌC VHPT | S19: GIÁO DỤC | T19: HỌC VHPT | U19: HỌC VHPT | V19: HỌC VHPT | AA19: 12h45-13h30 | AB19: 6 | AC19: CHIỀU
C20: 7 | D20: 13h30-14h15 | E20: THEO TKB | G20: THEO TKB | J20: THEO TKB | K20: CHÍNH TRỊ | L20: THEO TKB | O20: THEO TKB | R20: THEO TKB | S20: CHÍNH TRỊ | T20: THEO TKB | U20: THEO TKB | V20: THEO TKB | AA20: 13h30-14h15 | AB20: 7
C21: 8 | D21: 14h45-15h30 | E21: TTGDTX | G21: TTGDTX | J21: TTGDTX | K21: HỌC GHÉP | L21: TTGDTX | O21: TTGDTX | R21: TTGDTX | S21: HỌC GHÉP | T21: TTGDTX | U21: TTGDTX | V21: TTGDTX | AA21: 14h45-15h30 | AB21: 8
C22: 9 | D22: 15h30-16h15 | F22: A207 | K22: A210 | S22: HỌC GHÉP | AA22: 15h30-16h15 | AB22: 9 | AG22: =COUNTA(E22:Y22) -> 3
C23: 10 | D23: 16h15-17h00 | F23: T. QUÂN | K23: C. MI | S23: C. MI | AA23: 16h15-17h00 | AB23: 10 | AG23: =COUNTA(E23:Y23) -> 3
AA24: 5h00-5h45 | AB24: 12
A25: THỨ BA 13/10 | B25: BẮT ĐẦU & KẾT THÚC TIẾN ĐỘ | E25: 21/9- | F25: 21/9- | J25: 14/9- | K25: 07/9- | O25: 07/9- | U25: 04/9- | V25: 21/9- | AA25: KẾT THÚC TIẾN ĐỘ | AD25: THỨ BA
B26: SÁNG | C26: 1 | D26: 7h00-7h45 | E26: VẼ | F26: D.SAI L.GHÉP | J26: THỰC TẬP | K26: KT AN TOÀN & | O26: NGUYÊN LÝ | U26: TIN HỌC | V26: TIN HỌC | AA26: 7h00-7h45 | AB26: 1 | AC26: SÁNG
C27: 2 | D27: 7h45-8h30 | E27: KỸ THUẬT | F27: VÀ ĐO LƯỜNG KT | J27: GÒ HÀN | K27: BẢO HỘ LĐ | O27: THỐNG KÊ | AA27: 7h45-8h30 | AB27: 2
C28: 3 | D28: 9h00-9h45 | AA28: 9h00-9h45 | AB28: 3
C29: 4 | D29: 9h45-10h30 | E29: A209 | F29: A210 | J29: B005 | K29: A208 | O29: A207 | U29: A101 (PM4) | V29: A103 (PM6) | AA29: 9h45-10h30 | AB29: 4 | AG29: =COUNTA(E29:Y29) -> 7
C30: 5 | D30: 10h30-11h15 | E30: T. Y. LONG | F30: T. THÔNG | J30: T. TRƯƠNG | K30: T. CHƯƠNG | O30: C. L. PHƯƠNG | U30: T. TÀI | V30: T. TÔN | AA30: 10h30-11h15 | AB30: 5 | AG30: =COUNTA(E30:Y30) -> 7
AA31: 11h00-11h45 | AB31: 6
B32: BẮT ĐẦU & KẾT THÚC TIẾN ĐỘ | F32: 21/9- | K32: 07/9- | AA32: KẾT THÚC TIẾN ĐỘ
B33: CHIỀU | C33: 6 | D33: 12h45-13h30 | E33: HỌC VHPT | F33: KỸ THUẬT | G33: HỌC VHPT | J33: HỌC VHPT | K33: CSKT NHIỆT LẠNH | L33: HỌC VHPT | O33: HỌC VHPT | R33: HỌC VHPT | T33: HỌC VHPT | U33: HỌC VHPT | V33: HỌC VHPT | AA33: 12h45-13h30 | AB33: 6 | AC33: CHIỀU
C34: 7 | D34: 13h30-14h15 | E34: THEO TKB | F34: Ô TÔ | G34: THEO TKB | J34: THEO TKB | K34: VÀ ĐHKK | L34: THEO TKB | O34: THEO TKB | R34: THEO TKB | T34: THEO TKB | U34: THEO TKB | V34: THEO TKB | AA34: 13h30-14h15 | AB34: 7
C35: 8 | D35: 14h45-15h30 | E35: TTGDTX | G35: TTGDTX | J35: TTGDTX | L35: TTGDTX | O35: TTGDTX | R35: TTGDTX | T35: TTGDTX | U35: TTGDTX | V35: TTGDTX | AA35: 14h45-15h30 | AB35: 8
C36: 9 | D36: 15h30-16h15 | F36: A210 | K36: A104 | AA36: 15h30-16h15 | AB36: 9 | AG36: =COUNTA(E36:Y36) -> 2
C37: 5 | D37: 10h30-11h15 | F37: T. HUY | K37: T. THOẠI | AA37: 10h30-11h15 | AB37: 5 | AG37: =COUNTA(E37:Y37) -> 2
AA38: 5h00-5h45 | AB38: 12
A39: THỨ TƯ 14/10 | B39: BẮT ĐẦU & KẾT THÚC TIẾN ĐỘ | E39: 08/10- | G39: 07/9- | H39: 07/9- | I39: 07/9- | J39: 07/9- | K39: 07/9- | L39: 07/9- | M39: 07/9- | O39: 07/9- | P39: 07/9- | Q39: 07/9- | R39: 07/10- | S39: 07/9- | T39: 07/10- | U39: 07/10- | V39: 07/10- | W39: 07/9- | X39: 07/9- | Y39: 07/9- | Z39: 07/9- | AA39: KẾT THÚC TIẾN ĐỘ | AD39: THỨ TƯ
B40: SÁNG | C40: 1 | D40: 7h00-7h45 | E40: PHÁP LUẬT | G40: TIẾNG ANH 1 | H40: TIẾNG ANH 1 | I40: TIẾNG ANH 1 | J40: TIẾNG ANH 1 | K40: GIÁO DỤC | L40: TIẾNG ANH 1 | M40: TIẾNG ANH 1 | O40: TIẾNG ANH 1 | P40: TIẾNG ANH 1 | Q40: TIẾNG ANH 1 | R40: KỸ NĂNG | S40: GIÁO DỤC | T40: KỸ NĂNG | U40: KỸ NĂNG | V40: KỸ NĂNG | W40: TIẾNG ANH 1 | X40: TIẾNG ANH 1 | Y40: TIẾNG ANH 1 | Z40: TIẾNG ANH 1 | AA40: 7h00-7h45 | AB40: 1 | AC40: SÁNG
C41: 2 | D41: 7h45-8h30 | K41: THỂ CHẤT | R41: THIẾT YẾU | S41: THỂ CHẤT | T41: THIẾT YẾU | U41: THIẾT YẾU | V41: THIẾT YẾU | AA41: 7h45-8h30 | AB41: 2
C42: 3 | D42: 9h00-9h45 | G42: HỌC GHÉP | H42: HỌC GHÉP | I42: HỌC GHÉP | J42: HỌC GHÉP | K42: HỌC GHÉP | L42: HỌC GHÉP | M42: HỌC GHÉP | O42: HỌC GHÉP | P42: HỌC GHÉP | Q42: HỌC GHÉP | R42: HỌC GHÉP AD TỪ 05/10 | S42: HỌC GHÉP | T42: HỌC GHÉP AD TỪ 05/10 | U42: HỌC GHÉP AD TỪ 05/10 | V42: HỌC GHÉP AD TỪ 05/10 | W42: HỌC GHÉP | X42: HỌC GHÉP | Y42: HỌC GHÉP | Z42: HỌC GHÉP | AA42: 9h00-9h45 | AB42: 3
C43: 4 | D43: 9h45-10h30 | E43: A209 | G43: A208 | H43: A207 | I43: A207 | J43: A208 | K43: S. TRƯỜNG | L43: A208 | M43: A207 | O43: A208 | P43: A207 | Q43: A207 | R43: A210 | S43: S. TRƯỜNG | T43: A210 | U43: A210 | V43: A210 | W43: A207 | X43: A207 | Y43: A207 | Z43: A207 | AA43: 9h45-10h30 | AB43: 4 | AG43: =COUNTA(E43:Y43) -> 19
C44: 5 | D44: 10h30-11h15 | E44: C. HỒNG | G44: T. C. HOÀNG | H44: T. QUÂN | I44: T. QUÂN | J44: T. C. HOÀNG | K44: T. THANH | L44: T. C. HOÀNG | M44: T. QUÂN | O44: T. C. HOÀNG | P44: T. QUÂN | Q44: T. QUÂN | R44: C. LINH | S44: T. THANH | T44: C. LINH | U44: C. LINH | V44: C. LINH | W44: T. QUÂN | X44: T. QUÂN | Y44: T. QUÂN | Z44: T. QUÂN | AA44: 10h30-11h15 | AB44: 5 | AG44: =COUNTA(E44:Y44) -> 19
AA45: 11h00-11h45 | AB45: 6
B46: BẮT ĐẦU & KẾT THÚC TIẾN ĐỘ | F46: 07/9- | H46: 07/9- | I46: 07/9- | K46: 07/9- | M46: 07/9- | P46: 07/9- | Q46: 07/9- | S46: 07/9- | W46: 07/9- | X46: 07/9- | Y46: 07/9- | Z46: 07/9- | AA46: KẾT THÚC TIẾN ĐỘ
...

Sheet KCK-OTO
A1: THỜI KHÓA BIỂU KHOA CƠ KHÍ - ÔTÔ
A3: ÁP DỤNG TỪ NGÀY 12/10 ĐẾN 30/10/2026 | K3: =A3 -> ÁP DỤNG TỪ NGÀY 12/10 ĐẾN 30/10/2026
A5: LỚP: | C5: =tkbieu!E10 -> T26OTO1 | E5: GVCN: | F5: =tkbieu!E9 -> 0 | H5: ĐT: | K5: LỚP: | M5: =tkbieu!F10 -> C26OTO1 | O5: GVCN: | P5: =tkbieu!F9 -> 0 | R5: ĐT:
A6: Buổi | B6: Tiết | C6: Giờ dạy | D6: THỨ HAI | E6: THỨ BA | F6: THỨ TƯ | G6: THỨ NĂM | H6: THỨ SÁU | I6: THỨ BẢY | K6: Buổi | L6: Tiết | M6: Giờ dạy | N6: THỨ HAI | O6: THỨ BA | P6: THỨ TƯ | Q6: THỨ NĂM | R6: THỨ SÁU | S6: THỨ BẢY
A7: SÁNG | B7: 1 | C7: 7h00-7h45 | D7: =tkbieu!E12 -> TIẾNG ANH 1 | E7: =tkbieu!E26 -> VẼ | F7: =tkbieu!E40 -> PHÁP LUẬT | G7: =tkbieu!E54 -> 0 | H7: =tkbieu!E68 -> KỸ THUẬT | I7: =tkbieu!E82 -> TIN HỌC | K7: SÁNG | L7: 1 | M7: 7h00-7h45 | N7: =tkbieu!F12 -> GIÁO DỤC | O7: =tkbieu!F26 -> D.SAI L.GHÉP | P7: =tkbieu!F40 -> 0 | Q7: =tkbieu!F54 -> 0 | R7: =tkbieu!F68 -> BD&SC CƠ | S7: =tkbieu!F82 -> 0
B8: 2 | C8: 7h45-8h30 | D8: =tkbieu!E13 -> 0 | E8: =tkbieu!E27 -> KỸ THUẬT | F8: =tkbieu!E41 -> 0 | G8: =tkbieu!E55 -> 0 | H8: =tkbieu!E69 -> Ô TÔ | I8: =tkbieu!E83 -> 0 | L8: 2 | M8: 7h45-8h30 | N8: =tkbieu!F13 -> THỂ CHẤT | O8: =tkbieu!F27 -> VÀ ĐO LƯỜNG KT | P8: =tkbieu!F41 -> 0 | Q8: =tkbieu!F55 -> 0 | R8: =tkbieu!F69 -> KHÍ ĐỘNG CƠ | S8: =tkbieu!F83 -> 0
B9: 3 | C9: 9h00-9h45 | D9: =tkbieu!E14 -> 0 | E9: =tkbieu!E28 -> 0 | F9: =tkbieu!E42 -> 0 | G9: =tkbieu!E56 -> 0 | H9: =tkbieu!E70 -> 0 | I9: =tkbieu!E84 -> 0 | L9: 3 | M9: 9h00-9h45 | N9: =tkbieu!F14 -> 0 | O9: =tkbieu!F28 -> 0 | P9: =tkbieu!F42 -> 0 | Q9: =tkbieu!F56 -> 0 | R9: =tkbieu!F70 -> 0 | S9: =tkbieu!F84 -> 0
B10: 4 | C10: 9h45-10h30 | D10: =tkbieu!E15 -> A209 | E10: =tkbieu!E29 -> A209 | F10: =tkbieu!E43 -> A209 | G10: =tkbieu!E57 -> 0 | H10: =tkbieu!E71 -> A207 | I10: =tkbieu!E85 -> B013 | L10: 4 | M10: 9h45-10h30 | N10: =tkbieu!F15 -> S. TRƯỜNG | O10: =tkbieu!F29 -> A210 | P10: =tkbieu!F43 -> 0 | Q10: =tkbieu!F57 -> 0 | R10: =tkbieu!F71 -> B007 | S10: =tkbieu!F85 -> 0
B11: 5 | C11: 10h30-11h15(LT) 10h30-11h30(TH) | D11: =tkbieu!E16 -> C. Q. PHƯƠNG | E11: =tkbieu!E30 -> T. Y. LONG | F11: =tkbieu!E44 -> C. HỒNG | G11: =tkbieu!E58 -> 0 | H11: =tkbieu!E72 -> T. V. HẢI | I11: =tkbieu!E86 -> T. T. HẢI | L11: 5 | M11: 10h30-11h15(LT) 10h30-11h30(TH) | N11: =tkbieu!F16 -> T. THANH | O11: =tkbieu!F30 -> T. THÔNG | P11: =tkbieu!F44 -> 0 | Q11: =tkbieu!F58 -> 0 | R11: =tkbieu!F72 -> T. DƯƠNG | S11: =tkbieu!F86 -> 0
A13: CHIỀU | B13: 6 | C13: 12h45-13h30 | D13: =tkbieu!E19 -> HỌC VHPT | E13: =tkbieu!E33 -> HỌC VHPT | F13: =tkbieu!E47 -> HỌC VHPT | G13: =tkbieu!E61 -> HỌC VHPT | H13: =tkbieu!E75 -> HỌC VHPT | I13: =tkbieu!E89 -> TIN HỌC | K13: CHIỀU | L13: 6 | M13: 12h45-13h30 | N13: =tkbieu!F19 -> TIẾNG ANH 1 | O13: =tkbieu!F33 -> KỸ THUẬT | P13: =tkbieu!F47 -> GIÁO DỤC | Q13: =tkbieu!F61 -> 0 | R13: =tkbieu!F75 -> BD&SC CƠ | S13: =tkbieu!F89 -> 0
B14: 7 | C14: 13h30-14h15 | D14: =tkbieu!E20 -> THEO TKB | E14: =tkbieu!E34 -> THEO TKB | F14: =tkbieu!E48 -> THEO TKB | G14: =tkbieu!E62 -> THEO TKB | H14: =tkbieu!E76 -> THEO TKB | I14: =tkbieu!E90 -> 0 | L14: 7 | M14: 13h30-14h15 | N14: =tkbieu!F20 -> 0 | O14: =tkbieu!F34 -> Ô TÔ | P14: =tkbieu!F48 -> CHÍNH TRỊ | Q14: =tkbieu!F62 -> 0 | R14: =tkbieu!F76 -> KHÍ ĐỘNG CƠ | S14: =tkbieu!F90 -> 0
B15: 8 | C15: 14h45-15h30 | D15: =tkbieu!E21 -> TTGDTX | E15: =tkbieu!E35 -> TTGDTX | F15: =tkbieu!E49 -> TTGDTX | G15: =tkbieu!E63 -> TTGDTX | H15: =tkbieu!E77 -> TTGDTX | I15: =tkbieu!E91 -> 0 | L15: 8 | M15: 14h45-15h30 | N15: =tkbieu!F21 -> 0 | O15: =tkbieu!F35 -> 0 | P15: =tkbieu!F49 -> 0 | Q15: =tkbieu!F63 -> 0 | R15: =tkbieu!F77 -> 0 | S15: =tkbieu!F91 -> 0
B16: 9 | C16: 15h30-16h15 | D16: =tkbieu!E22 -> 0 | E16: =tkbieu!E36 -> 0 | F16: =tkbieu!E50 -> 0 | G16: =tkbieu!E64 -> 0 | H16: =tkbieu!E78 -> 0 | I16: =tkbieu!E92 -> B013 | L16: 9 | M16: 15h30-16h15 | N16: =tkbieu!F22 -> A207 | O16: =tkbieu!F36 -> A210 | P16: =tkbieu!F50 -> A210 | Q16: =tkbieu!F64 -> 0 | R16: =tkbieu!F78 -> B007 | S16: =tkbieu!F92 -> 0
B17: 10 | C17: 16h15-17h00(LT) 16h15-17h15(TH) | D17: =tkbieu!E23 -> 0 | E17: =tkbieu!E37 -> 0 | F17: =tkbieu!E51 -> 0 | G17: =tkbieu!E65 -> 0 | H17: =tkbieu!E79 -> 0 | I17: =tkbieu!E93 -> T. T. HẢI | L17: 10 | M17: 16h15-17h00(LT) 16h15-17h15(TH) | N17: =tkbieu!F23 -> T. QUÂN | O17: =tkbieu!F37 -> T. HUY | P17: =tkbieu!F51 -> C. MI | Q17: =tkbieu!F65 -> 0 | R17: =tkbieu!F79 -> T. DƯƠNG | S17: =tkbieu!F93 -> 0
A20: =A3 -> ÁP DỤNG TỪ NGÀY 12/10 ĐẾN 30/10/2026 | K20: =A20 -> ÁP DỤNG TỪ NGÀY 12/10 ĐẾN 30/10/2026
A22: LỚP: | C22: =tkbieu!G10 -> T26CK1 | E22: GVCN: | F22: =tkbieu!G9 -> 0 | H22: ĐT: | K22: LỚP: | M22: =tkbieu!H10 -> C26CK1 | O22: GVCN: | P22: =tkbieu!H9 -> 0 | R22: ĐT:
A23: Buổi | B23: Tiết | C23: Giờ dạy | D23: THỨ HAI | E23: THỨ BA | F23: THỨ TƯ | G23: THỨ NĂM | H23: THỨ SÁU | I23: THỨ BẢY | K23: Buổi | L23: Tiết | M23: Giờ dạy | N23: THỨ HAI | O23: THỨ BA | P23: THỨ TƯ | Q23: THỨ NĂM | R23: THỨ SÁU | S23: THỨ BẢY
A24: SÁNG | B24: 1 | C24: 7h00-7h45 | D24: =tkbieu!G12 -> KỸ NĂNG | E24: =tkbieu!G26 -> 0 | F24: =tkbieu!G40 -> TIẾNG ANH 1 | G24: =tkbieu!G54 -> 0 | H24: =tkbieu!G68 -> 0 | I24: =tkbieu!G82 -> 0 | K24: SÁNG | L24: 1 | M24: 7h00-7h45 | N24: =tkbieu!H12 -> GIÁO DỤC | O24: =tkbieu!H26 -> 0 | P24: =tkbieu!H40 -> TIẾNG ANH 1 | Q24: =tkbieu!H54 -> 0 | R24: =tkbieu!H68 -> 0 | S24: =tkbieu!H82 -> 0
B25: 2 | C25: 7h45-8h30 | D25: =tkbieu!G13 -> THIẾT YẾU | E25: =tkbieu!G27 -> 0 | F25: =tkbieu!G41 -> 0 | G25: =tkbieu!G55 -> 0 | H25: =tkbieu!G69 -> 0 | I25: =tkbieu!G83 -> 0 | L25: 2 | M25: 7h45-8h30 | N25: =tkbieu!H13 -> CHÍNH TRỊ | O25: =tkbieu!H27 -> 0 | P25: =tkbieu!H41 -> 0 | Q25: =tkbieu!H55 -> 0 | R25: =tkbieu!H69 -> 0 | S25: =tkbieu!H83 -> 0
B26: 3 | C26: 9h00-9h45 | D26: =tkbieu!G14 -> HỌC GHÉP AD TỪ 28/9 | E26: =tkbieu!G28 -> 0 | F26: =tkbieu!G42 -> HỌC GHÉP | G26: =tkbieu!G56 -> 0 | H26: =tkbieu!G70 -> 0 | I26: =tkbieu!G84 -> 0 | L26: 3 | M26: 9h00-9h45 | N26: =tkbieu!H14 -> HỌC GHÉP | O26: =tkbieu!H28 -> 0 | P26: =tkbieu!H42 -> HỌC GHÉP | Q26: =tkbieu!H56 -> 0 | R26: =tkbieu!H70 -> 0 | S26: =tkbieu!H84 -> 0
B27: 4 | C27: 9h45-10h30 | D27: =tkbieu!G15 -> A208 | E27: =tkbieu!G29 -> 0 | F27: =tkbieu!G43 -> A208 | G27: =tkbieu!G57 -> 0 | H27: =tkbieu!G71 -> 0 | I27: =tkbieu!G85 -> 0 | L27: 4 | M27: 9h45-10h30 | N27: =tkbieu!H15 -> A207 | O27: =tkbieu!H29 -> 0 | P27: =tkbieu!H43 -> A207 | Q27: =tkbieu!H57 -> 0 | R27: =tkbieu!H71 -> 0 | S27: =tkbieu!H85 -> 0
B28: 5 | C28: 10h30-11h15(LT) 10h30-11h30(TH) | D28: =tkbieu!G16 -> C. LINH | E28: =tkbieu!G30 -> 0 | F28: =tkbieu!G44 -> T. C. HOÀNG | G28: =tkbieu!G58 -> 0 | H28: =tkbieu!G72 -> 0 | I28: =tkbieu!G86 -> 0 | L28: 5 | M28: 10h30-11h15(LT) 10h30-11h30(TH) | N28: =tkbieu!H16 -> C. NGUYÊN | O28: =tkbieu!H30 -> 0 | P28: =tkbieu!H44 -> T. QUÂN | Q28: =tkbieu!H58 -> 0 | R28: =tkbieu!H72 -> 0 | S28: =tkbieu!H86 -> 0
A30: CHIỀU | B30: 6 | C30: 12h45-13h30 | D30: =tkbieu!G19 -> HỌC VHPT | E30: =tkbieu!G33 -> HỌC VHPT | F30: =tkbieu!G47 -> HỌC VHPT | G30: =tkbieu!G61 -> HỌC VHPT | H30: =tkbieu!G75 -> HỌC VHPT | I30: =tkbieu!G89 -> 0 | K30: CHIỀU | L30: 6 | M30: 12h45-13h30 | N30: =tkbieu!H19 -> 0 | O30: =tkbieu!H33 -> 0 | P30: =tkbieu!H47 -> GIÁO DỤC | Q30: =tkbieu!H61 -> 0 | R30: =tkbieu!H75 -> 0 | S30: =tkbieu!H89 -> 0
B31: 7 | C31: 13h30-14h15 | D31: =tkbieu!G20 -> THEO TKB | E31: =tkbieu!G34 -> THEO TKB | F31: =tkbieu!G48 -> THEO TKB | G31: =tkbieu!G62 -> THEO TKB | H31: =tkbieu!G76 -> THEO TKB | I31: =tkbieu!G90 -> 0 | L31: 7 | M31: 13h30-14h15 | N31: =tkbieu!H20 -> 0 | O31: =tkbieu!H34 -> 0 | P31: =tkbieu!H48 -> THỂ CHẤT | Q31: =tkbieu!H62 -> 0 | R31: =tkbieu!H76 -> 0 | S31: =tkbieu!H90 -> 0
B32: 8 | C32: 14h45-15h30 | D32: =tkbieu!G21 -> TTGDTX | E32: =tkbieu!G35 -> TTGDTX | F32: =tkbieu!G49 -> TTGDTX | G32: =tkbieu!G63 -> TTGDTX | H32: =tkbieu!G77 -> TTGDTX | I32: =tkbieu!G91 -> 0 | L32: 8 | M32: 14h45-15h30 | N32: =tkbieu!H21 -> 0 | O32: =tkbieu!H35 -> 0 | P32: =tkbieu!H49 -> HỌC GHÉP | Q32: =tkbieu!H63 -> 0 | R32: =tkbieu!H77 -> 0 | S32: =tkbieu!H91 -> 0
B33: 9 | C33: 15h30-16h15 | D33: =tkbieu!G22 -> 0 | E33: =tkbieu!G36 -> 0 | F33: =tkbieu!G50 -> 0 | G33: =tkbieu!G64 -> 0 | H33: =tkbieu!G78 -> 0 | I33: =tkbieu!G92 -> 0 | L33: 9 | M33: 15h30-16h15 | N33: =tkbieu!H22 -> 0 | O33: =tkbieu!H36 -> 0 | P33: =tkbieu!H50 -> S. TRƯỜNG | Q33: =tkbieu!H64 -> 0 | R33: =tkbieu!H78 -> 0 | S33: =tkbieu!H92 -> 0
B34: 10 | C34: 16h15-17h00(LT) 16h15-17h15(TH) | D34: =tkbieu!G23 -> 0 | E34: =tkbieu!G37 -> 0 | F34: =tkbieu!G51 -> 0 | G34: =tkbieu!G65 -> 0 | H34: =tkbieu!G79 -> 0 | I34: =tkbieu!G93 -> 0 | L34: 10 | M34: 16h15-17h00(LT) 16h15-17h15(TH) | N34: =tkbieu!H23 -> 0 | O34: =tkbieu!H37 -> 0 | P34: =tkbieu!H51 -> T. THANH | Q34: =tkbieu!H65 -> 0 | R34: =tkbieu!H79 -> 0 | S34: =tkbieu!H93 -> 0
A37: ='KCK-OTO'!A20 -> ÁP DỤNG TỪ NGÀY 12/10 ĐẾN 30/10/2026
A39: LỚP: | C39: =tkbieu!I10 -> C26BTCK1 | E39: GVCN: | F39: =tkbieu!I9 -> 0 | H39: ĐT: | I39: 090 935 4930
A40: Buổi | B40: Tiết | C40: Giờ dạy | D40: THỨ HAI | E40: THỨ BA | F40: THỨ TƯ | G40: THỨ NĂM | H40: THỨ SÁU | I40: THỨ BẢY
A41: SÁNG | B41: 1 | C41: 7h00-7h45 | D41: =tkbieu!I12 -> GIÁO DỤC | E41: =tkbieu!I26 -> 0 | F41: =tkbieu!I40 -> TIẾNG ANH 1 | G41: =tkbieu!I54 -> 0 | H41: =tkbieu!I68 -> 0 | I41: =tkbieu!I82 -> 0
B42: 2 | C42: 7h45-8h30 | D42: =tkbieu!I13 -> CHÍNH TRỊ | E42: =tkbieu!I27 -> 0 | F42: =tkbieu!I41 -> 0 | G42: =tkbieu!I55 -> 0 | H42: =tkbieu!I69 -> 0 | I42: =tkbieu!I83 -> 0
B43: 3 | C43: 9h00-9h45 | D43: =tkbieu!I14 -> HỌC GHÉP | E43: =tkbieu!I28 -> 0 | F43: =tkbieu!I42 -> HỌC GHÉP | G43: =tkbieu!I56 -> 0 | H43: =tkbieu!I70 -> 0 | I43: =tkbieu!I84 -> 0
B44: 4 | C44: 9h45-10h30 | D44: =tkbieu!I15 -> A207 | E44: =tkbieu!I29 -> 0 | F44: =tkbieu!I43 -> A207 | G44: =tkbieu!I57 -> 0 | H44: =tkbieu!I71 -> 0 | I44: =tkbieu!I85 -> 0
B45: 5 | C45: 10h30-11h15(LT) 10h30-11h30(TH) | D45: =tkbieu!I16 -> C. NGUYÊN | E45: =tkbieu!I30 -> 0 | F45: =tkbieu!I44 -> T. QUÂN | G45: =tkbieu!I58 -> 0 | H45: =tkbieu!I72 -> 0 | I45: =tkbieu!I86 -> 0
A47: CHIỀU | B47: 6 | C47: 12h45-13h30 | D47: =tkbieu!I19 -> 0 | E47: =tkbieu!I33 -> 0 | F47: =tkbieu!I47 -> GIÁO DỤC | G47: =tkbieu!I61 -> 0 | H47: =tkbieu!I75 -> 0 | I47: =tkbieu!I89 -> 0
B48: 7 | C48: 13h30-14h15 | D48: =tkbieu!I20 -> 0 | E48: =tkbieu!I34 -> 0 | F48: =tkbieu!I48 -> THỂ CHẤT | G48: =tkbieu!I62 -> 0 | H48: =tkbieu!I76 -> 0 | I48: =tkbieu!I90 -> 0
B49: 8 | C49: 14h45-15h30 | D49: =tkbieu!I21 -> 0 | E49: =tkbieu!I35 -> 0 | F49: =tkbieu!I49 -> HỌC GHÉP | G49: =tkbieu!I63 -> 0 | H49: =tkbieu!I77 -> 0 | I49: =tkbieu!I91 -> 0
B50: 9 | C50: 15h30-16h15 | D50: =tkbieu!I22 -> 0 | E50: =tkbieu!I36 -> 0 | F50: =tkbieu!I50 -> S. TRƯỜNG | G50: =tkbieu!I64 -> 0 | H50: =tkbieu!I78 -> 0 | I50: =tkbieu!I92 -> 0
B51: 10 | C51: 16h15-17h00(LT) 16h15-17h15(TH) | D51: =tkbieu!I23 -> 0 | E51: =tkbieu!I37 -> 0 | F51: =tkbieu!I51 -> T. THANH | G51: =tkbieu!I65 -> 0 | H51: =tkbieu!I79 -> 0 | I51: =tkbieu!I93 -> 0
...

Sheet KĐLẠNH
A1: THỜI KHÓA BIỂU KHOA ĐIỆN VÀ ĐIỆN LẠNH
A3: =K3 -> ÁP DỤNG TỪ NGÀY 12/10 ĐẾN 30/10/2026 | K3: ='KCK-OTO'!A3 -> ÁP DỤNG TỪ NGÀY 12/10 ĐẾN 30/10/2026
A5: LỚP: | C5: =tkbieu!J10 -> T26KTML1 | E5: GVCN: | F5: =tkbieu!J9 -> 0 | H5: ĐT: | K5: LỚP: | M5: =tkbieu!K10 -> C26KTML1 | O5: GVCN: | P5: =tkbieu!K9 -> 0 | R5: ĐT:
A6: Buổi | B6: Tiết | C6: Giờ dạy | D6: THỨ HAI | E6: THỨ BA | F6: THỨ TƯ | G6: THỨ NĂM | H6: THỨ SÁU | I6: THỨ BẢY | K6: Buổi | L6: Tiết | M6: Giờ dạy | N6: THỨ HAI | O6: THỨ BA | P6: THỨ TƯ | Q6: THỨ NĂM | R6: THỨ SÁU | S6: THỨ BẢY
A7: SÁNG | B7: 1 | C7: 7h00-7h45 | D7: =tkbieu!J12 -> KỸ NĂNG | E7: =tkbieu!J26 -> THỰC TẬP | F7: =tkbieu!J40 -> TIẾNG ANH 1 | G7: =tkbieu!J54 -> VẼ | H7: =tkbieu!J68 -> THỰC TẬP | I7: =tkbieu!J82 -> KT ĐIỆN - | K7: SÁNG | L7: 1 | M7: 7h00-7h45 | N7: =tkbieu!K12 -> 0 | O7: =tkbieu!K26 -> KT AN TOÀN & | P7: =tkbieu!K40 -> GIÁO DỤC | Q7: =tkbieu!K54 -> 0 | R7: =tkbieu!K68 -> 0 | S7: =tkbieu!K82 -> 0
B8: 2 | C8: 7h45-8h30 | D8: =tkbieu!J13 -> THIẾT YẾU | E8: =tkbieu!J27 -> GÒ HÀN | F8: =tkbieu!J41 -> 0 | G8: =tkbieu!J55 -> KỸ THUẬT | H8: =tkbieu!J69 -> GÒ HÀN | I8: =tkbieu!J83 -> ĐIỆN TỬ | L8: 2 | M8: 7h45-8h30 | N8: =tkbieu!K13 -> 0 | O8: =tkbieu!K27 -> BẢO HỘ LĐ | P8: =tkbieu!K41 -> THỂ CHẤT | Q8: =tkbieu!K55 -> 0 | R8: =tkbieu!K69 -> 0 | S8: =tkbieu!K83 -> 0
B9: 3 | C9: 9h00-9h45 | D9: =tkbieu!J14 -> HỌC GHÉP AD TỪ 28/9 | E9: =tkbieu!J28 -> 0 | F9: =tkbieu!J42 -> HỌC GHÉP | G9: =tkbieu!J56 -> 0 | H9: =tkbieu!J70 -> 0 | I9: =tkbieu!J84 -> 0 | L9: 3 | M9: 9h00-9h45 | N9: =tkbieu!K14 -> 0 | O9: =tkbieu!K28 -> 0 | P9: =tkbieu!K42 -> HỌC GHÉP | Q9: =tkbieu!K56 -> 0 | R9: =tkbieu!K70 -> 0 | S9: =tkbieu!K84 -> 0
B10: 4 | C10: 9h45-10h30 | D10: =tkbieu!J15 -> A208 | E10: =tkbieu!J29 -> B005 | F10: =tkbieu!J43 -> A208 | G10: =tkbieu!J57 -> A209 | H10: =tkbieu!J71 -> B005 | I10: =tkbieu!J85 -> A208 | L10: 4 | M10: 9h45-10h30 | N10: =tkbieu!K15 -> 0 | O10: =tkbieu!K29 -> A208 | P10: =tkbieu!K43 -> S. TRƯỜNG | Q10: =tkbieu!K57 -> 0 | R10: =tkbieu!K71 -> 0 | S10: =tkbieu!K85 -> 0
B11: 5 | C11: 10h30-11h15(LT) 10h30-11h30(TH) | D11: =tkbieu!J16 -> C. LINH | E11: =tkbieu!J30 -> T. TRƯƠNG | F11: =tkbieu!J44 -> T. C. HOÀNG | G11: =tkbieu!J58 -> T. C. SƠN | H11: =tkbieu!J72 -> T. TRƯƠNG | I11: =tkbieu!J86 -> C. THẢO | L11: 5 | M11: 10h30-11h15(LT) 10h30-11h30(TH) | N11: =tkbieu!K16 -> 0 | O11: =tkbieu!K30 -> T. CHƯƠNG | P11: =tkbieu!K44 -> T. THANH | Q11: =tkbieu!K58 -> 0 | R11: =tkbieu!K72 -> 0 | S11: =tkbieu!K86 -> 0
A13: CHIỀU | B13: 6 | C13: 12h45-13h30 | D13: =tkbieu!J19 -> HỌC VHPT | E13: =tkbieu!J33 -> HỌC VHPT | F13: =tkbieu!J47 -> HỌC VHPT | G13: =tkbieu!J61 -> HỌC VHPT | H13: =tkbieu!J75 -> HỌC VHPT | I13: =tkbieu!J89 -> CSKT NHIỆT LẠNH | K13: CHIỀU | L13: 6 | M13: 12h45-13h30 | N13: =tkbieu!K19 -> GIÁO DỤC | O13: =tkbieu!K33 -> CSKT NHIỆT LẠNH | P13: =tkbieu!K47 -> TIẾNG ANH 1 | Q13: =tkbieu!K61 -> VẼ | R13: =tkbieu!K75 -> 0 | S13: =tkbieu!K89 -> 0
B14: 7 | C14: 13h30-14h15 | D14: =tkbieu!J20 -> THEO TKB | E14: =tkbieu!J34 -> THEO TKB | F14: =tkbieu!J48 -> THEO TKB | G14: =tkbieu!J62 -> THEO TKB | H14: =tkbieu!J76 -> THEO TKB | I14: =tkbieu!J90 -> VÀ ĐHKK | L14: 7 | M14: 13h30-14h15 | N14: =tkbieu!K20 -> CHÍNH TRỊ | O14: =tkbieu!K34 -> VÀ ĐHKK | P14: =tkbieu!K48 -> 0 | Q14: =tkbieu!K62 -> KỸ THUẬT | R14: =tkbieu!K76 -> 0 | S14: =tkbieu!K90 -> 0
B15: 8 | C15: 14h45-15h30 | D15: =tkbieu!J21 -> TTGDTX | E15: =tkbieu!J35 -> TTGDTX | F15: =tkbieu!J49 -> TTGDTX | G15: =tkbieu!J63 -> TTGDTX | H15: =tkbieu!J77 -> TTGDTX | I15: =tkbieu!J91 -> 0 | L15: 8 | M15: 14h45-15h30 | N15: =tkbieu!K21 -> HỌC GHÉP | O15: =tkbieu!K35 -> 0 | P15: =tkbieu!K49 -> HỌC GHÉP | Q15: =tkbieu!K63 -> 0 | R15: =tkbieu!K77 -> 0 | S15: =tkbieu!K91 -> 0
B16: 9 | C16: 15h30-16h15 | D16: =tkbieu!J22 -> 0 | E16: =tkbieu!J36 -> 0 | F16: =tkbieu!J50 -> 0 | G16: =tkbieu!J64 -> 0 | H16: =tkbieu!J78 -> 0 | I16: =tkbieu!J92 -> B105 | L16: 9 | M16: 15h30-16h15 | N16: =tkbieu!K22 -> A210 | O16: =tkbieu!K36 -> A104 | P16: =tkbieu!K50 -> A207 | Q16: =tkbieu!K64 -> A004 | R16: =tkbieu!K78 -> 0 | S16: =tkbieu!K92 -> 0
B17: 10 | C17: 16h15-17h00(LT) 16h15-17h15(TH) | D17: =tkbieu!J23 -> 0 | E17: =tkbieu!J37 -> 0 | F17: =tkbieu!J51 -> 0 | G17: =tkbieu!J65 -> 0 | H17: =tkbieu!J79 -> 0 | I17: =tkbieu!J93 -> T. A. HẢI | L17: 10 | M17: 16h15-17h00(LT) 16h15-17h15(TH) | N17: =tkbieu!K23 -> C. MI | O17: =tkbieu!K37 -> T. THOẠI | P17: =tkbieu!K51 -> T. QUÂN | Q17: =tkbieu!K65 -> T. C. SƠN | R17: =tkbieu!K79 -> 0 | S17: =tkbieu!K93 -> 0
A20: =K3 -> ÁP DỤNG TỪ NGÀY 12/10 ĐẾN 30/10/2026 | K20: =A20 -> ÁP DỤNG TỪ NGÀY 12/10 ĐẾN 30/10/2026
A22: LỚP: | C22: =tkbieu!L10 -> T26DC1 | E22: GVCN: | F22: =tkbieu!L9 -> 0 | H22: ĐT: | K22: LỚP: | M22: =tkbieu!M10 -> C26DC1 | O22: GVCN: | P22: =tkbieu!M9 -> 0 | R22: ĐT:
A23: Buổi | B23: Tiết | C23: Giờ dạy | D23: THỨ HAI | E23: THỨ BA | F23: THỨ TƯ | G23: THỨ NĂM | H23: THỨ SÁU | I23: THỨ BẢY | K23: Buổi | L23: Tiết | M23: Giờ dạy | N23: THỨ HAI | O23: THỨ BA | P23: THỨ TƯ | Q23: THỨ NĂM | R23: THỨ SÁU | S23: THỨ BẢY
A24: SÁNG | B24: 1 | C24: 7h00-7h45 | D24: =tkbieu!L12 -> KỸ NĂNG | E24: =tkbieu!L26 -> 0 | F24: =tkbieu!L40 -> TIẾNG ANH 1 | G24: =tkbieu!L54 -> 0 | H24: =tkbieu!L68 -> 0 | I24: =tkbieu!L82 -> 0 | K24: SÁNG | L24: 1 | M24: 7h00-7h45 | N24: =tkbieu!M12 -> GIÁO DỤC | O24: =tkbieu!M26 -> 0 | P24: =tkbieu!M40 -> TIẾNG ANH 1 | Q24: =tkbieu!M54 -> 0 | R24: =tkbieu!M68 -> 0 | S24: =tkbieu!M82 -> 0
B25: 2 | C25: 7h45-8h30 | D25: =tkbieu!L13 -> THIẾT YẾU | E25: =tkbieu!L27 -> 0 | F25: =tkbieu!L41 -> 0 | G25: =tkbieu!L55 -> 0 | H25: =tkbieu!L69 -> 0 | I25: =tkbieu!L83 -> 0 | L25: 2 | M25: 7h45-8h30 | N25: =tkbieu!M13 -> CHÍNH TRỊ | O25: =tkbieu!M27 -> 0 | P25: =tkbieu!M41 -> 0 | Q25: =tkbieu!M55 -> 0 | R25: =tkbieu!M69 -> 0 | S25: =tkbieu!M83 -> 0
B26: 3 | C26: 9h00-9h45 | D26: =tkbieu!L14 -> HỌC GHÉP AD TỪ 28/9 | E26: =tkbieu!L28 -> 0 | F26: =tkbieu!L42 -> HỌC GHÉP | G26: =tkbieu!L56 -> 0 | H26: =tkbieu!L70 -> 0 | I26: =tkbieu!L84 -> 0 | L26: 3 | M26: 9h00-9h45 | N26: =tkbieu!M14 -> HỌC GHÉP | O26: =tkbieu!M28 -> 0 | P26: =tkbieu!M42 -> HỌC GHÉP | Q26: =tkbieu!M56 -> 0 | R26: =tkbieu!M70 -> 0 | S26: =tkbieu!M84 -> 0
B27: 4 | C27: 9h45-10h30 | D27: =tkbieu!L15 -> A208 | E27: =tkbieu!L29 -> 0 | F27: =tkbieu!L43 -> A208 | G27: =tkbieu!L57 -> 0 | H27: =tkbieu!L71 -> 0 | I27: =tkbieu!L85 -> 0 | L27: 4 | M27: 9h45-10h30 | N27: =tkbieu!M15 -> A207 | O27: =tkbieu!M29 -> 0 | P27: =tkbieu!M43 -> A207 | Q27: =tkbieu!M57 -> 0 | R27: =tkbieu!M71 -> 0 | S27: =tkbieu!M85 -> 0
B28: 5 | C28: 10h30-11h15(LT) 10h30-11h30(TH) | D28: =tkbieu!L16 -> C. LINH | E28: =tkbieu!L30 -> 0 | F28: =tkbieu!L44 -> T. C. HOÀNG | G28: =tkbieu!L58 -> 0 | H28: =tkbieu!L72 -> 0 | I28: =tkbieu!L86 -> 0 | L28: 5 | M28: 10h30-11h15(LT) 10h30-11h30(TH) | N28: =tkbieu!M16 -> C. NGUYÊN | O28: =tkbieu!M30 -> 0 | P28: =tkbieu!M44 -> T. QUÂN | Q28: =tkbieu!M58 -> 0 | R28: =tkbieu!M72 -> 0 | S28: =tkbieu!M86 -> 0
A30: CHIỀU | B30: 6 | C30: 12h45-13h30 | D30: =tkbieu!L19 -> HỌC VHPT | E30: =tkbieu!L33 -> HỌC VHPT | F30: =tkbieu!L47 -> HỌC VHPT | G30: =tkbieu!L61 -> HỌC VHPT | H30: =tkbieu!L75 -> HỌC VHPT | I30: =tkbieu!L89 -> 0 | K30: CHIỀU | L30: 6 | M30: 12h45-13h30 | N30: =tkbieu!M19 -> 0 | O30: =tkbieu!M33 -> 0 | P30: =tkbieu!M47 -> GIÁO DỤC | Q30: =tkbieu!M61 -> 0 | R30: =tkbieu!M75 -> 0 | S30: =tkbieu!M89 -> 0
B31: 7 | C31: 13h30-14h15 | D31: =tkbieu!L20 -> THEO TKB | E31: =tkbieu!L34 -> THEO TKB | F31: =tkbieu!L48 -> THEO TKB | G31: =tkbieu!L62 -> THEO TKB | H31: =tkbieu!L76 -> THEO TKB | I31: =tkbieu!L90 -> 0 | L31: 7 | M31: 13h30-14h15 | N31: =tkbieu!M20 -> 0 | O31: =tkbieu!M34 -> 0 | P31: =tkbieu!M48 -> THỂ CHẤT | Q31: =tkbieu!M62 -> 0 | R31: =tkbieu!M76 -> 0 | S31: =tkbieu!M90 -> 0
B32: 8 | C32: 14h45-15h30 | D32: =tkbieu!L21 -> TTGDTX | E32: =tkbieu!L35 -> TTGDTX | F32: =tkbieu!L49 -> TTGDTX | G32: =tkbieu!L63 -> TTGDTX | H32: =tkbieu!L77 -> TTGDTX | I32: =tkbieu!L91 -> 0 | L32: 8 | M32: 14h45-15h30 | N32: =tkbieu!M21 -> 0 | O32: =tkbieu!M35 -> 0 | P32: =tkbieu!M49 -> HỌC GHÉP | Q32: =tkbieu!M63 -> 0 | R32: =tkbieu!M77 -> 0 | S32: =tkbieu!M91 -> 0
B33: 9 | C33: 15h30-16h15 | D33: =tkbieu!L22 -> 0 | E33: =tkbieu!L36 -> 0 | F33: =tkbieu!L50 -> 0 | G33: =tkbieu!L64 -> 0 | H33: =tkbieu!L78 -> 0 | I33: =tkbieu!L92 -> 0 | L33: 9 | M33: 15h30-16h15 | N33: =tkbieu!M22 -> 0 | O33: =tkbieu!M36 -> 0 | P33: =tkbieu!M50 -> S. TRƯỜNG | Q33: =tkbieu!M64 -> 0 | R33: =tkbieu!M78 -> 0 | S33: =tkbieu!M92 -> 0
B34: 10 | C34: 16h15-17h00(LT) 16h15-17h15(TH) | D34: =tkbieu!L23 -> 0 | E34: =tkbieu!L37 -> 0 | F34: =tkbieu!L51 -> 0 | G34: =tkbieu!L65 -> 0 | H34: =tkbieu!L79 -> 0 | I34: =tkbieu!L93 -> 0 | L34: 10 | M34: 16h15-17h00(LT) 16h15-17h15(TH) | N34: =tkbieu!M23 -> 0 | O34: =tkbieu!M37 -> 0 | P34: =tkbieu!M51 -> T. THANH | Q34: =tkbieu!M65 -> 0 | R34: =tkbieu!M79 -> 0 | S34: =tkbieu!M93 -> 0
A37: =A20 -> ÁP DỤNG TỪ NGÀY 12/10 ĐẾN 30/10/2026
A39: LỚP: | C39: =tkbieu!N10 -> 0 | E39: GVCN: | F39: =tkbieu!N9 -> 0 | H39: ĐT: | I39: 093 887 8642
A40: Buổi | B40: Tiết | C40: Giờ dạy | D40: THỨ HAI | E40: THỨ BA | F40: THỨ TƯ | G40: THỨ NĂM | H40: THỨ SÁU | I40: THỨ BẢY
A41: SÁNG | B41: 1 | C41: 7h00-7h45 | D41: =tkbieu!N12 -> 0 | E41: =tkbieu!N26 -> 0 | F41: =tkbieu!N40 -> 0 | G41: =tkbieu!N54 -> 0 | H41: =tkbieu!N68 -> 0 | I41: =tkbieu!N82 -> 0
B42: 2 | C42: 7h45-8h30 | D42: =tkbieu!N13 -> 0 | E42: =tkbieu!N27 -> 0 | F42: =tkbieu!N41 -> 0 | G42: =tkbieu!N55 -> 0 | H42: =tkbieu!N69 -> 0 | I42: =tkbieu!N83 -> 0
B43: 3 | C43: 9h00-9h45 | D43: =tkbieu!N14 -> 0 | E43: =tkbieu!N28 -> 0 | F43: =tkbieu!N42 -> 0 | G43: =tkbieu!N56 -> 0 | H43: =tkbieu!N70 -> 0 | I43: =tkbieu!N84 -> 0
B44: 4 | C44: 9h45-10h30 | D44: =tkbieu!N15 -> 0 | E44: =tkbieu!N29 -> 0 | F44: =tkbieu!N43 -> 0 | G44: =tkbieu!N57 -> 0 | H44: =tkbieu!N71 -> 0 | I44: =tkbieu!N85 -> 0
B45: 5 | C45: 10h30-11h15(LT) 10h30-11h30(TH) | D45: =tkbieu!N16 -> 0 | E45: =tkbieu!N30 -> 0 | F45: =tkbieu!N44 -> 0 | G45: =tkbieu!N58 -> 0 | H45: =tkbieu!N72 -> 0 | I45: =tkbieu!N86 -> 0
A47: CHIỀU | B47: 6 | C47: 12h45-13h30 | D47: =tkbieu!N19 -> 0 | E47: =tkbieu!N33 -> 0 | F47: =tkbieu!N47 -> 0 | G47: =tkbieu!N61 -> 0 | H47: =tkbieu!N75 -> 0 | I47: =tkbieu!N89 -> 0
B48: 7 | C48: 13h30-14h15 | D48: =tkbieu!N20 -> 0 | E48: =tkbieu!N34 -> 0 | F48: =tkbieu!N48 -> 0 | G48: =tkbieu!N62 -> 0 | H48: =tkbieu!N76 -> 0 | I48: =tkbieu!N90 -> 0
B49: 8 | C49: 14h45-15h30 | D49: =tkbieu!N21 -> 0 | E49: =tkbieu!N35 -> 0 | F49: =tkbieu!N49 -> 0 | G49: =tkbieu!N63 -> 0 | H49: =tkbieu!N77 -> 0 | I49: =tkbieu!N91 -> 0
B50: 9 | C50: 15h30-16h15 | D50: =tkbieu!N22 -> 0 | E50: =tkbieu!N36 -> 0 | F50: =tkbieu!N50 -> 0 | G50: =tkbieu!N64 -> 0 | H50: =tkbieu!N78 -> 0 | I50: =tkbieu!N92 -> 0
B51: 10 | C51: 16h15-17h00(LT) 16h15-17h15(TH) | D51: =tkbieu!N23 -> 0 | E51: =tkbieu!N37 -> 0 | F51: =tkbieu!N51 -> 0 | G51: =tkbieu!N65 -> 0 | H51: =tkbieu!N79 -> 0 | I51: =tkbieu!N93 -> 0
...

Sheet KKT
A1: THỜI KHÓA BIỂU KHOA KINH TẾ
A3: =K3 -> ÁP DỤNG TỪ NGÀY 12/10 ĐẾN 30/10/2026 | K3: =KĐLẠNH!K3 -> ÁP DỤNG TỪ NGÀY 12/10 ĐẾN 30/10/2026
A5: LỚP: | C5: =tkbieu!O10 -> T26KT1 | E5: GVCN: | F5: =tkbieu!O9 -> 0 | H5: ĐT: | K5: LỚP: | M5: =tkbieu!P10 -> C26QTDN1 | O5: GVCN: | P5: =tkbieu!P9 -> 0 | R5: ĐT:
A6: Buổi | B6: Tiết | C6: Giờ dạy | D6: THỨ HAI | E6: THỨ BA | F6: THỨ TƯ | G6: THỨ NĂM | H6: THỨ SÁU | I6: THỨ BẢY | K6: Buổi | L6: Tiết | M6: Giờ dạy | N6: THỨ HAI | O6: THỨ BA | P6: THỨ TƯ | Q6: THỨ NĂM | R6: THỨ SÁU | S6: THỨ BẢY
A7: SÁNG | B7: 1 | C7: 7h00-7h45 | D7: =tkbieu!O12 -> KỸ NĂNG | E7: =tkbieu!O26 -> NGUYÊN LÝ | F7: =tkbieu!O40 -> TIẾNG ANH 1 | G7: =tkbieu!O54 -> MARKETING | H7: =tkbieu!O68 -> NGUYÊN LÝ | I7: =tkbieu!O82 -> 0 | K7: SÁNG | L7: 1 | M7: 7h00-7h45 | N7: =tkbieu!P12 -> GIÁO DỤC | O7: =tkbieu!P26 -> 0 | P7: =tkbieu!P40 -> TIẾNG ANH 1 | Q7: =tkbieu!P54 -> 0 | R7: =tkbieu!P68 -> 0 | S7: =tkbieu!P82 -> 0
B8: 2 | C8: 7h45-8h30 | D8: =tkbieu!O13 -> THIẾT YẾU | E8: =tkbieu!O27 -> THỐNG KÊ | F8: =tkbieu!O41 -> 0 | G8: =tkbieu!O55 -> CĂN BẢN | H8: =tkbieu!O69 -> KẾT TOÁN | I8: =tkbieu!O83 -> 0 | L8: 2 | M8: 7h45-8h30 | N8: =tkbieu!P13 -> CHÍNH TRỊ | O8: =tkbieu!P27 -> 0 | P8: =tkbieu!P41 -> 0 | Q8: =tkbieu!P55 -> 0 | R8: =tkbieu!P69 -> 0 | S8: =tkbieu!P83 -> 0
B9: 3 | C9: 9h00-9h45 | D9: =tkbieu!O14 -> HỌC GHÉP AD TỪ 28/9 | E9: =tkbieu!O28 -> 0 | F9: =tkbieu!O42 -> HỌC GHÉP | G9: =tkbieu!O56 -> 0 | H9: =tkbieu!O70 -> 0 | I9: =tkbieu!O84 -> 0 | L9: 3 | M9: 9h00-9h45 | N9: =tkbieu!P14 -> HỌC GHÉP | O9: =tkbieu!P28 -> 0 | P9: =tkbieu!P42 -> HỌC GHÉP | Q9: =tkbieu!P56 -> 0 | R9: =tkbieu!P70 -> 0 | S9: =tkbieu!P84 -> 0
B10: 4 | C10: 9h45-10h30 | D10: =tkbieu!O15 -> A208 | E10: =tkbieu!O29 -> A207 | F10: =tkbieu!O43 -> A208 | G10: =tkbieu!O57 -> A208 | H10: =tkbieu!O71 -> A209 | I10: =tkbieu!O85 -> 0 | L10: 4 | M10: 9h45-10h30 | N10: =tkbieu!P15 -> A207 | O10: =tkbieu!P29 -> 0 | P10: =tkbieu!P43 -> A207 | Q10: =tkbieu!P57 -> 0 | R10: =tkbieu!P71 -> 0 | S10: =tkbieu!P85 -> 0
B11: 5 | C11: 10h30-11h15(LT) 10h30-11h30(TH) | D11: =tkbieu!O16 -> C. LINH | E11: =tkbieu!O30 -> C. L. PHƯƠNG | F11: =tkbieu!O44 -> T. C. HOÀNG | G11: =tkbieu!O58 -> C. NGUYỆT | H11: =tkbieu!O72 -> C. T. TRANG | I11: =tkbieu!O86 -> 0 | L11: 5 | M11: 10h30-11h15(LT) 10h30-11h30(TH) | N11: =tkbieu!P16 -> C. NGUYÊN | O11: =tkbieu!P30 -> 0 | P11: =tkbieu!P44 -> T. QUÂN | Q11: =tkbieu!P58 -> 0 | R11: =tkbieu!P72 -> 0 | S11: =tkbieu!P86 -> 0
A13: CHIỀU | B13: 6 | C13: 12h45-13h30 | D13: =tkbieu!O19 -> HỌC VHPT | E13: =tkbieu!O33 -> HỌC VHPT | F13: =tkbieu!O47 -> HỌC VHPT | G13: =tkbieu!O61 -> HỌC VHPT | H13: =tkbieu!O75 -> HỌC VHPT | I13: =tkbieu!O89 -> 0 | K13: CHIỀU | L13: 6 | M13: 12h45-13h30 | N13: =tkbieu!P19 -> 0 | O13: =tkbieu!P33 -> 0 | P13: =tkbieu!P47 -> GIÁO DỤC | Q13: =tkbieu!P61 -> 0 | R13: =tkbieu!P75 -> 0 | S13: =tkbieu!P89 -> 0
B14: 7 | C14: 13h30-14h15 | D14: =tkbieu!O20 -> THEO TKB | E14: =tkbieu!O34 -> THEO TKB | F14: =tkbieu!O48 -> THEO TKB | G14: =tkbieu!O62 -> THEO TKB | H14: =tkbieu!O76 -> THEO TKB | I14: =tkbieu!O90 -> 0 | L14: 7 | M14: 13h30-14h15 | N14: =tkbieu!P20 -> 0 | O14: =tkbieu!P34 -> 0 | P14: =tkbieu!P48 -> THỂ CHẤT | Q14: =tkbieu!P62 -> 0 | R14: =tkbieu!P76 -> 0 | S14: =tkbieu!P90 -> 0
B15: 8 | C15: 14h45-15h30 | D15: =tkbieu!O21 -> TTGDTX | E15: =tkbieu!O35 -> TTGDTX | F15: =tkbieu!O49 -> TTGDTX | G15: =tkbieu!O63 -> TTGDTX | H15: =tkbieu!O77 -> TTGDTX | I15: =tkbieu!O91 -> 0 | L15: 8 | M15: 14h45-15h30 | N15: =tkbieu!P21 -> 0 | O15: =tkbieu!P35 -> 0 | P15: =tkbieu!P49 -> HỌC GHÉP | Q15: =tkbieu!P63 -> 0 | R15: =tkbieu!P77 -> 0 | S15: =tkbieu!P91 -> 0
B16: 9 | C16: 15h30-16h15 | D16: =tkbieu!O22 -> 0 | E16: =tkbieu!O36 -> 0 | F16: =tkbieu!O50 -> 0 | G16: =tkbieu!O64 -> 0 | H16: =tkbieu!O78 -> 0 | I16: =tkbieu!O92 -> 0 | L16: 9 | M16: 15h30-16h15 | N16: =tkbieu!P22 -> 0 | O16: =tkbieu!P36 -> 0 | P16: =tkbieu!P50 -> S. TRƯỜNG | Q16: =tkbieu!P64 -> 0 | R16: =tkbieu!P78 -> 0 | S16: =tkbieu!P92 -> 0
B17: 10 | C17: 16h15-17h00(LT) 16h15-17h15(TH) | D17: =tkbieu!O23 -> 0 | E17: =tkbieu!O37 -> 0 | F17: =tkbieu!O51 -> 0 | G17: =tkbieu!O65 -> 0 | H17: =tkbieu!O79 -> 0 | I17: =tkbieu!O93 -> 0 | L17: 10 | M17: 16h15-17h00(LT) 16h15-17h15(TH) | N17: =tkbieu!P23 -> 0 | O17: =tkbieu!P37 -> 0 | P17: =tkbieu!P51 -> T. THANH | Q17: =tkbieu!P65 -> 0 | R17: =tkbieu!P79 -> 0 | S17: =tkbieu!P93 -> 0
A20: =K3 -> ÁP DỤNG TỪ NGÀY 12/10 ĐẾN 30/10/2026
A22: LỚP: | C22: =tkbieu!Q10 -> C26KT1 | E22: GVCN: | F22: =tkbieu!Q9 -> 0 | H22: ĐT:
A23: Buổi | B23: Tiết | C23: Giờ dạy | D23: THỨ HAI | E23: THỨ BA | F23: THỨ TƯ | G23: THỨ NĂM | H23: THỨ SÁU | I23: THỨ BẢY
A24: SÁNG | B24: 1 | C24: 7h00-7h45 | D24: =tkbieu!Q12 -> GIÁO DỤC | E24: =tkbieu!Q26 -> 0 | F24: =tkbieu!Q40 -> TIẾNG ANH 1 | G24: =tkbieu!Q54 -> 0 | H24: =tkbieu!Q68 -> 0 | I24: =tkbieu!Q82 -> 0
B25: 2 | C25: 7h45-8h30 | D25: =tkbieu!Q13 -> CHÍNH TRỊ | E25: =tkbieu!Q27 -> 0 | F25: =tkbieu!Q41 -> 0 | G25: =tkbieu!Q55 -> 0 | H25: =tkbieu!Q69 -> 0 | I25: =tkbieu!Q83 -> 0
B26: 3 | C26: 9h00-9h45 | D26: =tkbieu!Q14 -> HỌC GHÉP | E26: =tkbieu!Q28 -> 0 | F26: =tkbieu!Q42 -> HỌC GHÉP | G26: =tkbieu!Q56 -> 0 | H26: =tkbieu!Q70 -> 0 | I26: =tkbieu!Q84 -> 0
B27: 4 | C27: 9h45-10h30 | D27: =tkbieu!Q15 -> A207 | E27: =tkbieu!Q29 -> 0 | F27: =tkbieu!Q43 -> A207 | G27: =tkbieu!Q57 -> 0 | H27: =tkbieu!Q71 -> 0 | I27: =tkbieu!Q85 -> 0
B28: 5 | C28: 10h30-11h15(LT) 10h30-11h30(TH) | D28: =tkbieu!Q16 -> C. NGUYÊN | E28: =tkbieu!Q30 -> 0 | F28: =tkbieu!Q44 -> T. QUÂN | G28: =tkbieu!Q58 -> 0 | H28: =tkbieu!Q72 -> 0 | I28: =tkbieu!Q86 -> 0
A30: CHIỀU | B30: 6 | C30: 12h45-13h30 | D30: =tkbieu!Q19 -> 0 | E30: =tkbieu!Q33 -> 0 | F30: =tkbieu!Q47 -> GIÁO DỤC | G30: =tkbieu!Q61 -> 0 | H30: =tkbieu!Q75 -> 0 | I30: =tkbieu!Q89 -> 0
B31: 7 | C31: 13h30-14h15 | D31: =tkbieu!Q20 -> 0 | E31: =tkbieu!Q34 -> 0 | F31: =tkbieu!Q48 -> THỂ CHẤT | G31: =tkbieu!Q62 -> 0 | H31: =tkbieu!Q76 -> 0 | I31: =tkbieu!Q90 -> 0
B32: 8 | C32: 14h45-15h30 | D32: =tkbieu!Q21 -> 0 | E32: =tkbieu!Q35 -> 0 | F32: =tkbieu!Q49 -> HỌC GHÉP | G32: =tkbieu!Q63 -> 0 | H32: =tkbieu!Q77 -> 0 | I32: =tkbieu!Q91 -> 0
B33: 9 | C33: 15h30-16h15 | D33: =tkbieu!Q22 -> 0 | E33: =tkbieu!Q36 -> 0 | F33: =tkbieu!Q50 -> S. TRƯỜNG | G33: =tkbieu!Q64 -> 0 | H33: =tkbieu!Q78 -> 0 | I33: =tkbieu!Q92 -> 0
B34: 10 | C34: 16h15-17h00(LT) 16h15-17h15(TH) | D34: =tkbieu!Q23 -> 0 | E34: =tkbieu!Q37 -> 0 | F34: =tkbieu!Q51 -> T. THANH | G34: =tkbieu!Q65 -> 0 | H34: =tkbieu!Q79 -> 0 | I34: =tkbieu!Q93 -> 0
A37: Lưu ý:
A38: Thời gian học: Một giờ dạy thực hành/tích hợp là 60 phút, Một giờ dạy lý thuyết/trực tuyến là 45 phút
B39: Ca sáng: Giờ lý thuyết: Từ 7h00(T1) – 8h30 - ra chơi - 9h00 – 11h15(T5), Giờ thực hành: Từ 7h00(T1) – 8h30 - ra chơi - 9h00 – 11h30 (T4)
B40: Ca chiều: Giờ lý thuyết: Từ 12h45 (T6) – 14h15 - ra chơi - 14h45 – 17h00 (T10), Giờ thực hành: Từ 12h45 (T5) – 14h15 - ra chơi - 14h45 – 17h15 (T8)
B41: Ca tối: Từ 17h45 – 19h15 - ra chơi - 19h30 – 21h00

Sheet KCNTT
A1: THỜI KHÓA BIỂU KHOA CÔNG NGHỆ THÔNG TIN
A3: =KKT!K3 -> ÁP DỤNG TỪ NGÀY 12/10 ĐẾN 30/10/2026 | L3: =A3 -> ÁP DỤNG TỪ NGÀY 12/10 ĐẾN 30/10/2026
A5: LỚP: | C5: =tkbieu!T10 -> T26MT1 | E5: GVCN: | F5: =tkbieu!T9 -> 0 | H5: ĐT: | L5: LỚP: | N5: =tkbieu!U10 -> T26UDPM1 | P5: GVCN: | Q5: =tkbieu!U9 -> 0 | S5: ĐT:
A6: Buổi | B6: Tiết | C6: Giờ dạy | D6: THỨ HAI | E6: THỨ BA | F6: THỨ TƯ | G6: THỨ NĂM | H6: THỨ SÁU | I6: THỨ BẢY | L6: Buổi | M6: Tiết | N6: Giờ dạy | O6: THỨ HAI | P6: THỨ BA | Q6: THỨ TƯ | R6: THỨ NĂM | S6: THỨ SÁU | T6: THỨ BẢY
A7: SÁNG | B7: 1 | C7: 7h00-7h45 | D7: =tkbieu!T12 -> TIẾNG ANH 1 | E7: =tkbieu!T26 -> 0 | F7: =tkbieu!T40 -> KỸ NĂNG | G7: =tkbieu!T54 -> 0 | H7: =tkbieu!T68 -> 0 | I7: =tkbieu!T82 -> 0 | L7: SÁNG | M7: 1 | N7: 7h00-7h45 | O7: =tkbieu!U12 -> TIẾNG ANH 1 | P7: =tkbieu!U26 -> TIN HỌC | Q7: =tkbieu!U40 -> KỸ NĂNG | R7: =tkbieu!U54 -> KỸ THUẬT | S7: =tkbieu!U68 -> XỬ LÝ ẢNH | T7: =tkbieu!U82 -> THIẾT KẾ
B8: 2 | C8: 7h45-8h30 | D8: =tkbieu!T13 -> 0 | E8: =tkbieu!T27 -> 0 | F8: =tkbieu!T41 -> THIẾT YẾU | G8: =tkbieu!T55 -> 0 | H8: =tkbieu!T69 -> 0 | I8: =tkbieu!T83 -> 0 | M8: 2 | N8: 7h45-8h30 | O8: =tkbieu!U13 -> 0 | P8: =tkbieu!U27 -> 0 | Q8: =tkbieu!U41 -> THIẾT YẾU | R8: =tkbieu!U55 -> LẬP TRÌNH | S8: =tkbieu!U69 -> VỚI PHOTOSHOP | T8: =tkbieu!U83 -> WEB
B9: 3 | C9: 9h00-9h45 | D9: =tkbieu!T14 -> HỌC GHÉP | E9: =tkbieu!T28 -> 0 | F9: =tkbieu!T42 -> HỌC GHÉP AD TỪ 05/10 | G9: =tkbieu!T56 -> 0 | H9: =tkbieu!T70 -> 0 | I9: =tkbieu!T84 -> 0 | M9: 3 | N9: 9h00-9h45 | O9: =tkbieu!U14 -> HỌC GHÉP | P9: =tkbieu!U28 -> 0 | Q9: =tkbieu!U42 -> HỌC GHÉP AD TỪ 05/10 | R9: =tkbieu!U56 -> 0 | S9: =tkbieu!U70 -> 0 | T9: =tkbieu!U84 -> 0
B10: 4 | C10: 9h45-10h30 | D10: =tkbieu!T15 -> A210 | E10: =tkbieu!T29 -> 0 | F10: =tkbieu!T43 -> A210 | G10: =tkbieu!T57 -> 0 | H10: =tkbieu!T71 -> 0 | I10: =tkbieu!T85 -> 0 | M10: 4 | N10: 9h45-10h30 | O10: =tkbieu!U15 -> A210 | P10: =tkbieu!U29 -> A101 (PM4) | Q10: =tkbieu!U43 -> A210 | R10: =tkbieu!U57 -> A101 (PM4) | S10: =tkbieu!U71 -> A103 (PM6) | T10: =tkbieu!U85 -> A102-1 (PM5.1)
B11: 5 | C11: 10h30-11h15(LT) 10h30-11h30(TH) | D11: =tkbieu!T16 -> T. C. HOÀNG | E11: =tkbieu!T30 -> 0 | F11: =tkbieu!T44 -> C. LINH | G11: =tkbieu!T58 -> 0 | H11: =tkbieu!T72 -> 0 | I11: =tkbieu!T86 -> 0 | M11: 5 | N11: 10h30-11h15(LT) 10h30-11h30(TH) | O11: =tkbieu!U16 -> T. C. HOÀNG | P11: =tkbieu!U30 -> T. TÀI | Q11: =tkbieu!U44 -> C. LINH | R11: =tkbieu!U58 -> T. VÂN | S11: =tkbieu!U72 -> C. NGỌC | T11: =tkbieu!U86 -> T. DUY
A13: CHIỀU | B13: 6 | C13: 12h45-13h30 | D13: =tkbieu!T19 -> HỌC VHPT | E13: =tkbieu!T33 -> HỌC VHPT | F13: =tkbieu!T47 -> HỌC VHPT | G13: =tkbieu!T61 -> HỌC VHPT | H13: =tkbieu!T75 -> HỌC VHPT | I13: =tkbieu!T89 -> 0 | L13: CHIỀU | M13: 6 | N13: 12h45-13h30 | O13: =tkbieu!U19 -> HỌC VHPT | P13: =tkbieu!U33 -> HỌC VHPT | Q13: =tkbieu!U47 -> HỌC VHPT | R13: =tkbieu!U61 -> HỌC VHPT | S13: =tkbieu!U75 -> HỌC VHPT | T13: =tkbieu!U89 -> THIẾT KẾ
B14: 7 | C14: 13h30-14h15 | D14: =tkbieu!T20 -> THEO TKB | E14: =tkbieu!T34 -> THEO TKB | F14: =tkbieu!T48 -> THEO TKB | G14: =tkbieu!T62 -> THEO TKB | H14: =tkbieu!T76 -> THEO TKB | I14: =tkbieu!T90 -> 0 | M14: 7 | N14: 13h30-14h15 | O14: =tkbieu!U20 -> THEO TKB | P14: =tkbieu!U34 -> THEO TKB | Q14: =tkbieu!U48 -> THEO TKB | R14: =tkbieu!U62 -> THEO TKB | S14: =tkbieu!U76 -> THEO TKB | T14: =tkbieu!U90 -> WEB
B15: 8 | C15: 14h45-15h30 | D15: =tkbieu!T21 -> TTGDTX | E15: =tkbieu!T35 -> TTGDTX | F15: =tkbieu!T49 -> TTGDTX | G15: =tkbieu!T63 -> TTGDTX | H15: =tkbieu!T77 -> TTGDTX | I15: =tkbieu!T91 -> 0 | M15: 8 | N15: 14h45-15h30 | O15: =tkbieu!U21 -> TTGDTX | P15: =tkbieu!U35 -> TTGDTX | Q15: =tkbieu!U49 -> TTGDTX | R15: =tkbieu!U63 -> TTGDTX | S15: =tkbieu!U77 -> TTGDTX | T15: =tkbieu!U91 -> 0
B16: 9 | C16: 15h30-16h15 | D16: =tkbieu!T22 -> 0 | E16: =tkbieu!T36 -> 0 | F16: =tkbieu!T50 -> 0 | G16: =tkbieu!T64 -> 0 | H16: =tkbieu!T78 -> 0 | I16: =tkbieu!T92 -> 0 | M16: 9 | N16: 15h30-16h15 | O16: =tkbieu!U22 -> 0 | P16: =tkbieu!U36 -> 0 | Q16: =tkbieu!U50 -> 0 | R16: =tkbieu!U64 -> 0 | S16: =tkbieu!U78 -> 0 | T16: =tkbieu!U92 -> A102-1 (PM5.1)
B17: 10 | C17: 16h15-17h00(LT) 16h15-17h15(TH) | D17: =tkbieu!T23 -> 0 | E17: =tkbieu!T37 -> 0 | F17: =tkbieu!T51 -> 0 | G17: =tkbieu!T65 -> 0 | H17: =tkbieu!T79 -> 0 | I17: =tkbieu!T93 -> 0 | M17: 10 | N17: 16h15-17h00(LT) 16h15-17h15(TH) | O17: =tkbieu!U23 -> 0 | P17: =tkbieu!U37 -> 0 | Q17: =tkbieu!U51 -> 0 | R17: =tkbieu!U65 -> 0 | S17: =tkbieu!U79 -> 0 | T17: =tkbieu!U93 -> T. DUY
A20: =L3 -> ÁP DỤNG TỪ NGÀY 12/10 ĐẾN 30/10/2026 | L20: =A20 -> ÁP DỤNG TỪ NGÀY 12/10 ĐẾN 30/10/2026
A22: LỚP: | C22: =tkbieu!V10 -> T26TKĐH1 | E22: GVCN: | F22: =tkbieu!V9 -> 0 | H22: ĐT: | L22: LỚP: | N22: =tkbieu!Y10 -> C26TKĐH1 | P22: GVCN: | Q22: =tkbieu!Y9 -> 0 | S22: ĐT: | T22: 0918 093 530
A23: Buổi | B23: Tiết | C23: Giờ dạy | D23: THỨ HAI | E23: THỨ BA | F23: THỨ TƯ | G23: THỨ NĂM | H23: THỨ SÁU | I23: THỨ BẢY | L23: Buổi | M23: Tiết | N23: Giờ dạy | O23: THỨ HAI | P23: THỨ BA | Q23: THỨ TƯ | R23: THỨ NĂM | S23: THỨ SÁU | T23: THỨ BẢY
A24: SÁNG | B24: 1 | C24: 7h00-7h45 | D24: =tkbieu!V12 -> TIẾNG ANH 1 | E24: =tkbieu!V26 -> TIN HỌC | F24: =tkbieu!V40 -> KỸ NĂNG | G24: =tkbieu!V54 -> T.KẾ 2D VỚI | H24: =tkbieu!V68 -> NGHỆ THUẬT | I24: =tkbieu!V82 -> MỸ THUẬT | L24: SÁNG | M24: 1 | N24: 7h00-7h45 | O24: =tkbieu!Y12 -> GIÁO DỤC | P24: =tkbieu!Y26 -> 0 | Q24: =tkbieu!Y40 -> TIẾNG ANH 1 | R24: =tkbieu!Y54 -> 0 | S24: =tkbieu!Y68 -> 0 | T24: =tkbieu!Y82 -> 0
B25: 2 | C25: 7h45-8h30 | D25: =tkbieu!V13 -> 0 | E25: =tkbieu!V27 -> 0 | F25: =tkbieu!V41 -> THIẾT YẾU | G25: =tkbieu!V55 -> CORELDRAW | H25: =tkbieu!V69 -> CHỮ | I25: =tkbieu!V83 -> CƠ BẢN | M25: 2 | N25: 7h45-8h30 | O25: =tkbieu!Y13 -> CHÍNH TRỊ | P25: =tkbieu!Y27 -> 0 | Q25: =tkbieu!Y41 -> 0 | R25: =tkbieu!Y55 -> 0 | S25: =tkbieu!Y69 -> 0 | T25: =tkbieu!Y83 -> 0
B26: 3 | C26: 9h00-9h45 | D26: =tkbieu!V14 -> HỌC GHÉP | E26: =tkbieu!V28 -> 0 | F26: =tkbieu!V42 -> HỌC GHÉP AD TỪ 05/10 | G26: =tkbieu!V56 -> 0 | H26: =tkbieu!V70 -> 0 | I26: =tkbieu!V84 -> 0 | M26: 3 | N26: 9h00-9h45 | O26: =tkbieu!Y14 -> HỌC GHÉP | P26: =tkbieu!Y28 -> 0 | Q26: =tkbieu!Y42 -> HỌC GHÉP | R26: =tkbieu!Y56 -> 0 | S26: =tkbieu!Y70 -> 0 | T26: =tkbieu!Y84 -> 0
B27: 4 | C27: 9h45-10h30 | D27: =tkbieu!V15 -> A210 | E27: =tkbieu!V29 -> A103 (PM6) | F27: =tkbieu!V43 -> A210 | G27: =tkbieu!V57 -> A112 (PM1) | H27: =tkbieu!V71 -> A101 (PM4) | I27: =tkbieu!V85 -> A209 | M27: 4 | N27: 9h45-10h30 | O27: =tkbieu!Y15 -> A207 | P27: =tkbieu!Y29 -> 0 | Q27: =tkbieu!Y43 -> A207 | R27: =tkbieu!Y57 -> 0 | S27: =tkbieu!Y71 -> 0 | T27: =tkbieu!Y85 -> 0
B28: 5 | C28: 10h30-11h15(LT) 10h30-11h30(TH) | D28: =tkbieu!V16 -> T. C. HOÀNG | E28: =tkbieu!V30 -> T. TÔN | F28: =tkbieu!V44 -> C. LINH | G28: =tkbieu!V58 -> T. PHI | H28: =tkbieu!V72 -> C. HÀ | I28: =tkbieu!V86 -> C. S. MAI | M28: 5 | N28: 10h30-11h15(LT) 10h30-11h30(TH) | O28: =tkbieu!Y16 -> C. NGUYÊN | P28: =tkbieu!Y30 -> 0 | Q28: =tkbieu!Y44 -> T. QUÂN | R28: =tkbieu!Y58 -> 0 | S28: =tkbieu!Y72 -> 0 | T28: =tkbieu!Y86 -> 0
A30: CHIỀU | B30: 6 | C30: 12h45-13h30 | D30: =tkbieu!V19 -> HỌC VHPT | E30: =tkbieu!V33 -> HỌC VHPT | F30: =tkbieu!V47 -> HỌC VHPT | G30: =tkbieu!V61 -> HỌC VHPT | H30: =tkbieu!V75 -> HỌC VHPT | I30: =tkbieu!V89 -> T.KẾ 2D VỚI | L30: CHIỀU | M30: 6 | N30: 12h45-13h30 | O30: =tkbieu!Y19 -> 0 | P30: =tkbieu!Y33 -> 0 | Q30: =tkbieu!Y47 -> GIÁO DỤC | R30: =tkbieu!Y61 -> 0 | S30: =tkbieu!Y75 -> 0 | T30: =tkbieu!Y89 -> 0
B31: 7 | C31: 13h30-14h15 | D31: =tkbieu!V20 -> THEO TKB | E31: =tkbieu!V34 -> THEO TKB | F31: =tkbieu!V48 -> THEO TKB | G31: =tkbieu!V62 -> THEO TKB | H31: =tkbieu!V76 -> THEO TKB | I31: =tkbieu!V90 -> CORELDRAW | M31: 7 | N31: 13h30-14h15 | O31: =tkbieu!Y20 -> 0 | P31: =tkbieu!Y34 -> 0 | Q31: =tkbieu!Y48 -> THỂ CHẤT | R31: =tkbieu!Y62 -> 0 | S31: =tkbieu!Y76 -> 0 | T31: =tkbieu!Y90 -> 0
B32: 8 | C32: 14h45-15h30 | D32: =tkbieu!V21 -> TTGDTX | E32: =tkbieu!V35 -> TTGDTX | F32: =tkbieu!V49 -> TTGDTX | G32: =tkbieu!V63 -> TTGDTX | H32: =tkbieu!V77 -> TTGDTX | I32: =tkbieu!V91 -> 0 | M32: 8 | N32: 14h45-15h30 | O32: =tkbieu!Y21 -> 0 | P32: =tkbieu!Y35 -> 0 | Q32: =tkbieu!Y49 -> HỌC GHÉP | R32: =tkbieu!Y63 -> 0 | S32: =tkbieu!Y77 -> 0 | T32: =tkbieu!Y91 -> 0
B33: 9 | C33: 15h30-16h15 | D33: =tkbieu!V22 -> 0 | E33: =tkbieu!V36 -> 0 | F33: =tkbieu!V50 -> 0 | G33: =tkbieu!V64 -> 0 | H33: =tkbieu!V78 -> 0 | I33: =tkbieu!V92 -> A101 (PM4) | M33: 9 | N33: 15h30-16h15 | O33: =tkbieu!Y22 -> 0 | P33: =tkbieu!Y36 -> 0 | Q33: =tkbieu!Y50 -> S. TRƯỜNG | R33: =tkbieu!Y64 -> 0 | S33: =tkbieu!Y78 -> 0 | T33: =tkbieu!Y92 -> 0
B34: 10 | C34: 16h15-17h00(LT) 16h15-17h15(TH) | D34: =tkbieu!V23 -> 0 | E34: =tkbieu!V37 -> 0 | F34: =tkbieu!V51 -> 0 | G34: =tkbieu!V65 -> 0 | H34: =tkbieu!V79 -> 0 | I34: =tkbieu!V93 -> T. PHI | M34: 10 | N34: 16h15-17h00(LT) 16h15-17h15(TH) | O34: =tkbieu!Y23 -> 0 | P34: =tkbieu!Y37 -> 0 | Q34: =tkbieu!Y51 -> T. THANH | R34: =tkbieu!Y65 -> 0 | S34: =tkbieu!Y79 -> 0 | T34: =tkbieu!Y93 -> 0
A37: =L37 -> ÁP DỤNG TỪ NGÀY 12/10 ĐẾN 30/10/2026 | L37: =L20 -> ÁP DỤNG TỪ NGÀY 12/10 ĐẾN 30/10/2026
A39: LỚP: | C39: =tkbieu!W10 -> C26MT1 | E39: GVCN: | F39: =tkbieu!W9 -> 0 | H39: ĐT: | L39: LỚP: | N39: =tkbieu!X10 -> C26UDPM1 | P39: GVCN: | Q39: =tkbieu!X9 -> 0 | S39: ĐT:
A40: Buổi | B40: Tiết | C40: Giờ dạy | D40: THỨ HAI | E40: THỨ BA | F40: THỨ TƯ | G40: THỨ NĂM | H40: THỨ SÁU | I40: THỨ BẢY | L40: Buổi | M40: Tiết | N40: Giờ dạy | O40: THỨ HAI | P40: THỨ BA | Q40: THỨ TƯ | R40: THỨ NĂM | S40: THỨ SÁU | T40: THỨ BẢY
A41: SÁNG | B41: 1 | C41: 7h00-7h45 | D41: =tkbieu!W12 -> GIÁO DỤC | E41: =tkbieu!W26 -> 0 | F41: =tkbieu!W40 -> TIẾNG ANH 1 | G41: =tkbieu!W54 -> 0 | H41: =tkbieu!W68 -> 0 | I41: =tkbieu!W82 -> 0 | L41: SÁNG | M41: 1 | N41: 7h00-7h45 | O41: =tkbieu!X12 -> GIÁO DỤC | P41: =tkbieu!X26 -> 0 | Q41: =tkbieu!X40 -> TIẾNG ANH 1 | R41: =tkbieu!X54 -> 0 | S41: =tkbieu!X68 -> 0 | T41: =tkbieu!X82 -> 0
B42: 2 | C42: 7h45-8h30 | D42: =tkbieu!W13 -> CHÍNH TRỊ | E42: =tkbieu!W27 -> 0 | F42: =tkbieu!W41 -> 0 | G42: =tkbieu!W55 -> 0 | H42: =tkbieu!W69 -> 0 | I42: =tkbieu!W83 -> 0 | M42: 2 | N42: 7h45-8h30 | O42: =tkbieu!X13 -> CHÍNH TRỊ | P42: =tkbieu!X27 -> 0 | Q42: =tkbieu!X41 -> 0 | R42: =tkbieu!X55 -> 0 | S42: =tkbieu!X69 -> 0 | T42: =tkbieu!X83 -> 0
B43: 3 | C43: 9h00-9h45 | D43: =tkbieu!W14 -> HỌC GHÉP | E43: =tkbieu!W28 -> 0 | F43: =tkbieu!W42 -> HỌC GHÉP | G43: =tkbieu!W56 -> 0 | H43: =tkbieu!W70 -> 0 | I43: =tkbieu!W84 -> 0 | M43: 3 | N43: 9h00-9h45 | O43: =tkbieu!X14 -> HỌC GHÉP | P43: =tkbieu!X28 -> 0 | Q43: =tkbieu!X42 -> HỌC GHÉP | R43: =tkbieu!X56 -> 0 | S43: =tkbieu!X70 -> 0 | T43: =tkbieu!X84 -> 0
B44: 4 | C44: 9h45-10h30 | D44: =tkbieu!W15 -> A207 | E44: =tkbieu!W29 -> 0 | F44: =tkbieu!W43 -> A207 | G44: =tkbieu!W57 -> 0 | H44: =tkbieu!W71 -> 0 | I44: =tkbieu!W85 -> 0 | M44: 4 | N44: 9h45-10h30 | O44: =tkbieu!X15 -> A207 | P44: =tkbieu!X29 -> 0 | Q44: =tkbieu!X43 -> A207 | R44: =tkbieu!X57 -> 0 | S44: =tkbieu!X71 -> 0 | T44: =tkbieu!X85 -> 0
B45: 5 | C45: 10h30-11h15(LT) 10h30-11h30(TH) | D45: =tkbieu!W16 -> C. NGUYÊN | E45: =tkbieu!W30 -> 0 | F45: =tkbieu!W44 -> T. QUÂN | G45: =tkbieu!W58 -> 0 | H45: =tkbieu!W72 -> 0 | I45: =tkbieu!W86 -> 0 | M45: 5 | N45: 10h30-11h15(LT) 10h30-11h30(TH) | O45: =tkbieu!X16 -> C. NGUYÊN | P45: =tkbieu!X30 -> 0 | Q45: =tkbieu!X44 -> T. QUÂN | R45: =tkbieu!X58 -> 0 | S45: =tkbieu!X72 -> 0 | T45: =tkbieu!X86 -> 0
A47: CHIỀU | B47: 6 | C47: 12h45-13h30 | D47: =tkbieu!W19 -> 0 | E47: =tkbieu!W33 -> 0 | F47: =tkbieu!W47 -> GIÁO DỤC | G47: =tkbieu!W61 -> 0 | H47: =tkbieu!W75 -> 0 | I47: =tkbieu!W89 -> 0 | L47: CHIỀU | M47: 6 | N47: 12h45-13h30 | O47: =tkbieu!X19 -> 0 | P47: =tkbieu!X33 -> 0 | Q47: =tkbieu!X47 -> GIÁO DỤC | R47: =tkbieu!X61 -> 0 | S47: =tkbieu!X75 -> 0 | T47: =tkbieu!X89 -> 0
B48: 7 | C48: 13h30-14h15 | D48: =tkbieu!W20 -> 0 | E48: =tkbieu!W34 -> 0 | F48: =tkbieu!W48 -> THỂ CHẤT | G48: =tkbieu!W62 -> 0 | H48: =tkbieu!W76 -> 0 | I48: =tkbieu!W90 -> 0 | M48: 7 | N48: 13h30-14h15 | O48: =tkbieu!X20 -> 0 | P48: =tkbieu!X34 -> 0 | Q48: =tkbieu!X48 -> THỂ CHẤT | R48: =tkbieu!X62 -> 0 | S48: =tkbieu!X76 -> 0 | T48: =tkbieu!X90 -> 0
B49: 8 | C49: 14h45-15h30 | D49: =tkbieu!W21 -> 0 | E49: =tkbieu!W35 -> 0 | F49: =tkbieu!W49 -> HỌC GHÉP | G49: =tkbieu!W63 -> 0 | H49: =tkbieu!W77 -> 0 | I49: =tkbieu!W91 -> 0 | M49: 8 | N49: 14h45-15h30 | O49: =tkbieu!X21 -> 0 | P49: =tkbieu!X35 -> 0 | Q49: =tkbieu!X49 -> HỌC GHÉP | R49: =tkbieu!X63 -> 0 | S49: =tkbieu!X77 -> 0 | T49: =tkbieu!X91 -> 0
B50: 9 | C50: 15h30-16h15 | D50: =tkbieu!W22 -> 0 | E50: =tkbieu!W36 -> 0 | F50: =tkbieu!W50 -> S. TRƯỜNG | G50: =tkbieu!W64 -> 0 | H50: =tkbieu!W78 -> 0 | I50: =tkbieu!W92 -> 0 | M50: 9 | N50: 15h30-16h15 | O50: =tkbieu!X22 -> 0 | P50: =tkbieu!X36 -> 0 | Q50: =tkbieu!X50 -> S. TRƯỜNG | R50: =tkbieu!X64 -> 0 | S50: =tkbieu!X78 -> 0 | T50: =tkbieu!X92 -> 0
B51: 10 | C51: 16h15-17h00(LT) 16h15-17h15(TH) | D51: =tkbieu!W23 -> 0 | E51: =tkbieu!W37 -> 0 | F51: =tkbieu!W51 -> T. THANH | G51: =tkbieu!W65 -> 0 | H51: =tkbieu!W79 -> 0 | I51: =tkbieu!W93 -> 0 | M51: 10 | N51: 16h15-17h00(LT) 16h15-17h15(TH) | O51: =tkbieu!X23 -> 0 | P51: =tkbieu!X37 -> 0 | Q51: =tkbieu!X51 -> T. THANH | R51: =tkbieu!X65 -> 0 | S51: =tkbieu!X79 -> 0 | T51: =tkbieu!X93 -> 0
...

Sheet 12.10
A1: LỊCH THEO DÕI PHÒNG HỌC: 12/10/2026
A2: Tổng cộng: 16 phòng lý thuyết LỚP NGÀY
A3: Sức chứa | C3: 40 | D3: 50 | E3: 50 | F3: 50 | G3: 50 | H3: 50 | I3: 50 | J3: 50 | K3: 50 | L3: 50 | M3: 50 | N3: 40 | O3: 30 (16) | P3: 30 (18)
A4: PHÒNG | C4: 004 | D4: 104 | E4: 201 | F4: 202 | G4: 203 | H4: 204 | I4: 205 | J4: 206 | K4: 207 | L4: 208 | M4: HT1A | N4: HT1B | O4: HT2A | P4: HT2B
A5: Số hiệu phòng mới | C5: A004 | D5: A104 | E5: A207 | F5: A208 | G5: A209 | H5: A210 | I5: A201 | J5: A202 | K5: A203 | L5: A204 | M5: A212 | N5: A211 | O5: C001 | P5: C002
C6: 1 | D6: 2 | E6: 3 | F6: 4 | G6: 5 | H6: 6 | I6: 7 | J6: 8 | K6: 9 | L6: 10 | M6: 11 | N6: 12 | O6: 13 | P6: 14
A7: Thiết bị | C7: 1 camera 2 quạt TT | D7: 1 Tivi 1 camera 4 quạt TT | E7: 1 Tivi 1 camera 5 quạt TT | F7: 1 Tivi 1 camera 5 quạt TT | G7: 1 Tivi 1 camera 4 quạt TT | H7: 1 Tivi 1 camera 3 quạt TT | I7: 1 Tivi 1 camera phòng AV | J7: 1 camera phòng AV | K7: 1 Tivi 1 camera 6 quạt TT | L7: 1 Tivi hư 1 camera 5 quạt TT | M7: Màn chiếu 1 camera (Bảng ĐT) | N7: 1 camera | O7: 1 Tivi 1 camera 4 quạt TT | P7: 1 Tivi 1 camera 4 quạt TT
A8: Hai 12/10 | B8: Sáng | C8: L12 | D8: L12 | E8: =tkbieu!I16 -> C. NGUYÊN | F8: =tkbieu!G16 -> C. LINH | G8: =tkbieu!E16 -> C. Q. PHƯƠNG | H8: =tkbieu!R16 -> T. C. HOÀNG | K8: L11 | L8: L11 | M8: BAN CHẤM THI | N8: BAN CHẤM THI
B9: Chiều | E9: =tkbieu!F23 -> T. QUÂN | F9: L10 | G9: L10 | H9: =tkbieu!K23 -> C. MI | K9: L11 | L9: L11 | M9: BAN CHẤM THI | N9: BAN CHẤM THI
A10: Ba 13/10 | B10: Sáng | C10: L12 | D10: L12 | E10: =tkbieu!O30 -> C. L. PHƯƠNG | F10: =tkbieu!K30 -> T. CHƯƠNG | G10: =tkbieu!E30 -> T. Y. LONG | H10: =tkbieu!F30 -> T. THÔNG | M10: BAN CHẤM THI | N10: BAN CHẤM THI
B11: Chiều | D11: =tkbieu!K37 -> T. THOẠI | F11: L10 | G11: L10 | H11: =tkbieu!F37 -> T. HUY | M11: BAN CHẤM THI | N11: BAN CHẤM THI
A12: Tư 14/10 | B12: Sáng | C12: L12 | D12: L12 | E12: =tkbieu!I44 -> T. QUÂN | F12: =tkbieu!G44 -> T. C. HOÀNG | G12: =tkbieu!E44 -> C. HỒNG | H12: =tkbieu!T44 -> C. LINH | K12: L11 | L12: L11 | M12: BAN CHẤM THI | N12: BAN CHẤM THI
B13: Chiều | E13: =tkbieu!K51 -> T. QUÂN | F13: L10 | G13: L10 | H13: =tkbieu!F51 -> C. MI | K13: L11 | L13: L11 | M13: BAN CHẤM THI | N13: BAN CHẤM THI
A14: Năm 15/10 | B14: Sáng | C14: L12 | D14: L12 | E14: T. K. LONG | F14: =tkbieu!O58 -> C. NGUYỆT | G14: =tkbieu!J58 -> T. C. SƠN | M14: BAN CHẤM THI | N14: BAN CHẤM THI
B15: Chiều | C15: =tkbieu!K65 -> T. C. SƠN | F15: L10 | G15: L10 | M15: BAN CHẤM THI | N15: BAN CHẤM THI
A16: Sáu 16/10 | B16: Sáng | C16: L12 | D16: L12 | E16: =tkbieu!E72 -> T. V. HẢI | G16: =tkbieu!O72 -> C. T. TRANG | I16: T. QUÂN - T. DUY | K16: L11 | L16: L11 | M16: BAN CHẤM THI | N16: BAN CHẤM THI
B17: Chiều | E17: T. Y. LONG | F17: L10 | G17: L10 | M17: BAN CHẤM THI | N17: BAN CHẤM THI
A18: Bảy 17/10 | B18: Sáng | E18: T. QUÂN | F18: =tkbieu!J86 -> C. THẢO | G18: =tkbieu!V86 -> C. S. MAI | H18: T. K. LONG
B19: Chiều
A20: Chủ Nhật | B20: Sáng
B21: Chiều
E25: Tối thứ 2, 4: học AV language link phòng A209

Sheet Data
D1: ÁP DỤNG TỪ NGÀY 26/09/2011
A2: T.THỊNH | B2: 0908301262 | D2: ÁP DỤNG TỪ NGÀY 03/10/2011
A3: ĐAN | B3: 0947775181 | D3: ÁP DỤNG TỪ NGÀY 10/10/2011 | K3: T.Nghiệp
A4: C.TÚ | B4: 0914135548 | D4: ÁP DỤNG TỪ NGÀY 17/10/2011 | M4: =MID(K3,3,13) -> Nghiệp
A5: trong nghĩa | B5: 0902933664 | C5: trongnghia8881@yahoo.com.vn | D5: ÁP DỤNG TỪ NGÀY 24/10/2011 | M5: =VLOOKUP(MID(K3,3,13),B10:C39,2,0) -> #N/A
D6: ÁP DỤNG TỪ NGÀY 31/10/2011
D7: ÁP DỤNG TỪ NGÀY 07/11/2011
A8: Giáo viên CN | D8: ÁP DỤNG TỪ NGÀY 14/11/2011 | H8: KHOA CƠ KHÍ
A9: Họ và tên | B9: Tên | C9: Số điện thoại | D9: ÁP DỤNG TỪ NGÀY 21/11/2011 | G9: 1 | H9: CÁC P.PHÁP | I9: NGUYÊN LÝ | J9: GIA CÔNG | K9: PHAY | L9: LẬP TRÌNH | M9: GIA CÔNG | O9: LĂN NHÁM,
A10: Phạm Ngọc Thanh | B10: Thanh | C10: 0938011994 | D10: ÁP DỤNG TỪ NGÀY 28/11/2011 | G10: 2 | H10: G.CÔNG MỚI | I10: CT MÁY | J10: TRÊN MP CNC | K10: CƠ BẢN | L10: TIỆN CNC | M10: TRÊN MÁY MÀI PHẲNG | N10: VẬT LIỆU | O10: LĂN ÉP
A11: Nguyễn Trí Cường | B11: Cường | C11: 0908451597 | D11: ÁP DỤNG TỪ NGÀY 05/12/2011 | G11: 3 | N11: CƠ KHÍ | O11: AD: 28/11
A12: Nguyễn Tấn Tài | B12: Tài | C12: 0913829320 | D12: ÁP DỤNG TỪ NGÀY 12/12/2011 | G12: 4 | H12: X.CK | I12: P.108B | J12: P.CNC | K12: X.TIỆN | L12: P.MT | M12: X.TIỆN | N12: P.204 | O12: X.TIỆN
A13: Đặng Thị Tuyết Mai | B13: Mai | C13: 01698706075 | D13: ÁP DỤNG TỪ NGÀY 19/12/2011 | G13: 5 | H13: C.HƯƠNG | I13: C.HƯƠNG | J13: C.THƯ | K13: T.HỶ | L13: C.THƯ | M13: T.QUỐC | N13: C.HIỀN | O13: T.CƯƠNG
A14: Huỳnh Xuân Nghiệp | B14: Nghiệp | C14: 0932574398 | D14: ÁP DỤNG TỪ NGÀY 26/12/2011 | G14: 6
A15: Phan Vũ Nguyên Khương | B15: Khương | C15: 0982341432 | D15: ÁP DỤNG TỪ NGÀY 02/01/2012 | G15: 7 | H15: KHÍ NÉN | I15: TIỆN REN | J15: BÀO | K15: TIỆN | L15: NGUYÊN LÝ | M15: SỨC BỀN | N15: VẼ KT | O15: CƠ | P15: TIỆN | Q15: PHAY | R15: LẬP TRÌNH
A16: Nguyễn Thanh Xuân | B16: Xuân | C16: 0932733896 | D16: ÁP DỤNG TỪ NGÀY 09/01/2012 | G16: 8 | H16: THỦY LỰC | I16: TAM GIÁC | J16: NÂNG CAO | K16: CƠ BẢN | L16: CẮT | M16: VẬT LIỆU | O16: LÝ THUYẾT | P16: N. CAO | Q16: BÁNH RĂNG | R16: TIỆN CNC
A17: Nghiêm Thị | B17: Thoa | C17: 0942846334 | D17: ÁP DỤNG TỪ NGÀY 16/01/2012 | G17: 9 | K17: AD: 31/10 | M17: P. | N17: P. | O17: P. | P17: X.TIỆN | Q17: X.TIỆN | R17: P.MT
A18: Phan Thị Bảo Vy | B18: B.Vy | C18: 0903960582 | D18: ÁP DỤNG TỪ NGÀY 23/01/2012 | G18: 10 | H18: X.KNTL | I18: X.TIỆN | J18: X.TIỆN | K18: X.TIỆN | L18: P. 108B | M18: T.TRƯƠNG | N18: T.QUỐC | O18: T.TRƯƠNG | P18: T.CƯƠNG | Q18: T.HỶ | R18: T.TUẤN
A19: Nguyễn Công Hoan | B19: Hoan | C19: 0935319022 | D19: ÁP DỤNG TỪ NGÀY 30/01/2012 | G19: 11 | H19: T.NAM | I19: C.CƯƠNG | J19: T.HỶ | K19: T.TUẤN | L19: T.QUỐC
A20: Ngô Vũ Quỳnh Anh | B20: Q.Anh | C20: 0977517367 | D20: ÁP DỤNG TỪ NGÀY 06/02/2012 | G20: 12
A21: Phan Thị Đăng Thư | B21: Thư | C21: 0903373645 | D21: ÁP DỤNG TỪ NGÀY 13/02/2012
A22: Lê Lân | B22: Lân | C22: 0937542279 | D22: ÁP DỤNG TỪ NGÀY 20/02/2012
A23: Nguyễn Văn Dương | B23: Dương | C23: 0907591215 | D23: ÁP DỤNG TỪ NGÀY 27/02/2012 | H23: KHOA Ô TÔ
A24: Đồng Tấn Lập | B24: Lập | C24: 0913628988 | D24: ÁP DỤNG TỪ NGÀY 05/03/2012 | G24: 1 | H24: SC -BD | I24: SC -BD | J24: SC -BD | K24: SC -BD | L24: SC - BD | M24: SC -BD | N24: SC -BD | O24: SC BD | P24: THIẾT BỊ | Q24: KỸ THUẬT | R24: KỸ THUẬT | S24: SC BD | U24: X.OTO 1
A25: Nguyễn Văn Hoàng | B25: Hoàng | C25: 0908230864 | D25: ÁP DỤNG TỪ NGÀY 12/03/2012 | G25: 2 | H25: HỆ THỐNG | I25: HỆ THỐNG | J25: HỆ THỐNG | K25: HỆ THỐNG | L25: HỆ THỐNG | M25: HỆ THỐNG | N25: HỆ THỐNG | O25: HỆ THỐNG | P25: ĐO KIỂM | Q25: CHUNG | R25: CHUNG | S25: HỆ THỐNG | U25: X.OTO 2
A26: Nguyễn Thị Oanh | B26: Oanh | C26: 0985516982 | D26: ÁP DỤNG TỪ NGÀY 19/03/2012 | G26: 3 | H26: NLĐCX | I26: PHANH | J26: T.ĐỘNG | K26: PHANH | L26: T.ĐỘNG | M26: T.ĐỘNG | N26: KĐ - ĐL | O26: BT - LM | P26: CHẨN ĐOÁN | Q26: Ô TÔ | R26: Ô TÔ | S26: TR. ĐỘNG
A27: Đinh Thị Huyền Diệu | B27: Diệu | C27: 01268622124 | D27: ÁP DỤNG TỪ NGÀY 26/03/2012 | G27: 4 | H27: X.OTO1 | I27: X.ÔTÔ 2 | J27: P.001 | K27: X.OTO1 | L27: X.OTO1 | M27: X.OTO2 | N27: X.OTO1 | O27: P.001 | P27: P.003 | Q27: X.OTO1 | R27: X.OTO2 | S27: X.OTO2
A28: Lý Siều Hải | B28: Hải | C28: 0908870554 | D28: ÁP DỤNG TỪ NGÀY 02/04/2012 | G28: 5 | H28: T.THƯƠNG | I28: T.DƯƠNG | J28: T.DƯƠNG | K28: T.LÂN | L28: T.LÂN | M28: T.LÂN | N28: T.TẦN | O28: T.KHÁNH | P28: T.KHÁNH | Q28: T. HÀ | R28: T.TRÍ | S28: T.TRÍ
A29: Bùi Mai Hoàng Thảo | B29: Thảo | C29: 0908343496 | D29: ÁP DỤNG TỪ NGÀY 09/04/2012 | G29: 6
A30: Nguyễn Đình Tần | B30: Tần | C30: 0937648567 | D30: ÁP DỤNG TỪ NGÀY 16/04/2012 | G30: 7 | H30: SC - BD | I30: SC-BD | K30: SC -BD | L30: SC - BD | M30: SC -BD | N30: SC - BD | O30: SC - BD | Q30: KỸ THUẬT
A31: Trần Quản Quốc | B31: Quốc | C31: 0907748318 | D31: ÁP DỤNG TỪ NGÀY 23/04/2012 | G31: 8 | H31: HỆ THỐNG | I31: HỆ THỐNG | K31: HỆ THỐNG | L31: HỆ THỐNG | M31: HỆ THỐNG | N31: HỆ THỐNG | O31: HỆ THỐNG | Q31: CHUNG
A32: Trần Thanh Phong | B32: Phong | C32: 0903654143 | D32: ÁP DỤNG TỪ NGÀY 30/04/2012 | G32: 9 | H32: BT - LM | I32: PHANH | K32: PHANH | L32: T.ĐỘNG | M32: T.ĐỘNG | N32: ĐK - ĐL | O32: BT - LM | Q32: Ô TÔ
A33: Nguyễn Hiệp | B33: Hiệp | C33: 0938231264 | D33: ÁP DỤNG TỪ NGÀY 07/05/2012 | G33: 10 | H33: P.001 | I33: X.ÔTÔ 2 | K33: X.OTO1 | L33: X.OTO1 | M33: X.OTO2 | N33: X.OTO1 | O33: P.001 | Q33: X.OTO1
A34: Nguyễn Thái Bình | B34: Bình | C34: 0918396785 | D34: ÁP DỤNG TỪ NGÀY 14/05/2012 | G34: 11 | H34: T.KHÁNH | I34: T.DƯƠNG | K34: T.LÂN | L34: T.LÂN | M34: T.LÂN | N34: T.TẦN | O34: T.KHÁNH | Q34: T. HÀ
A35: Nguyễn Mạnh Dũng | B35: Dũng | C35: 0919220544 | D35: ÁP DỤNG TỪ NGÀY 21/05/2012 | G35: 12
A36: Phạm Ngọc Cương | B36: Cương | C36: 0903375234 | D36: ÁP DỤNG TỪ NGÀY 28/05/2012
A37: Trần Văn Được | B37: Được | C37: 0903628303 | D37: ÁP DỤNG TỪ NGÀY 04/06/2012 | H37: KHOA CƠ BẢN
A38: Đặng Xuân Mạnh | B38: Mạnh | C38: 0973233579 | D38: ÁP DỤNG TỪ NGÀY 11/06/2012 | G38: 1 | H38: VĂN 5 | I38: ANH VĂN | J38: LÝ 3 | K38: VĂN 3 | L38: TOÁN 5 | M38: GDTC | N38: TOÁN 3 | O38: HÓA 5 | P38: HÓA 3 | Q38: TOÁN 5 | R38: SHCN | S38: GDTC | T38: HÓA | U38: PHÁP | V38: PHÁP | W38: HÓA | X38: PHÁP
A39: Nguyễn Lê Thái | B39: Thái | C39: 0946059100 | D39: ÁP DỤNG TỪ NGÀY 18/06/2012 | G39: 2 | H39: P.202 | I39: C. NGÀNH | J39: P.202 | K39: P.202 | M39: S.TRƯỜNG | O39: P.206 | P39: P.204 | R39: P.203 | T39: CƠ BẢN | U39: LUẬT | V39: LUẬT | W39: P.201 | X39: LUẬT
A40: Lê Hoàng Thanh Vy | B40: T.Vy | C40: 0907589632 | D40: ÁP DỤNG TỪ NGÀY 25/06/2012 | G40: 3 | H40: C.HẰNG | J40: C.YẾN | K40: C.CHUNG | M40: T.ĐAN | O40: C.HẠNH | P40: C.HOA | R40: GDTC | U40: P.1 | V40: P. | W40: C.HOA | X40: P.
...
