Workbook
Name _Fill: #REF!
Name _Fill: #REF!
Name _Sort: #REF!
Name _Sort: #REF!
Name _ST2: 'TONG HOP'!$9:$9
Name _ST22: 'TONG HOP'!$E$9:$AV$9
Name DT: '[1]TONG HOP'!$9:$9
Name DT: 'TONG HOP'!$9:$9

Sheet TONG HOP
A2: SỈ SỐ | E2: 34 | F2: 28 | G2: 37 | I2: 42 | K2: 46 | M2: 15 | Q2: 41 | R2: 33 | T2: 8 | U2: 8 | Y2: 16 | Z2: 13 | AA2: 13 | AJ2: 19 | AK2: 21 | AT2: 4 | AU2: 11 | AV2: 9 | BH2: 10 | BN2: Tổng cộng: | BO2: =SUM(E2:BN2) -> 408 | BQ2: SV
A3: KHOA | D3: KHOA | E3: KHOA CƠ KHÍ Ô TÔ | Y3: KHOA CNTT | AJ3: KHOA Đ-ĐL | AT3: CNTP | BD3: KHOA KT | BN3: KẾT THÚC TIẾN ĐỘ
A4: GVCN | C4: TIẾT | D4: GIỜ DẠY | BM4: GIỜ DẠY | BN4: TIẾT | BO4: GVCN
A5: LỚP | E5: C26OTO2-N1 | F5: C26OTO2-N2 | G5: C26CK2 | H5: C26KTCK2 | I5: T26OTO2 | J5: T26CK2 | K5: C26OTO-LT | Y5: C26LRMT2 | Z5: C26MT2 | AA5: C26TKĐH2 | AB5: C26UDPM2 | AC5: T26LRMT2 | AD5: T26MT2 | AE5: T26TKĐH2 | AF5: T26UDPM2 | AJ5: C26DC2-N1 | AK5: C26DC2-N2 | AL5: C26TĐH2 | AM5: T26DC2 | AN5: T26KTML2-N1 | AO5: T26KTML2-N2 | AS5: C24KTML-LT | AT5: C26TP1 | AU5: T26TP1 | AV5: C26TP-LT | AX5: T25TP1 | AY5: T25TP2 | AZ5: C25TP1 | BA5: C24TP2 | BD5: C26KT2 | BE5: C26QTKD2 | BF5: T26KT2 | BO5: LỚP
A6: THỨ HAI | B6: SÁNG | C6: 1 | D6: 7h30-8h15 | E6: DUNG SAI LG | F6: DUNG SAI LG | G6: VẼ KT | J6: BV MT- ATLĐ | AE6: TIN HỌC | AF6: TIN HỌC | AM6: KT AN TOÀN | AN6: KT ĐIỆN- | AO6: KT ĐIỆN- | AU6: TN HÓA SINH | AV6: BQ CB THỊT | BF6: MARKETING | BM6: 7h00-7h45 | BN6: 1 | BO6: SÁNG | BP6: THỨ HAI
C7: 2 | D7: 8h30-9h15 | E7: VÀ ĐLKT | F7: VÀ ĐLKT | J7: VÀ VS CN | AM7: VÀ BHLĐ | AN7: ĐIỆN TỬ | AO7: ĐIỆN TỬ | AU7: TP | AV7: VÀ THỦY SẢN | BF7: CƠ BẢN | BM7: 7h45-8h30 | BN7: 2
C8: 3 | D8: 9h15-10h00 | BM8: 9h00-9h45 | BN8: 3
C9: 4 | E9: A205 | F9: A205 | G9: A113 | J9: A306 | AE9: B514 | AF9: B504 | AM9: A112 | AN9: A307 | AO9: A307 | AU9: C102 | AV9: C103 | BF9: A018 | BM9: 9h45-10h30 | BN9: 4
C10: 5 | D10: 11h00-11h45 | E10: T.THÔNG | F10: T.THÔNG | G10: T.HOÀNG | J10: T.NGHI | AE10: T.DUY | AF10: C.HÂN | AM10: T.LƯU | AN10: T.CÔNG | AO10: T.CÔNG | AU10: C.DIỆP | AV10: T.XUÂN | BF10: C.NGUYỆT | BM10: 10h30-11h15 | BN10: 5
B11: CHIỀU | C11: 6 | D11: 12h45-1h30 | H11: VẼ KT | I11: HỌC VĂN HÓA | J11: HỌC VĂN HÓA | K11: CN LẮP | AC11: HỌC VĂN HÓA | AD11: HỌC VĂN HÓA | AE11: HỌC VĂN HÓA | AF11: HỌC VĂN HÓA | AL11: SD CÔNG CỤ | AM11: HỌC VĂN HÓA | AN11: HỌC VĂN HÓA | AO11: HỌC VĂN HÓA | AT11: KỸ THUẬT | AU11: HỌC VĂN HÓA | AW11: HỌC VĂN HÓA | AX11: HỌC VĂN HÓA | BE11: MARKETING CB | BF11: HỌC VĂN HÓA | BH11: HỌC VĂN HÓA | BI11: HỌC VĂN HÓA | BJ11: HỌC VĂN HÓA | BM11: 12h45-1h30 | BN11: 6 | BO11: CHIỀU
C12: 7 | D12: 1h30-2h15 | I12: THEO TKB TTGDTX | J12: THEO TKB TTGDTX | K12: RÁP Ô TÔ | AC12: THEO TKB TTGDTX | AD12: THEO TKB TTGDTX | AE12: THEO TKB TTGDTX | AF12: THEO TKB TTGDTX | AL12: DỤNG CỤ | AM12: THEO TKB TTGDTX | AN12: THEO TKB TTGDTX | AO12: THEO TKB TTGDTX | AT12: PHÒNG TN | AU12: THEO TKB TTGDTX | AW12: THEO TKB TTGDTX | AX12: THEO TKB TTGDTX | BF12: THEO TKB TTGDTX | BH12: THEO TKB TTGDTX | BI12: THEO TKB TTGDTX | BJ12: THEO TKB TTGDTX | BM12: 1h30-2h15 | BN12: 7
C13: 8 | D13: 2h30-3h15 | I13: QUẬN 1 | J13: QUẬN 1 | AC13: QUẬN 1 | AD13: QUẬN 1 | AE13: QUẬN 1 | AF13: QUẬN 1 | AM13: QUẬN 1 | AN13: QUẬN 1 | AO13: QUẬN 1 | AU13: QUẬN 1 | AW13: QUẬN 1 | AX13: QUẬN 1 | BE13: AD TỪ 18/10 | BF13: QUẬN 1 | BH13: QUẬN 1 | BI13: QUẬN 1 | BJ13: QUẬN 1 | BM13: 2h30-3h15 | BN13: 8
C14: 9 | D14: 3h15-4h00 | H14: A018 | K14: B004 | AL14: B203 | AT14: C102 | BE14: A307 | BM14: 3h15-4h00 | BN14: 9
C15: 10 | D15: 4h15-5h00 | H15: T.HOÀNG | K15: T.HUY | AL15: T.CHƯƠNG | AT15: C.DIỆP | BE15: C.NGUYỆT | BM15: 4h15-5h00 | BN15: 10
A16: THỨ BA | B16: LỚP | E16: =E5 -> C26OTO2-N1 | F16: =F5 -> C26OTO2-N2 | G16: =G5 -> C26CK2 | H16: =H5 -> C26KTCK2 | I16: =I5 -> T26OTO2 | J16: =J5 -> T26CK2 | K16: =K5 -> C26OTO-LT | L16: =L5 -> 0 | ... T16: =T5 -> 0 | Y16: =Y5 -> C26LRMT2 | Z16: =Z5 -> C26MT2 | AA16: =AA5 -> C26TKĐH2 | AB16: =AB5 -> C26UDPM2 | AC16: =AC5 -> T26LRMT2 | AD16: =AD5 -> T26MT2 | AE16: =AE5 -> T26TKĐH2 | AF16: =AF5 -> T26UDPM2 | ... AV16: =AV5 -> C26TP-LT | AX16: =AX5 -> T25TP1 | AY16: =AY5 -> T25TP2 | AZ16: =AZ5 -> C25TP1 | BA16: =BA5 -> C24TP2 | BB16: =BB5 -> 0 | BD16: =BD5 -> C26KT2 | BE16: =BE5 -> C26QTKD2 | BF16: =BF5 -> T26KT2 | BH16: =BH5 -> 0 | BI16: =BI5 -> 0 | BJ16: =BJ5 -> 0 | BK16: =BK5 -> 0 | BL16: =BL5 -> 0 | BP16: THỨ BA
B17: SÁNG | C17: 1 | D17: 7h30-8h15 | E17: GDCT | F17: GDCT | G17: TIẾNG ANH 1 | H17: TIẾNG ANH 1 | I17: TIẾNG ANH 1 | J17: TIẾNG ANH 1 | Y17: GDTC | Z17: GDTC | AA17: GDTC | AB17: GDTC | AC17: TIẾNG ANH 1 | AD17: TIẾNG ANH 1 | AE17: TIẾNG ANH 1 | AF17: TIẾNG ANH 1 | AJ17: GDCT | AK17: GDCT | AL17: GDCT | AM17: PHÁP LUẬT | AN17: PHÁP LUẬT | AO17: PHÁP LUẬT | AT17: GDTC | AU17: KỸ NĂNG | AV17: THÍ NGHIỆM | BD17: GDTC | BE17: GDTC | BF17: KỸ NĂNG | BL17: HỌC VĂN HÓA | BM17: 7h00-7h45 | BN17: 1 | BO17: SÁNG
C18: 2 | D18: 8h30-9h15 | E18: THAM QUAN | F18: THAM QUAN | AJ18: THAM QUAN | AK18: THAM QUAN | AL18: THAM QUAN | AU18: THIẾT YẾU | AV18: VI SINH TP | BF18: THIẾT YẾU | BL18: THEO TKB TTGDTX | BM18: 7h45-8h30 | BN18: 2
C19: 3 | D19: 9h15-10h00 | E19: THỰC TẾ | F19: THỰC TẾ | AJ19: THỰC TẾ | AK19: THỰC TẾ | AL19: THỰC TẾ | BL19: GIA ĐỊNH | BM19: 9h00-9h45 | BN19: 3
C20: 4 | D20: 10h15-11h00 | G20: A110 | H20: A110 | I20: A017 | J20: A017 | Y20: NHÀ THI ĐẤU | Z20: NHÀ THI ĐẤU | AA20: NHÀ THI ĐẤU | AB20: NHÀ THI ĐẤU | AC20: A018 | AD20: A018 | AE20: A018 | AF20: A018 | AM20: A111 | AN20: A111 | AO20: A111 | AT20: NHÀ THI ĐẤU | AU20: A112 | AV20: C107 | BD20: NHÀ THI ĐẤU | BE20: NHÀ THI ĐẤU | BF20: A112 | BM20: 9h45-10h30 | BN20: 4
C21: 5 | D21: 11h00-11h45 | E21: C.THỦY | F21: C.THỦY | G21: C.PHƯƠNG | H21: C.PHƯƠNG | I21: C.DIỆU | J21: C.DIỆU | Y21: T.THANH | Z21: T.THANH | AA21: T.THANH | AB21: T.THANH | AC21: T.HOÀNG | AD21: T.HOÀNG | AE21: T.HOÀNG | AF21: T.HOÀNG | AJ21: C.NGUYÊN | AK21: C.NGUYÊN | AL21: C.NGUYÊN | AM21: C.HỒNG | AN21: C.HỒNG | AO21: C.HỒNG | AT21: T.THANH | AU21: C.CHIÊU LINH | AV21: C.QUỲNH ANH | BD21: T.THANH | BE21: T.THANH | BF21: C.CHIÊU LINH | BM21: 10h30-11h15 | BN21: 5
B22: CHIỀU | C22: 6 | D22: 12h45-1h30 | E22: GDTC | F22: GDTC | I22: HỌC VĂN HÓA | J22: HỌC VĂN HÓA | K22: VẼ CHI TIẾT | Y22: TIẾNG ANH 1 | Z22: TIẾNG ANH 1 | AA22: TIẾNG ANH 1 | AB22: TIẾNG ANH 1 | AC22: HỌC VĂN HÓA | AD22: HỌC VĂN HÓA | AE22: HỌC VĂN HÓA | AF22: HỌC VĂN HÓA | AJ22: TIẾNG ANH 1 | AK22: TIẾNG ANH 1 | AL22: TIẾNG ANH 1 | AM22: HỌC VĂN HÓA | AN22: HỌC VĂN HÓA | AO22: HỌC VĂN HÓA | AT22: TIẾNG ANH 1 | AU22: HỌC VĂN HÓA | AV22: THÍ NGHIỆM | AW22: HỌC VĂN HÓA | AX22: HỌC VĂN HÓA | BD22: TIẾNG ANH 1 | BE22: TIẾNG ANH 1 | BF22: HỌC VĂN HÓA | BH22: HỌC VĂN HÓA | BI22: HỌC VĂN HÓA | BJ22: HỌC VĂN HÓA | BL22: HỌC VĂN HÓA | BM22: 12h45-1h30 | BN22: 6 | BO22: CHIỀU
C23: 7 | D23: 1h30-2h15 | I23: THEO TKB TTGDTX | J23: THEO TKB TTGDTX | K23: Ô TÔ TRÊN MT | AC23: THEO TKB TTGDTX | AD23: THEO TKB TTGDTX | AE23: THEO TKB TTGDTX | AF23: THEO TKB TTGDTX | AM23: THEO TKB TTGDTX | AN23: THEO TKB TTGDTX | AO23: THEO TKB TTGDTX | AU23: THEO TKB TTGDTX | AV23: VI SINH TP | AW23: THEO TKB TTGDTX | AX23: THEO TKB TTGDTX | BF23: THEO TKB TTGDTX | BH23: THEO TKB TTGDTX | BI23: THEO TKB TTGDTX | BJ23: THEO TKB TTGDTX | BL23: THEO TKB TTGDTX | BM23: 1h30-2h15 | BN23: 7
C24: 8 | D24: 2h30-3h15 | I24: QUẬN 1 | J24: QUẬN 1 | AC24: QUẬN 1 | AD24: QUẬN 1 | AE24: QUẬN 1 | AF24: QUẬN 1 | AM24: QUẬN 1 | AN24: QUẬN 1 | AO24: QUẬN 1 | AU24: QUẬN 1 | AW24: QUẬN 1 | AX24: QUẬN 1 | BF24: QUẬN 1 | BH24: QUẬN 1 | BI24: QUẬN 1 | BJ24: QUẬN 1 | BL24: GIA ĐỊNH | BM24: 2h30-3h15 | BN24: 8
C25: 9 | D25: 3h15-4h00 | E25: NHÀ THI ĐẤU | F25: NHÀ THI ĐẤU | K25: C002 | Y25: A018 | Z25: A018 | AA25: A018 | AB25: A018 | AJ25: A017 | AK25: A017 | AL25: A017 | AT25: A018 | AV25: C107 | BD25: A018 | BE25: A018 | BM25: 3h15-4h00 | BN25: 9
C26: 10 | D26: 4h15-5h00 | E26: T.THANH | F26: T.THANH | K26: T.THUẤN | Y26: C.DIỆU | Z26: C.DIỆU | AA26: C.DIỆU | AB26: C.DIỆU | AJ26: C.PHƯƠNG | AK26: C.PHƯƠNG | AL26: C.PHƯƠNG | AT26: C.DIỆU | AV26: C.QUỲNH ANH | BD26: C.DIỆU | BE26: C.DIỆU | BM26: 4h15-5h00 | BN26: 10
A27: THỨ TƯ | B27: LỚP | E27: =E5 -> C26OTO2-N1 | F27: =F16 -> C26OTO2-N2 | G27: =G16 -> C26CK2 | H27: =H16 -> C26KTCK2 | I27: =I16 -> T26OTO2 | J27: =J5 -> T26CK2 | K27: =K16 -> C26OTO-LT | L27: =L16 -> 0 | M27: =M5 -> 0 | N27: =N16 -> 0 | O27: =O16 -> 0 | P27: =P5 -> 0 | Q27: =Q16 -> 0 | R27: =R16 -> 0 | S27: =S38 -> 0 | T27: =T16 -> 0 | Y27: =Y16 -> C26LRMT2 | Z27: =Z16 -> C26MT2 | AA27: =AA16 -> C26TKĐH2 | AB27: =AB16 -> C26UDPM2 | AC27: =AC16 -> T26LRMT2 | AD27: =AD16 -> T26MT2 | AE27: =AE16 -> T26TKĐH2 | AF27: =AF16 -> T26UDPM2 | ... AI27: =AI16 -> 0 | AJ27: =AJ5 -> C26DC2-N1 | AK27: =AK5 -> C26DC2-N2 | AL27: =AL16 -> C26TĐH2 | AM27: =AM5 -> T26DC2 | AN27: =AN5 -> T26KTML2-N1 | AO27: =AO5 -> T26KTML2-N2 | AP27: =AP5 -> 0 | AQ27: =AQ5 -> 0 | AR27: =AR5 -> 0 | AS27: =AS16 -> C24KTML-LT | AT27: =AT16 -> C26TP1 | AU27: =AU16 -> T26TP1 | AV27: =AV5 -> C26TP-LT | AX27: =AX16 -> T25TP1 | AY27: =AY5 -> T25TP2 | AZ27: =AZ16 -> C25TP1 | BA27: =BA16 -> C24TP2 | BB27: =BB5 -> 0 | BD27: =BD5 -> C26KT2 | BE27: =BE5 -> C26QTKD2 | BF27: =BF16 -> T26KT2 | BH27: =BH16 -> 0 | BI27: =BI16 -> 0 | BJ27: =BJ16 -> 0 | BK27: =BK16 -> 0 | BL27: =BL16 -> 0 | BM27: KẾT THÚC TIẾN ĐỘ | BP27: THỨ TƯ
B28: SÁNG | C28: 1 | D28: 7h30-8h15 | E28: KT Ô TÔ | F28: KT Ô TÔ | G28: NL CẮT | I28: KT Ô TÔ | J28: VẬT LIỆU CK | AE28: MỸ THUẬT CB | AF28: KT LẬP TRÌNH | AJ28: SD CCDC | AL28: KT AN TOÀN | AM28: CUNG CẤP ĐIỆN | AN28: TIN HỌC | AO28: TIN HỌC | AT28: VI SINH TP | AU28: KT PHÒNG | BF28: NGUYÊN LÝ | BM28: 7h00-7h45 | BN28: 1 | BO28: SÁNG
C29: 3 | D29: 8h30-9h15 | AJ29: CN ĐIỆN | AL29: VÀ BH LĐ | AU29: THÍ NGHIỆM | BF29: THỐNG KÊ | BM29: 7h45-8h30 | BN29: 2
C30: 3 | D30: 9h15-10h00 | BM30: 9h00-9h45 | BN30: 3
C31: 4 | D31: 10h15-11h00 | E31: A205 | F31: A205 | G31: A306 | I31: A306 | J31: A206 | AE31: B506 | AF31: B514 | AJ31: B203 | AL31: A112 | AM31: A113 | AN31: B204 | AO31: B204 | AT31: A111 | AU31: C102 | BF31: A110 | BM31: 9h45-10h30 | BN31: 4
C32: 5 | D32: 11h00-11h45 | E32: T.THỊNH | F32: T.THỊNH | G32: T.LONG | I32: T.LÂN | J32: T.TRƯƠNG | AE32: C.S.MAI | AF32: C.HÂN | AJ32: T.LƯU | AL32: T.CHƯƠNG | AM32: T.V.TUẤN | AN32: T.HIẾU | AO32: T.HIẾU | AT32: C.QUỲNH ANH | AU32: C.DIỆP | BF32: C.PHƯƠNG | BM32: 10h30-11h15 | BN32: 5
B33: CHIỀU | C33: 6 | D33: 12h45-1h30 | F33: BD VÀ SC | H33: NL CẮT | I33: HỌC VĂN HÓA | J33: HỌC VĂN HÓA | AC33: HỌC VĂN HÓA | AD33: HỌC VĂN HÓA | AE33: HỌC VĂN HÓA | AF33: HỌC VĂN HÓA | AJ33: KT ĐIỆN | AK33: KT ĐIỆN | AL33: SD CÔNG CỤ | AM33: HỌC VĂN HÓA | AN33: HỌC VĂN HÓA | AO33: HỌC VĂN HÓA | AT33: KỸ THUẬT | AU33: HỌC VĂN HÓA | AW33: HỌC VĂN HÓA | AX33: HỌC VĂN HÓA | BF33: HỌC VĂN HÓA | BH33: HỌC VĂN HÓA | BI33: HỌC VĂN HÓA | BJ33: HỌC VĂN HÓA | BM33: 12h45-1h30 | BN33: 6 | BO33: CHIỀU
C34: 7 | D34: 1h30-2h15 | F34: CK ĐỘNG CƠ | I34: THEO TKB TTGDTX | J34: THEO TKB TTGDTX | AC34: THEO TKB TTGDTX | AD34: THEO TKB TTGDTX | AE34: THEO TKB TTGDTX | AF34: THEO TKB TTGDTX | AL34: DỤNG CỤ | AM34: THEO TKB TTGDTX | AN34: THEO TKB TTGDTX | AO34: THEO TKB TTGDTX | AT34: PHÒNG TN | AU34: THEO TKB TTGDTX | AW34: THEO TKB TTGDTX | AX34: THEO TKB TTGDTX | BF34: THEO TKB TTGDTX | BH34: THEO TKB TTGDTX | BI34: THEO TKB TTGDTX | BJ34: THEO TKB TTGDTX | BM34: 1h30-2h15 | BN34: 7
C35: 8 | D35: 2h30-3h15 | I35: QUẬN 1 | J35: QUẬN 1 | AC35: QUẬN 1 | AD35: QUẬN 1 | AE35: QUẬN 1 | AF35: QUẬN 1 | AM35: QUẬN 1 | AN35: QUẬN 1 | AO35: QUẬN 1 | AU35: QUẬN 1 | AW35: QUẬN 1 | AX35: QUẬN 1 | BF35: QUẬN 1 | BH35: QUẬN 1 | BI35: QUẬN 1 | BJ35: QUẬN 1 | BM35: 2h30-3h15 | BN35: 8
C36: 9 | D36: 3h15-4h00 | F36: B004 | H36: A018 | AJ36: A015 | AK36: A015 | AL36: B203 | AT36: C102 | BM36: 3h15-4h00 | BN36: 9
C37: 10 | D37: 4h15-5h00 | F37: T.LÂN | H37: T.LONG | AJ37: T.CÔNG | AK37: T.CÔNG | AL37: T.CHƯƠNG | AT37: C.DIỆP | BM37: 4h15-5h00 | BN37: 10
A38: THỨ NĂM | B38: LỚP | E38: =E5 -> C26OTO2-N1 | F38: =F27 -> C26OTO2-N2 | G38: =G27 -> C26CK2 | H38: =H27 -> C26KTCK2 | I38: =I27 -> T26OTO2 | J38: =J5 -> T26CK2 | K38: =K27 -> C26OTO-LT | L38: =L27 -> 0 | M38: =M5 -> 0 | N38: =N27 -> 0 | O38: =O27 -> 0 | P38: =P5 -> 0 | Q38: =Q27 -> 0 | R38: =R27 -> 0 | S38: =S16 -> 0 | T38: =T27 -> 0 | Y38: =Y27 -> C26LRMT2 | Z38: =Z27 -> C26MT2 | AA38: =AA27 -> C26TKĐH2 | AB38: =AB27 -> C26UDPM2 | AC38: =AC27 -> T26LRMT2 | AD38: =AD27 -> T26MT2 | AE38: =AE27 -> T26TKĐH2 | AF38: =AF27 -> T26UDPM2 | ... AH38: =AH27 -> 0 | AJ38: =AJ5 -> C26DC2-N1 | AK38: =AK5 -> C26DC2-N2 | AL38: =AL27 -> C26TĐH2 | AM38: =AM5 -> T26DC2 | AN38: =AN5 -> T26KTML2-N1 | AO38: =AO5 -> T26KTML2-N2 | AP38: =AP5 -> 0 | AQ38: =AQ5 -> 0 | AR38: =AR5 -> 0 | AS38: =AS27 -> C24KTML-LT | AT38: =AT27 -> C26TP1 | AU38: =AU27 -> T26TP1 | AV38: =AV27 -> C26TP-LT | AX38: =AX27 -> T25TP1 | AY38: =AY27 -> T25TP2 | AZ38: =AZ27 -> C25TP1 | BA38: =BA27 -> C24TP2 | BB38: =BB27 -> 0 | BD38: =BD27 -> C26KT2 | BE38: =BE27 -> C26QTKD2 | BF38: =BF27 -> T26KT2 | BH38: =BH27 -> 0 | BI38: =BI27 -> 0 | BJ38: =BJ27 -> 0 | BK38: =BK27 -> 0 | BL38: =BL27 -> 0 | BP38: THỨ NĂM
B39: SÁNG | C39: 1 | D39: 7h30-8h15 | G39: GDTC | H39: GDTC | I39: PHÁP LUẬT | J39: PHÁP LUẬT | Y39: GDCT | Z39: GDCT | AA39: GDCT | AB39: GDCT | AC39: KỸ NĂNG | AD39: KỸ NĂNG | AE39: KỸ NĂNG | AF39: KỸ NĂNG | AM39: TIẾNG ANH 1 | AN39: TIẾNG ANH 1 | AO39: TIẾNG ANH 1 | AT39: GDCT | AU39: TIẾNG ANH 1 | AV39: THÍ NGHIỆM | BD39: GDCT | BE39: GDCT | BF39: TIẾNG ANH 1 | BM39: 7h00-7h45 | BN39: 1 | BO39: SÁNG
C40: 2 | D40: 8h30-9h15 | AC40: THIẾT YẾU | AD40: THIẾT YẾU | AE40: THIẾT YẾU | AF40: THIẾT YẾU | AV40: HÓA SINH TP | BM40: 7h45-8h30 | BN40: 2
C41: 3 | D41: 9h15-10h00 | BM41: 9h00-9h45 | BN41: 3
...

Sheet Khoa CK OT
A1: T H Ờ I K H Ó A B I Ể U - K H O A C Ơ K H Í Ô T Ô
A2: ÁP DỤNG TỪ NGÀY 12/10/2026 ĐẾN NGÀY 31/10/2026 | K2: =A2 -> ÁP DỤNG TỪ NGÀY 12/10/2026 ĐẾN NGÀY 31/10/2026
A3: LỚP: | C3: ='TONG HOP'!E5 -> C26OTO2-N1 | E3: GVCN: NGÔ TẤN HẢI. SĐT: 0984.410.454 | K3: LỚP: | M3: ='TONG HOP'!F5 -> C26OTO2-N2
A4: Buổi | B4: Tiết | C4: Giờ dạy | D4: THỨ HAI | E4: THỨ BA | F4: THỨ TƯ | G4: THỨ NĂM | H4: THỨ SÁU | I4: THỨ BẢY | K4: Buổi | L4: Tiết | M4: Giờ dạy | N4: THỨ HAI | O4: THỨ BA | P4: THỨ TƯ | Q4: THỨ NĂM | R4: THỨ SÁU | S4: THỨ BẢY
A5: SÁNG | B5: 1 | C5: 7h00-7h45 | D5: ='TONG HOP'!E6 -> DUNG SAI LG | E5: ='TONG HOP'!E17 -> GDCT | F5: ='TONG HOP'!E28 -> KT Ô TÔ | G5: ='TONG HOP'!E39 -> 0 | H5: ='TONG HOP'!E50 -> 0 | I5: ='TONG HOP'!E61 -> 0 | K5: SÁNG | L5: 1 | M5: 7h00-7h45 | N5: ='TONG HOP'!F6 -> DUNG SAI LG | O5: ='TONG HOP'!F17 -> GDCT | P5: ='TONG HOP'!F28 -> KT Ô TÔ | Q5: ='TONG HOP'!F39 -> 0 | R5: ='TONG HOP'!F50 -> 0 | S5: ='TONG HOP'!F61 -> 0
B6: 2 | C6: 7h45-8h30 | D6: ='TONG HOP'!E7 -> VÀ ĐLKT | E6: ='TONG HOP'!E18 -> THAM QUAN | F6: ='TONG HOP'!E29 -> 0 | G6: ='TONG HOP'!E40 -> 0 | H6: ='TONG HOP'!E51 -> 0 | I6: ='TONG HOP'!E62 -> 0 | L6: 2 | M6: 7h45-8h30 | N6: ='TONG HOP'!F7 -> VÀ ĐLKT | O6: ='TONG HOP'!F18 -> THAM QUAN | P6: ='TONG HOP'!F29 -> 0 | Q6: ='TONG HOP'!F40 -> 0 | R6: ='TONG HOP'!F51 -> 0 | S6: ='TONG HOP'!F62 -> 0
B7: 3 | C7: 9h00-9h45 | D7: ='TONG HOP'!E8 -> 0 | E7: ='TONG HOP'!E19 -> THỰC TẾ | F7: ='TONG HOP'!E30 -> 0 | G7: ='TONG HOP'!E41 -> 0 | H7: ='TONG HOP'!E52 -> 0 | I7: ='TONG HOP'!E63 -> 0 | L7: 3 | M7: 9h00-9h45 | N7: ='TONG HOP'!F8 -> 0 | O7: ='TONG HOP'!F19 -> THỰC TẾ | P7: ='TONG HOP'!F30 -> 0 | Q7: ='TONG HOP'!F41 -> 0 | R7: ='TONG HOP'!F52 -> 0 | S7: ='TONG HOP'!F63 -> 0
B8: 4 | C8: 9h45-10h30 | D8: ='TONG HOP'!E9 -> A205 | E8: ='TONG HOP'!E20 -> 0 | F8: ='TONG HOP'!E31 -> A205 | G8: ='TONG HOP'!E42 -> 0 | H8: ='TONG HOP'!E53 -> 0 | I8: ='TONG HOP'!E64 -> 0 | L8: 4 | M8: 9h45-10h30 | N8: ='TONG HOP'!F9 -> A205 | O8: ='TONG HOP'!F20 -> 0 | P8: ='TONG HOP'!F31 -> A205 | Q8: ='TONG HOP'!F42 -> 0 | R8: ='TONG HOP'!F53 -> 0 | S8: ='TONG HOP'!F64 -> 0
B9: 5 | C9: 10h30-11h15(LT) 10h30-11h30(TH) | D9: ='TONG HOP'!E10 -> T.THÔNG | E9: ='TONG HOP'!E21 -> C.THỦY | F9: ='TONG HOP'!E32 -> T.THỊNH | G9: ='TONG HOP'!E43 -> 0 | H9: ='TONG HOP'!E54 -> 0 | I9: ='TONG HOP'!E65 -> 0 | L9: 5 | M9: 10h30-11h15(LT) 10h30-11h30(TH) | N9: ='TONG HOP'!F10 -> T.THÔNG | O9: ='TONG HOP'!F21 -> C.THỦY | P9: ='TONG HOP'!F32 -> T.THỊNH | Q9: ='TONG HOP'!F43 -> 0 | R9: ='TONG HOP'!F54 -> 0 | S9: ='TONG HOP'!F65 -> 0
A10: CHIỀU | B10: 6 | C10: 12h45-13h30 | D10: ='TONG HOP'!E11 -> 0 | E10: ='TONG HOP'!E22 -> GDTC | F10: ='TONG HOP'!E33 -> 0 | G10: ='TONG HOP'!E44 -> TIẾNG ANH 1 | H10: ='TONG HOP'!E55 -> 0 | I10: ='TONG HOP'!E66 -> 0 | K10: CHIỀU | L10: 6 | M10: 12h45-13h30 | N10: ='TONG HOP'!F11 -> 0 | O10: ='TONG HOP'!F22 -> GDTC | P10: ='TONG HOP'!F33 -> BD VÀ SC | Q10: ='TONG HOP'!F44 -> TIẾNG ANH 1 | R10: ='TONG HOP'!F55 -> 0 | S10: ='TONG HOP'!F66 -> 0
B11: 7 | C11: 13h30-14h15 | D11: ='TONG HOP'!E12 -> 0 | E11: ='TONG HOP'!E23 -> 0 | F11: ='TONG HOP'!E34 -> 0 | G11: ='TONG HOP'!E45 -> 0 | H11: ='TONG HOP'!E56 -> 0 | I11: ='TONG HOP'!E67 -> 0 | L11: 7 | M11: 13h30-14h15 | N11: ='TONG HOP'!F12 -> 0 | O11: ='TONG HOP'!F23 -> 0 | P11: ='TONG HOP'!F34 -> CK ĐỘNG CƠ | Q11: ='TONG HOP'!F45 -> 0 | R11: ='TONG HOP'!F56 -> 0 | S11: ='TONG HOP'!F67 -> 0
B12: 8 | C12: 14h45-15h30 | D12: ='TONG HOP'!E13 -> 0 | E12: ='TONG HOP'!E24 -> 0 | F12: ='TONG HOP'!E35 -> 0 | G12: ='TONG HOP'!E46 -> 0 | H12: ='TONG HOP'!E57 -> 0 | I12: ='TONG HOP'!E68 -> 0 | L12: 8 | M12: 14h45-15h30 | N12: ='TONG HOP'!F13 -> 0 | O12: ='TONG HOP'!F24 -> 0 | P12: ='TONG HOP'!F35 -> 0 | Q12: ='TONG HOP'!F46 -> 0 | R12: ='TONG HOP'!F57 -> 0 | S12: ='TONG HOP'!F68 -> 0
B13: 9 | C13: 15h30-16h15 | D13: ='TONG HOP'!E14 -> 0 | E13: ='TONG HOP'!E25 -> NHÀ THI ĐẤU | F13: ='TONG HOP'!E36 -> 0 | G13: ='TONG HOP'!E47 -> A017 | H13: ='TONG HOP'!E58 -> 0 | I13: ='TONG HOP'!E69 -> 0 | L13: 9 | M13: 15h30-16h15 | N13: ='TONG HOP'!F14 -> 0 | O13: ='TONG HOP'!F25 -> NHÀ THI ĐẤU | P13: ='TONG HOP'!F36 -> B004 | Q13: ='TONG HOP'!F47 -> A017 | R13: ='TONG HOP'!F58 -> 0 | S13: ='TONG HOP'!F69 -> 0
B14: 10 | C14: 16h15-17h00(LT) 16h15-17h15(TH) | D14: ='TONG HOP'!E15 -> 0 | E14: ='TONG HOP'!E26 -> T.THANH | F14: ='TONG HOP'!E37 -> 0 | G14: ='TONG HOP'!E48 -> C.DIỆU | H14: ='TONG HOP'!E59 -> 0 | I14: ='TONG HOP'!E70 -> 0 | L14: 10 | M14: 16h15-17h00(LT) 16h15-17h15(TH) | N14: ='TONG HOP'!F15 -> 0 | O14: ='TONG HOP'!F26 -> T.THANH | P14: ='TONG HOP'!F37 -> T.LÂN | Q14: ='TONG HOP'!F48 -> C.DIỆU | R14: ='TONG HOP'!F59 -> 0 | S14: ='TONG HOP'!F70 -> 0
A15: =K2 -> ÁP DỤNG TỪ NGÀY 12/10/2026 ĐẾN NGÀY 31/10/2026 | K15: =A15 -> ÁP DỤNG TỪ NGÀY 12/10/2026 ĐẾN NGÀY 31/10/2026
A16: LỚP: | C16: ='TONG HOP'!G5 -> C26CK2 | K16: LỚP: | M16: ='TONG HOP'!H5 -> C26KTCK2
A17: Buổi | B17: Tiết | C17: Giờ dạy | D17: THỨ HAI | E17: THỨ BA | F17: THỨ TƯ | G17: THỨ NĂM | H17: THỨ SÁU | I17: THỨ BẢY | K17: Buổi | L17: Tiết | M17: Giờ dạy | N17: THỨ HAI | O17: THỨ BA | P17: THỨ TƯ | Q17: THỨ NĂM | R17: THỨ SÁU | S17: THỨ BẢY
A18: SÁNG | B18: 1 | C18: 7h00-7h45 | D18: ='TONG HOP'!G6 -> VẼ KT | E18: ='TONG HOP'!G17 -> TIẾNG ANH 1 | F18: ='TONG HOP'!G28 -> NL CẮT | G18: ='TONG HOP'!G39 -> GDTC | H18: ='TONG HOP'!G50 -> VẼ KT | I18: ='TONG HOP'!G61 -> 0 | K18: SÁNG | L18: 1 | M18: 7h00-7h45 | N18: ='TONG HOP'!H6 -> 0 | O18: ='TONG HOP'!H17 -> TIẾNG ANH 1 | P18: ='TONG HOP'!H28 -> 0 | Q18: ='TONG HOP'!H39 -> GDTC | R18: ='TONG HOP'!H50 -> 0 | S18: ='TONG HOP'!H61 -> 0
B19: 2 | C19: 7h45-8h30 | D19: ='TONG HOP'!G7 -> 0 | E19: ='TONG HOP'!G18 -> 0 | F19: ='TONG HOP'!G29 -> 0 | G19: ='TONG HOP'!G40 -> 0 | H19: ='TONG HOP'!G51 -> 0 | I19: ='TONG HOP'!G62 -> 0 | L19: 2 | M19: 7h45-8h30 | N19: ='TONG HOP'!H7 -> 0 | O19: ='TONG HOP'!H18 -> 0 | P19: ='TONG HOP'!H29 -> 0 | Q19: ='TONG HOP'!H40 -> 0 | R19: ='TONG HOP'!H51 -> 0 | S19: ='TONG HOP'!H62 -> 0
B20: 3 | C20: 9h00-9h45 | D20: ='TONG HOP'!G8 -> 0 | E20: ='TONG HOP'!G19 -> 0 | F20: ='TONG HOP'!G30 -> 0 | G20: ='TONG HOP'!G41 -> 0 | H20: ='TONG HOP'!G52 -> 0 | I20: ='TONG HOP'!G63 -> 0 | L20: 3 | M20: 9h00-9h45 | N20: ='TONG HOP'!H8 -> 0 | O20: ='TONG HOP'!H19 -> 0 | P20: ='TONG HOP'!H30 -> 0 | Q20: ='TONG HOP'!H41 -> 0 | R20: ='TONG HOP'!H52 -> 0 | S20: ='TONG HOP'!H63 -> 0
B21: 4 | C21: 9h45-10h30 | D21: ='TONG HOP'!G9 -> A113 | E21: ='TONG HOP'!G20 -> A110 | F21: ='TONG HOP'!G31 -> A306 | G21: ='TONG HOP'!G42 -> NHÀ THI ĐẤU | H21: ='TONG HOP'!G53 -> A017 | I21: ='TONG HOP'!G64 -> 0 | L21: 4 | M21: 9h45-10h30 | N21: ='TONG HOP'!H9 -> 0 | O21: ='TONG HOP'!H20 -> A110 | P21: ='TONG HOP'!H31 -> 0 | Q21: ='TONG HOP'!H42 -> NHÀ THI ĐẤU | R21: ='TONG HOP'!H53 -> 0 | S21: ='TONG HOP'!H64 -> 0
B22: 5 | C22: 10h30-11h15(LT) 10h30-11h30(TH) | D22: ='TONG HOP'!G10 -> T.HOÀNG | E22: ='TONG HOP'!G21 -> C.PHƯƠNG | F22: ='TONG HOP'!G32 -> T.LONG | G22: ='TONG HOP'!G43 -> T.THANH | H22: ='TONG HOP'!G54 -> T.HOÀNG | I22: ='TONG HOP'!G65 -> 0 | L22: 5 | M22: 10h30-11h15(LT) 10h30-11h30(TH) | N22: ='TONG HOP'!H10 -> 0 | O22: ='TONG HOP'!H21 -> C.PHƯƠNG | P22: ='TONG HOP'!H32 -> 0 | Q22: ='TONG HOP'!H43 -> T.THANH | R22: ='TONG HOP'!H54 -> 0 | S22: ='TONG HOP'!H65 -> 0
A23: CHIỀU | B23: 6 | C23: 12h45-13h30 | D23: ='TONG HOP'!G11 -> 0 | E23: ='TONG HOP'!G22 -> 0 | F23: ='TONG HOP'!G33 -> 0 | G23: ='TONG HOP'!G44 -> GDCT | H23: ='TONG HOP'!G55 -> 0 | I23: ='TONG HOP'!G66 -> 0 | K23: CHIỀU | L23: 6 | M23: 12h45-13h30 | N23: ='TONG HOP'!H11 -> VẼ KT | O23: ='TONG HOP'!H22 -> 0 | P23: ='TONG HOP'!H33 -> NL CẮT | Q23: ='TONG HOP'!H44 -> GDCT | R23: ='TONG HOP'!H55 -> VẼ KT | S23: ='TONG HOP'!H66 -> 0
B24: 7 | C24: 13h30-14h15 | D24: ='TONG HOP'!G12 -> 0 | E24: ='TONG HOP'!G23 -> 0 | F24: ='TONG HOP'!G34 -> 0 | G24: ='TONG HOP'!G45 -> 0 | H24: ='TONG HOP'!G56 -> 0 | I24: ='TONG HOP'!G67 -> 0 | L24: 7 | M24: 13h30-14h15 | N24: ='TONG HOP'!H12 -> 0 | O24: ='TONG HOP'!H23 -> 0 | P24: ='TONG HOP'!H34 -> 0 | Q24: ='TONG HOP'!H45 -> 0 | R24: ='TONG HOP'!H56 -> 0 | S24: ='TONG HOP'!H67 -> 0
B25: 8 | C25: 14h45-15h30 | D25: ='TONG HOP'!G13 -> 0 | E25: ='TONG HOP'!G24 -> 0 | F25: ='TONG HOP'!G35 -> 0 | G25: ='TONG HOP'!G46 -> 0 | H25: ='TONG HOP'!G57 -> 0 | I25: ='TONG HOP'!G68 -> 0 | L25: 8 | M25: 14h45-15h30 | N25: ='TONG HOP'!H13 -> 0 | O25: ='TONG HOP'!H24 -> 0 | P25: ='TONG HOP'!H35 -> 0 | Q25: ='TONG HOP'!H46 -> 0 | R25: ='TONG HOP'!H57 -> 0 | S25: ='TONG HOP'!H68 -> 0
B26: 9 | C26: 15h30-16h15 | D26: ='TONG HOP'!G14 -> 0 | E26: ='TONG HOP'!G25 -> 0 | F26: ='TONG HOP'!G36 -> 0 | G26: ='TONG HOP'!G47 -> A018 | H26: ='TONG HOP'!G58 -> 0 | I26: ='TONG HOP'!G69 -> 0 | L26: 9 | M26: 15h30-16h15 | N26: ='TONG HOP'!H14 -> A018 | O26: ='TONG HOP'!H25 -> 0 | P26: ='TONG HOP'!H36 -> A018 | Q26: ='TONG HOP'!H47 -> A018 | R26: ='TONG HOP'!H58 -> A018 | S26: ='TONG HOP'!H69 -> 0
B27: 10 | C27: 16h15-17h00(LT) 16h15-17h15(TH) | D27: ='TONG HOP'!G15 -> 0 | E27: ='TONG HOP'!G26 -> 0 | F27: ='TONG HOP'!G37 -> 0 | G27: ='TONG HOP'!G48 -> C.NGUYÊN | H27: ='TONG HOP'!G59 -> 0 | I27: ='TONG HOP'!G70 -> 0 | L27: 10 | M27: 16h15-17h00(LT) 16h15-17h15(TH) | N27: ='TONG HOP'!H15 -> T.HOÀNG | O27: ='TONG HOP'!H26 -> 0 | P27: ='TONG HOP'!H37 -> T.LONG | Q27: ='TONG HOP'!H48 -> C.NGUYÊN | R27: ='TONG HOP'!H59 -> T.HOÀNG | S27: ='TONG HOP'!H70 -> 0
A28: =A2 -> ÁP DỤNG TỪ NGÀY 12/10/2026 ĐẾN NGÀY 31/10/2026 | K28: =A28 -> ÁP DỤNG TỪ NGÀY 12/10/2026 ĐẾN NGÀY 31/10/2026
A29: LỚP: | C29: ='TONG HOP'!I5 -> T26OTO2 | E29: GVCN: LÊ LÂN. SĐT: | M29: ='TONG HOP'!J5 -> T26CK2
A30: Buổi | B30: Tiết | C30: Giờ dạy | D30: THỨ HAI | E30: THỨ BA | F30: THỨ TƯ | G30: THỨ NĂM | H30: THỨ SÁU | I30: THỨ BẢY | K30: Buổi | L30: Tiết | M30: Giờ dạy | N30: THỨ HAI | O30: THỨ BA | P30: THỨ TƯ | Q30: THỨ NĂM | R30: THỨ SÁU | S30: THỨ BẢY
A31: SÁNG | B31: 1 | C31: 7h00-7h45 | D31: ='TONG HOP'!I6 -> 0 | E31: ='TONG HOP'!I17 -> TIẾNG ANH 1 | F31: ='TONG HOP'!I28 -> KT Ô TÔ | G31: ='TONG HOP'!I39 -> PHÁP LUẬT | H31: ='TONG HOP'!I50 -> 0 | I31: ='TONG HOP'!I61 -> VẼ KT | K31: SÁNG | L31: 1 | M31: 7h00-7h45 | N31: ='TONG HOP'!J6 -> BV MT- ATLĐ | O31: ='TONG HOP'!J17 -> TIẾNG ANH 1 | P31: ='TONG HOP'!J28 -> VẬT LIỆU CK | Q31: ='TONG HOP'!J39 -> PHÁP LUẬT | R31: ='TONG HOP'!J50 -> NL CẮT | S31: ='TONG HOP'!J61 -> 0
B32: 2 | C32: 7h45-8h30 | D32: ='TONG HOP'!I7 -> 0 | E32: ='TONG HOP'!I18 -> 0 | F32: ='TONG HOP'!I29 -> 0 | G32: ='TONG HOP'!I40 -> 0 | H32: ='TONG HOP'!I51 -> 0 | I32: ='TONG HOP'!I62 -> 0 | L32: 2 | M32: 7h45-8h30 | N32: ='TONG HOP'!J7 -> VÀ VS CN | O32: ='TONG HOP'!J18 -> 0 | P32: ='TONG HOP'!J29 -> 0 | Q32: ='TONG HOP'!J40 -> 0 | R32: ='TONG HOP'!J51 -> 0 | S32: ='TONG HOP'!J62 -> 0
B33: 3 | C33: 9h00-9h45 | D33: ='TONG HOP'!I8 -> 0 | E33: ='TONG HOP'!I19 -> 0 | F33: ='TONG HOP'!I30 -> 0 | G33: ='TONG HOP'!I41 -> 0 | H33: ='TONG HOP'!I52 -> 0 | I33: ='TONG HOP'!I63 -> 0 | L33: 3 | M33: 9h00-9h45 | N33: ='TONG HOP'!J8 -> 0 | O33: ='TONG HOP'!J19 -> 0 | P33: ='TONG HOP'!J30 -> 0 | Q33: ='TONG HOP'!J41 -> 0 | R33: ='TONG HOP'!J52 -> 0 | S33: ='TONG HOP'!J63 -> 0
B34: 4 | C34: 9h45-10h30 | D34: ='TONG HOP'!I9 -> 0 | E34: ='TONG HOP'!I20 -> A017 | F34: ='TONG HOP'!I31 -> A306 | G34: ='TONG HOP'!I42 -> A017 | H34: ='TONG HOP'!I53 -> 0 | I34: ='TONG HOP'!I64 -> A110 | L34: 4 | M34: 9h45-10h30 | N34: ='TONG HOP'!J9 -> A306 | O34: ='TONG HOP'!J20 -> A017 | P34: ='TONG HOP'!J31 -> A206 | Q34: ='TONG HOP'!J42 -> A017 | R34: ='TONG HOP'!J53 -> A307 | S34: ='TONG HOP'!J64 -> 0
B35: 5 | C35: 10h30-11h15(LT) 10h30-11h30(TH) | D35: ='TONG HOP'!I10 -> 0 | E35: ='TONG HOP'!I21 -> C.DIỆU | F35: ='TONG HOP'!I32 -> T.LÂN | G35: ='TONG HOP'!I43 -> C.HỒNG | H35: ='TONG HOP'!I54 -> 0 | I35: ='TONG HOP'!I65 -> T.LONG | L35: 5 | M35: 10h30-11h15(LT) 10h30-11h30(TH) | N35: ='TONG HOP'!J10 -> T.NGHI | O35: ='TONG HOP'!J21 -> C.DIỆU | P35: ='TONG HOP'!J32 -> T.TRƯƠNG | Q35: ='TONG HOP'!J43 -> C.HỒNG | R35: ='TONG HOP'!J54 -> T.LONG | S35: ='TONG HOP'!J65 -> 0
A36: CHIỀU | B36: 6 | C36: 12h45-13h30 | D36: ='TONG HOP'!I11 -> HỌC VĂN HÓA | E36: ='TONG HOP'!I22 -> HỌC VĂN HÓA | F36: ='TONG HOP'!I33 -> HỌC VĂN HÓA | G36: ='TONG HOP'!I44 -> HỌC VĂN HÓA | H36: ='TONG HOP'!I55 -> HỌC VĂN HÓA | I36: ='TONG HOP'!I66 -> 0 | K36: TỐI | L36: 11 | M36: 12h45-13h30 | N36: ='TONG HOP'!J11 -> HỌC VĂN HÓA | O36: ='TONG HOP'!J22 -> HỌC VĂN HÓA | P36: ='TONG HOP'!J33 -> HỌC VĂN HÓA | Q36: ='TONG HOP'!J44 -> HỌC VĂN HÓA | R36: ='TONG HOP'!J55 -> HỌC VĂN HÓA | S36: ='TONG HOP'!J66 -> 0
B37: 7 | C37: 13h30-14h15 | D37: ='TONG HOP'!I12 -> THEO TKB TTGDTX | E37: ='TONG HOP'!I23 -> THEO TKB TTGDTX | F37: ='TONG HOP'!I34 -> THEO TKB TTGDTX | G37: ='TONG HOP'!I45 -> THEO TKB TTGDTX | H37: ='TONG HOP'!I56 -> THEO TKB TTGDTX | I37: ='TONG HOP'!I67 -> 0 | L37: 12 | M37: 13h30-14h15 | N37: ='TONG HOP'!J12 -> THEO TKB TTGDTX | O37: ='TONG HOP'!J23 -> THEO TKB TTGDTX | P37: ='TONG HOP'!J34 -> THEO TKB TTGDTX | Q37: ='TONG HOP'!J45 -> THEO TKB TTGDTX | R37: ='TONG HOP'!J56 -> THEO TKB TTGDTX | S37: ='TONG HOP'!J67 -> 0
B38: 8 | C38: 14h45-15h30 | D38: ='TONG HOP'!I13 -> QUẬN 1 | E38: ='TONG HOP'!I24 -> QUẬN 1 | F38: ='TONG HOP'!I35 -> QUẬN 1 | G38: ='TONG HOP'!I46 -> QUẬN 1 | H38: ='TONG HOP'!I57 -> QUẬN 1 | I38: ='TONG HOP'!I68 -> 0 | L38: 13 | M38: 14h45-15h30 | N38: ='TONG HOP'!J13 -> QUẬN 1 | O38: ='TONG HOP'!J24 -> QUẬN 1 | P38: ='TONG HOP'!J35 -> QUẬN 1 | Q38: ='TONG HOP'!J46 -> QUẬN 1 | R38: ='TONG HOP'!J57 -> QUẬN 1 | S38: ='TONG HOP'!J68 -> 0
B39: 9 | C39: 15h30-16h15 | D39: ='TONG HOP'!I14 -> 0 | E39: ='TONG HOP'!I25 -> 0 | F39: ='TONG HOP'!I36 -> 0 | G39: ='TONG HOP'!I47 -> 0 | H39: ='TONG HOP'!I58 -> 0 | I39: ='TONG HOP'!I69 -> 0 | L39: 14 | M39: 15h30-16h15 | N39: ='TONG HOP'!J14 -> 0 | O39: ='TONG HOP'!J25 -> 0 | P39: ='TONG HOP'!J36 -> 0 | Q39: ='TONG HOP'!J47 -> 0 | R39: ='TONG HOP'!J58 -> 0 | S39: ='TONG HOP'!J69 -> 0
B40: 10 | C40: 16h15-17h00(LT) 16h15-17h15(TH) | D40: ='TONG HOP'!I15 -> 0 | E40: ='TONG HOP'!I26 -> 0 | F40: ='TONG HOP'!I37 -> 0 | G40: ='TONG HOP'!I48 -> 0 | H40: ='TONG HOP'!I59 -> 0 | I40: ='TONG HOP'!I70 -> 0 | M40: 16h15-17h00(LT) 16h15-17h15(TH) | N40: ='TONG HOP'!J15 -> 0 | O40: ='TONG HOP'!J26 -> 0 | P40: ='TONG HOP'!J37 -> 0 | Q40: ='TONG HOP'!J48 -> 0 | R40: ='TONG HOP'!J59 -> 0 | S40: ='TONG HOP'!J70 -> 0
...

Sheet Khoa CNTT
A1: T H Ờ I K H Ó A B I Ể U - K H O A C ÔNG NGHỆ THÔNG TIN
A2: ='Khoa CK OT'!A2:I2 -> ÁP DỤNG TỪ NGÀY 12/10/2026 ĐẾN NGÀY 31/10/2026 | L2: =A2 -> ÁP DỤNG TỪ NGÀY 12/10/2026 ĐẾN NGÀY 31/10/2026
A3: LỚP: | C3: ='TONG HOP'!Y5 -> C26LRMT2 | L3: LỚP: | N3: ='TONG HOP'!Z5 -> C26MT2
A4: Buổi | B4: Tiết | C4: Giờ dạy | D4: THỨ HAI | E4: THỨ BA | F4: THỨ TƯ | G4: THỨ NĂM | H4: THỨ SÁU | I4: THỨ BẢY | J4: CHỦ NHẬT | L4: Buổi | M4: Tiết | N4: Giờ dạy | O4: THỨ HAI | P4: THỨ BA | Q4: THỨ TƯ | R4: THỨ NĂM | S4: THỨ SÁU | T4: THỨ BẢY | U4: CHỦ NHẬT
A5: SÁNG | B5: 1 | C5: 7h00-7h45 | D5: ='TONG HOP'!Y6 -> 0 | E5: ='TONG HOP'!Y17 -> GDTC | F5: ='TONG HOP'!Y28 -> 0 | G5: ='TONG HOP'!Y39 -> GDCT | H5: ='TONG HOP'!Y50 -> 0 | I5: ='TONG HOP'!Y61 -> 0 | L5: SÁNG | M5: 1 | N5: 7h00-7h45 | O5: ='TONG HOP'!Z6 -> 0 | P5: ='TONG HOP'!Z17 -> GDTC | Q5: ='TONG HOP'!Z28 -> 0 | R5: ='TONG HOP'!Z39 -> GDCT | S5: ='TONG HOP'!Z50 -> 0 | T5: ='TONG HOP'!Z61 -> 0
B6: 2 | C6: 7h45-8h30 | D6: ='TONG HOP'!Y7 -> 0 | E6: ='TONG HOP'!Y18 -> 0 | F6: ='TONG HOP'!Z29 -> 0 | G6: ='TONG HOP'!Y40 -> 0 | H6: ='TONG HOP'!Y51 -> 0 | I6: ='TONG HOP'!Y62 -> 0 | M6: 2 | N6: 7h45-8h30 | O6: ='TONG HOP'!Z7 -> 0 | P6: ='TONG HOP'!Z18 -> 0 | Q6: ='TONG HOP'!Z29 -> 0 | R6: ='TONG HOP'!Z40 -> 0 | S6: ='TONG HOP'!Z51 -> 0 | T6: ='TONG HOP'!Z62 -> 0
B7: 3 | C7: 9h00-9h45 | D7: ='TONG HOP'!Y8 -> 0 | E7: ='TONG HOP'!Y19 -> 0 | F7: ='TONG HOP'!Z30 -> 0 | G7: ='TONG HOP'!Y41 -> 0 | H7: ='TONG HOP'!Y52 -> 0 | I7: ='TONG HOP'!Y63 -> 0 | M7: 3 | N7: 9h00-9h45 | O7: ='TONG HOP'!Z8 -> 0 | P7: ='TONG HOP'!Z19 -> 0 | Q7: ='TONG HOP'!Z30 -> 0 | R7: ='TONG HOP'!Z41 -> 0 | S7: ='TONG HOP'!Z52 -> 0 | T7: ='TONG HOP'!Z63 -> 0
B8: 4 | C8: 9h45-10h30 | D8: ='TONG HOP'!Y9 -> 0 | E8: ='TONG HOP'!Y20 -> NHÀ THI ĐẤU | F8: ='TONG HOP'!Z31 -> 0 | G8: ='TONG HOP'!Y42 -> A110 | H8: ='TONG HOP'!Y53 -> 0 | I8: ='TONG HOP'!Y64 -> 0 | M8: 4 | N8: 9h45-10h30 | O8: ='TONG HOP'!Z9 -> 0 | P8: ='TONG HOP'!Z20 -> NHÀ THI ĐẤU | Q8: ='TONG HOP'!Z31 -> 0 | R8: ='TONG HOP'!Z42 -> A110 | S8: ='TONG HOP'!Z53 -> 0 | T8: ='TONG HOP'!Z64 -> 0
B9: 5 | C9: 10h30-11h15(LT) 10h30-11h30(TH) | D9: ='TONG HOP'!Y10 -> 0 | E9: ='TONG HOP'!Y21 -> T.THANH | F9: ='TONG HOP'!Z32 -> 0 | G9: ='TONG HOP'!Y43 -> C.THỦY | H9: ='TONG HOP'!Y54 -> 0 | I9: ='TONG HOP'!Y65 -> 0 | M9: 5 | N9: 10h30-11h15(LT) 10h30-11h30(TH) | O9: ='TONG HOP'!Z10 -> 0 | P9: ='TONG HOP'!Z21 -> T.THANH | Q9: ='TONG HOP'!Z32 -> 0 | R9: ='TONG HOP'!Z43 -> C.THỦY | S9: ='TONG HOP'!Z54 -> 0 | T9: ='TONG HOP'!Z65 -> 0
A10: CHIỀU | B10: 6 | C10: 12h45-13h30 | D10: ='TONG HOP'!Y11 -> 0 | E10: ='TONG HOP'!Y22 -> TIẾNG ANH 1 | F10: ='TONG HOP'!Z33 -> 0 | G10: ='TONG HOP'!Y44 -> 0 | H10: ='TONG HOP'!Y55 -> 0 | I10: ='TONG HOP'!Y66 -> 0 | L10: CHIỀU | M10: 6 | N10: 12h45-13h30 | O10: ='TONG HOP'!Z11 -> 0 | P10: ='TONG HOP'!Z6 -> 0 | Q10: ='TONG HOP'!Z33 -> 0 | R10: ='TONG HOP'!Z44 -> 0 | S10: ='TONG HOP'!Z55 -> 0 | T10: ='TONG HOP'!Z66 -> 0
B11: 7 | C11: 13h30-14h15 | D11: ='TONG HOP'!Y12 -> 0 | E11: ='TONG HOP'!Y23 -> 0 | F11: ='TONG HOP'!Z34 -> 0 | G11: ='TONG HOP'!Y45 -> 0 | H11: ='TONG HOP'!Y56 -> 0 | I11: ='TONG HOP'!Y67 -> 0 | M11: 7 | N11: 13h30-14h15 | O11: ='TONG HOP'!Z12 -> 0 | P11: ='TONG HOP'!Z7 -> 0 | Q11: ='TONG HOP'!Z34 -> 0 | R11: ='TONG HOP'!Z45 -> 0 | S11: ='TONG HOP'!Z56 -> 0 | T11: ='TONG HOP'!Z67 -> 0
B12: 8 | C12: 14h45-15h30 | D12: ='TONG HOP'!Y13 -> 0 | E12: ='TONG HOP'!Y24 -> 0 | F12: ='TONG HOP'!Z35 -> 0 | G12: ='TONG HOP'!Y46 -> 0 | H12: ='TONG HOP'!Y57 -> 0 | I12: ='TONG HOP'!Y68 -> 0 | M12: 8 | N12: 14h45-15h30 | O12: ='TONG HOP'!Z13 -> 0 | P12: ='TONG HOP'!Z8 -> 0 | Q12: ='TONG HOP'!Z35 -> 0 | R12: ='TONG HOP'!Z46 -> 0 | S12: ='TONG HOP'!Z57 -> 0 | T12: ='TONG HOP'!Z68 -> 0
B13: 9 | C13: 15h30-16h15 | D13: ='TONG HOP'!Y14 -> 0 | E13: ='TONG HOP'!Y25 -> A018 | F13: ='TONG HOP'!Z36 -> 0 | G13: ='TONG HOP'!Y47 -> 0 | H13: ='TONG HOP'!Y58 -> 0 | I13: ='TONG HOP'!Y69 -> 0 | M13: 9 | N13: 15h30-16h15 | O13: ='TONG HOP'!Z14 -> 0 | P13: ='TONG HOP'!Z9 -> 0 | Q13: ='TONG HOP'!Z36 -> 0 | R13: ='TONG HOP'!Z47 -> 0 | S13: ='TONG HOP'!Z58 -> 0 | T13: ='TONG HOP'!Z69 -> 0
B14: 10 | C14: 16h15-17h00(LT) 16h15-17h15(TH) | D14: ='TONG HOP'!Y15 -> 0 | E14: ='TONG HOP'!Y26 -> C.DIỆU | F14: ='TONG HOP'!Z37 -> 0 | G14: ='TONG HOP'!Y48 -> 0 | H14: ='TONG HOP'!Y59 -> 0 | I14: ='TONG HOP'!Y70 -> 0 | M14: 10 | N14: 16h15-17h00(LT) 16h15-17h15(TH) | O14: ='TONG HOP'!Z15 -> 0 | P14: ='TONG HOP'!Z10 -> 0 | Q14: ='TONG HOP'!Z37 -> 0 | R14: ='TONG HOP'!Z48 -> 0 | S14: ='TONG HOP'!Z59 -> 0 | T14: ='TONG HOP'!Z70 -> 0
A15: =A2 -> ÁP DỤNG TỪ NGÀY 12/10/2026 ĐẾN NGÀY 31/10/2026 | L15: =A15 -> ÁP DỤNG TỪ NGÀY 12/10/2026 ĐẾN NGÀY 31/10/2026
A16: LỚP: | C16: ='TONG HOP'!AA5 -> C26TKĐH2 | L16: LỚP: | N16: ='TONG HOP'!AB5 -> C26UDPM2
A17: Buổi | B17: Tiết | C17: Giờ dạy | D17: THỨ HAI | E17: THỨ BA | F17: THỨ TƯ | G17: THỨ NĂM | H17: THỨ SÁU | I17: THỨ BẢY | J17: CHỦ NHẬT | L17: Buổi | M17: Tiết | N17: Giờ dạy | O17: THỨ HAI | P17: THỨ BA | Q17: THỨ TƯ | R17: THỨ NĂM | S17: THỨ SÁU | T17: THỨ BẢY | U17: CHỦ NHẬT
A18: SÁNG | B18: 1 | C18: 7h00-7h45 | D18: ='TONG HOP'!AA6 -> 0 | E18: ='TONG HOP'!AA17 -> GDTC | F18: ='TONG HOP'!AA28 -> 0 | G18: ='TONG HOP'!AA39 -> GDCT | H18: ='TONG HOP'!AA50 -> 0 | I18: ='TONG HOP'!AA61 -> 0 | L18: SÁNG | M18: 1 | N18: 7h00-7h45 | O18: ='TONG HOP'!AB6 -> 0 | P18: ='TONG HOP'!AB17 -> GDTC | Q18: ='TONG HOP'!AB28 -> 0 | R18: ='TONG HOP'!AB39 -> GDCT | S18: ='TONG HOP'!AB50 -> 0 | T18: ='TONG HOP'!AB61 -> 0
B19: 2 | C19: 7h45-8h30 | D19: ='TONG HOP'!AA7 -> 0 | E19: ='TONG HOP'!AA18 -> 0 | F19: ='TONG HOP'!AA29 -> 0 | G19: ='TONG HOP'!AA40 -> 0 | H19: ='TONG HOP'!AA51 -> 0 | I19: ='TONG HOP'!AA62 -> 0 | M19: 2 | N19: 7h45-8h30 | O19: ='TONG HOP'!AB7 -> 0 | P19: ='TONG HOP'!AB18 -> 0 | Q19: ='TONG HOP'!AB29 -> 0 | R19: ='TONG HOP'!AB40 -> 0 | S19: ='TONG HOP'!AB51 -> 0 | T19: ='TONG HOP'!AB62 -> 0
B20: 3 | C20: 9h00-9h45 | D20: ='TONG HOP'!AA8 -> 0 | E20: ='TONG HOP'!AA19 -> 0 | F20: ='TONG HOP'!AA30 -> 0 | G20: ='TONG HOP'!AA41 -> 0 | H20: ='TONG HOP'!AA52 -> 0 | I20: ='TONG HOP'!AA63 -> 0 | M20: 3 | N20: 9h00-9h45 | O20: ='TONG HOP'!AB8 -> 0 | P20: ='TONG HOP'!AB19 -> 0 | Q20: ='TONG HOP'!AB30 -> 0 | R20: ='TONG HOP'!AB41 -> 0 | S20: ='TONG HOP'!AB52 -> 0 | T20: ='TONG HOP'!AB63 -> 0
B21: 4 | C21: 9h45-10h30 | D21: ='TONG HOP'!AA9 -> 0 | E21: ='TONG HOP'!AA20 -> NHÀ THI ĐẤU | F21: ='TONG HOP'!AA31 -> 0 | G21: ='TONG HOP'!AA42 -> A110 | H21: ='TONG HOP'!AA53 -> 0 | I21: ='TONG HOP'!AA64 -> 0 | M21: 4 | N21: 9h45-10h30 | O21: ='TONG HOP'!AB9 -> 0 | P21: ='TONG HOP'!AB20 -> NHÀ THI ĐẤU | Q21: ='TONG HOP'!AB31 -> 0 | R21: ='TONG HOP'!AB42 -> A110 | S21: ='TONG HOP'!AB53 -> 0 | T21: ='TONG HOP'!AB64 -> 0
B22: 5 | C22: 10h30-11h15(LT) 10h30-11h30(TH) | D22: ='TONG HOP'!AA10 -> 0 | E22: ='TONG HOP'!AA21 -> T.THANH | F22: ='TONG HOP'!AA32 -> 0 | G22: ='TONG HOP'!AA43 -> C.THỦY | H22: ='TONG HOP'!AA54 -> 0 | I22: ='TONG HOP'!AA65 -> 0 | M22: 5 | N22: 10h30-11h15(LT) 10h30-11h30(TH) | O22: ='TONG HOP'!AB10 -> 0 | P22: ='TONG HOP'!AB21 -> T.THANH | Q22: ='TONG HOP'!AB32 -> 0 | R22: ='TONG HOP'!AB43 -> C.THỦY | S22: ='TONG HOP'!AB54 -> 0 | T22: ='TONG HOP'!AB65 -> 0
A23: CHIỀU | B23: 6 | C23: 12h45-13h30 | D23: ='TONG HOP'!AA11 -> 0 | E23: ='TONG HOP'!AA22 -> TIẾNG ANH 1 | F23: ='TONG HOP'!AA33 -> 0 | G23: ='TONG HOP'!AA44 -> 0 | H23: ='TONG HOP'!AA55 -> 0 | I23: ='TONG HOP'!AA66 -> 0 | L23: CHIỀU | M23: 6 | N23: 12h45-13h30 | O23: ='TONG HOP'!AB11 -> 0 | P23: ='TONG HOP'!AB22 -> TIẾNG ANH 1 | Q23: ='TONG HOP'!AB33 -> 0 | R23: ='TONG HOP'!AB44 -> 0 | S23: ='TONG HOP'!AB55 -> 0 | T23: ='TONG HOP'!AB66 -> 0
B24: 7 | C24: 13h30-14h15 | D24: ='TONG HOP'!AA12 -> 0 | E24: ='TONG HOP'!AA23 -> 0 | F24: ='TONG HOP'!AA34 -> 0 | G24: ='TONG HOP'!AA45 -> 0 | H24: ='TONG HOP'!AA56 -> 0 | I24: ='TONG HOP'!AA67 -> 0 | M24: 7 | N24: 13h30-14h15 | O24: ='TONG HOP'!AB12 -> 0 | P24: ='TONG HOP'!AB23 -> 0 | Q24: ='TONG HOP'!AB34 -> 0 | R24: ='TONG HOP'!AB45 -> 0 | S24: ='TONG HOP'!AB56 -> 0 | T24: ='TONG HOP'!AB67 -> 0
B25: 8 | C25: 14h45-15h30 | D25: ='TONG HOP'!AA13 -> 0 | E25: ='TONG HOP'!AA24 -> 0 | F25: ='TONG HOP'!AA35 -> 0 | G25: ='TONG HOP'!AA46 -> 0 | H25: ='TONG HOP'!AA57 -> 0 | I25: ='TONG HOP'!AA68 -> 0 | M25: 8 | N25: 14h45-15h30 | O25: ='TONG HOP'!AB13 -> 0 | P25: ='TONG HOP'!AB24 -> 0 | Q25: ='TONG HOP'!AB35 -> 0 | R25: ='TONG HOP'!AB46 -> 0 | S25: ='TONG HOP'!AB57 -> 0 | T25: ='TONG HOP'!AB68 -> 0
B26: 9 | C26: 15h30-16h15 | D26: ='TONG HOP'!AA14 -> 0 | E26: ='TONG HOP'!AA25 -> A018 | F26: ='TONG HOP'!AA36 -> 0 | G26: ='TONG HOP'!AA47 -> 0 | H26: ='TONG HOP'!AA58 -> 0 | I26: ='TONG HOP'!AA69 -> 0 | M26: 9 | N26: 15h30-16h15 | O26: ='TONG HOP'!AB14 -> 0 | P26: ='TONG HOP'!AB25 -> A018 | Q26: ='TONG HOP'!AB36 -> 0 | R26: ='TONG HOP'!AB47 -> 0 | S26: ='TONG HOP'!AB58 -> 0 | T26: ='TONG HOP'!AB69 -> 0
B27: 10 | C27: 16h15-17h00(LT) 16h15-17h15(TH) | D27: ='TONG HOP'!AA15 -> 0 | E27: ='TONG HOP'!AA26 -> C.DIỆU | F27: ='TONG HOP'!AA37 -> 0 | G27: ='TONG HOP'!AA48 -> 0 | H27: ='TONG HOP'!AA59 -> 0 | I27: ='TONG HOP'!AA70 -> 0 | M27: 10 | N27: 16h15-17h00(LT) 16h15-17h15(TH) | O27: ='TONG HOP'!AB15 -> 0 | P27: ='TONG HOP'!AB26 -> C.DIỆU | Q27: ='TONG HOP'!AB37 -> 0 | R27: ='TONG HOP'!AB48 -> 0 | S27: ='TONG HOP'!AB59 -> 0 | T27: ='TONG HOP'!AB70 -> 0
A28: =A15 -> ÁP DỤNG TỪ NGÀY 12/10/2026 ĐẾN NGÀY 31/10/2026 | L28: =A28 -> ÁP DỤNG TỪ NGÀY 12/10/2026 ĐẾN NGÀY 31/10/2026
A29: LỚP: | C29: ='TONG HOP'!AC5 -> T26LRMT2 | L29: LỚP: | N29: ='TONG HOP'!AD5 -> T26MT2
A30: Buổi | B30: Tiết | C30: Giờ dạy | D30: THỨ HAI | E30: THỨ BA | F30: THỨ TƯ | G30: THỨ NĂM | H30: THỨ SÁU | I30: THỨ BẢY | J30: CHỦ NHẬT | L30: Buổi | M30: Tiết | N30: Giờ dạy | O30: THỨ HAI | P30: THỨ BA | Q30: THỨ TƯ | R30: THỨ NĂM | S30: THỨ SÁU | T30: THỨ BẢY | U30: CHỦ NHẬT
A31: SÁNG | B31: 1 | C31: 7h00-7h45 | D31: ='TONG HOP'!AC6 -> 0 | E31: ='TONG HOP'!AC17 -> TIẾNG ANH 1 | F31: ='TONG HOP'!AC28 -> 0 | G31: ='TONG HOP'!AC39 -> KỸ NĂNG | H31: ='TONG HOP'!AC50 -> 0 | I31: ='TONG HOP'!AC61 -> 0 | L31: SÁNG | M31: 1 | N31: 7h00-7h45 | O31: ='TONG HOP'!AD6 -> 0 | P31: ='TONG HOP'!AD17 -> TIẾNG ANH 1 | Q31: ='TONG HOP'!AD28 -> 0 | R31: ='TONG HOP'!AD39 -> KỸ NĂNG | S31: ='TONG HOP'!AD50 -> 0 | T31: ='TONG HOP'!AD61 -> 0
B32: 2 | C32: 7h45-8h30 | D32: ='TONG HOP'!AC7 -> 0 | E32: ='TONG HOP'!AC18 -> 0 | F32: ='TONG HOP'!AC29 -> 0 | G32: ='TONG HOP'!AC40 -> THIẾT YẾU | H32: ='TONG HOP'!AC51 -> 0 | I32: ='TONG HOP'!AC62 -> 0 | M32: 2 | N32: 7h45-8h30 | O32: ='TONG HOP'!AD7 -> 0 | P32: ='TONG HOP'!AD18 -> 0 | Q32: ='TONG HOP'!AD29 -> 0 | R32: ='TONG HOP'!AD40 -> THIẾT YẾU | S32: ='TONG HOP'!AD51 -> 0 | T32: ='TONG HOP'!AD62 -> 0
B33: 3 | C33: 9h00-9h45 | D33: ='TONG HOP'!AC8 -> 0 | E33: ='TONG HOP'!AC19 -> 0 | F33: ='TONG HOP'!AC30 -> 0 | G33: ='TONG HOP'!AC41 -> 0 | H33: ='TONG HOP'!AC52 -> 0 | I33: ='TONG HOP'!AC63 -> 0 | M33: 3 | N33: 9h00-9h45 | O33: ='TONG HOP'!AD8 -> 0 | P33: ='TONG HOP'!AD19 -> 0 | Q33: ='TONG HOP'!AD30 -> 0 | R33: ='TONG HOP'!AD41 -> 0 | S33: ='TONG HOP'!AD52 -> 0 | T33: ='TONG HOP'!AD63 -> 0
B34: 4 | C34: 9h45-10h30 | D34: ='TONG HOP'!AC9 -> 0 | E34: ='TONG HOP'!AC20 -> A018 | F34: ='TONG HOP'!AC31 -> 0 | G34: ='TONG HOP'!AC42 -> A111 | H34: ='TONG HOP'!AC53 -> 0 | I34: ='TONG HOP'!AC64 -> 0 | M34: 4 | N34: 9h45-10h30 | O34: ='TONG HOP'!AD9 -> 0 | P34: ='TONG HOP'!AD20 -> A018 | Q34: ='TONG HOP'!AD31 -> 0 | R34: ='TONG HOP'!AD42 -> A111 | S34: ='TONG HOP'!AD53 -> 0 | T34: ='TONG HOP'!AD64 -> 0
B35: 5 | C35: 10h30-11h15(LT) 10h30-11h30(TH) | D35: ='TONG HOP'!AC10 -> 0 | E35: ='TONG HOP'!AC21 -> T.HOÀNG | F35: ='TONG HOP'!AC32 -> 0 | G35: ='TONG HOP'!AC43 -> C.CHIÊU LINH | H35: ='TONG HOP'!AC54 -> 0 | I35: ='TONG HOP'!AC65 -> 0 | M35: 5 | N35: 10h30-11h15(LT) 10h30-11h30(TH) | O35: ='TONG HOP'!AD10 -> 0 | P35: ='TONG HOP'!AD21 -> T.HOÀNG | Q35: ='TONG HOP'!AD32 -> 0 | R35: ='TONG HOP'!AD43 -> C.CHIÊU LINH | S35: ='TONG HOP'!AD54 -> 0 | T35: ='TONG HOP'!AD65 -> 0
A36: CHIỀU | B36: 6 | C36: 12h45-13h30 | D36: ='TONG HOP'!AC11 -> HỌC VĂN HÓA | E36: ='TONG HOP'!AC22 -> HỌC VĂN HÓA | F36: ='TONG HOP'!AC33 -> HỌC VĂN HÓA | G36: ='TONG HOP'!AC44 -> HỌC VĂN HÓA | H36: ='TONG HOP'!AC55 -> HỌC VĂN HÓA | I36: ='TONG HOP'!AC66 -> 0 | L36: CHIỀU | M36: 6 | N36: 12h45-13h30 | O36: ='TONG HOP'!AD11 -> HỌC VĂN HÓA | P36: ='TONG HOP'!AD22 -> HỌC VĂN HÓA | Q36: ='TONG HOP'!AD33 -> HỌC VĂN HÓA | R36: ='TONG HOP'!AD44 -> HỌC VĂN HÓA | S36: ='TONG HOP'!AD55 -> HỌC VĂN HÓA | T36: ='TONG HOP'!AD66 -> 0
B37: 7 | C37: 13h30-14h15 | D37: ='TONG HOP'!AC12 -> THEO TKB TTGDTX | E37: ='TONG HOP'!AC23 -> THEO TKB TTGDTX | F37: ='TONG HOP'!AC34 -> THEO TKB TTGDTX | G37: ='TONG HOP'!AC45 -> THEO TKB TTGDTX | H37: ='TONG HOP'!AC56 -> THEO TKB TTGDTX | I37: ='TONG HOP'!AC67 -> 0 | M37: 7 | N37: 13h30-14h15 | O37: ='TONG HOP'!AD12 -> THEO TKB TTGDTX | P37: ='TONG HOP'!AD23 -> THEO TKB TTGDTX | Q37: ='TONG HOP'!AD34 -> THEO TKB TTGDTX | R37: ='TONG HOP'!AD45 -> THEO TKB TTGDTX | S37: ='TONG HOP'!AD56 -> THEO TKB TTGDTX | T37: ='TONG HOP'!AD67 -> 0
B38: 8 | C38: 14h45-15h30 | D38: ='TONG HOP'!AC13 -> QUẬN 1 | E38: ='TONG HOP'!AC24 -> QUẬN 1 | F38: ='TONG HOP'!AC35 -> QUẬN 1 | G38: ='TONG HOP'!AC46 -> QUẬN 1 | H38: ='TONG HOP'!AC57 -> QUẬN 1 | I38: ='TONG HOP'!AC68 -> 0 | M38: 8 | N38: 14h45-15h30 | O38: ='TONG HOP'!AD13 -> QUẬN 1 | P38: ='TONG HOP'!AD24 -> QUẬN 1 | Q38: ='TONG HOP'!AD35 -> QUẬN 1 | R38: ='TONG HOP'!AD46 -> QUẬN 1 | S38: ='TONG HOP'!AD57 -> QUẬN 1 | T38: ='TONG HOP'!AD68 -> 0
B39: 9 | C39: 15h30-16h15 | D39: ='TONG HOP'!AC14 -> 0 | E39: ='TONG HOP'!AC25 -> 0 | F39: ='TONG HOP'!AC36 -> 0 | G39: ='TONG HOP'!AC47 -> 0 | H39: ='TONG HOP'!AC58 -> 0 | I39: ='TONG HOP'!AC69 -> 0 | M39: 9 | N39: 15h30-16h15 | O39: ='TONG HOP'!AD14 -> 0 | P39: ='TONG HOP'!AD25 -> 0 | Q39: ='TONG HOP'!AD36 -> 0 | R39: ='TONG HOP'!AD47 -> 0 | S39: ='TONG HOP'!AD58 -> 0 | T39: ='TONG HOP'!AD69 -> 0
B40: 10 | C40: 16h15-17h00(LT) 16h15-17h15(TH) | D40: ='TONG HOP'!AC15 -> 0 | E40: ='TONG HOP'!AC26 -> 0 | F40: ='TONG HOP'!AC37 -> 0 | G40: ='TONG HOP'!AC48 -> 0 | H40: ='TONG HOP'!AC59 -> 0 | I40: ='TONG HOP'!AC70 -> 0 | M40: 10 | N40: 16h15-17h00(LT) 16h15-17h15(TH) | O40: ='TONG HOP'!AD15 -> 0 | P40: ='TONG HOP'!AD26 -> 0 | Q40: ='TONG HOP'!AD37 -> 0 | R40: ='TONG HOP'!AD48 -> 0 | S40: ='TONG HOP'!AD59 -> 0 | T40: ='TONG HOP'!AD70 -> 0
...

Sheet Khoa ĐIỆN-ĐIỆN LẠNH
A1: T H Ờ I K H Ó A B I Ể U - K H O A ĐIỆN - ĐIỆN LẠNH
A2: ='Khoa CK OT'!A2:I2 -> ÁP DỤNG TỪ NGÀY 12/10/2026 ĐẾN NGÀY 31/10/2026 | L2: =A2 -> ÁP DỤNG TỪ NGÀY 12/10/2026 ĐẾN NGÀY 31/10/2026
A3: LỚP: | C3: ='TONG HOP'!AJ5 -> C26DC2-N1 | L3: LỚP: | N3: ='TONG HOP'!AK5 -> C26DC2-N2
A4: Buổi | B4: Tiết | C4: Giờ dạy | D4: THỨ HAI | E4: THỨ BA | F4: THỨ TƯ | G4: THỨ NĂM | H4: THỨ SÁU | I4: THỨ BẢY | L4: Buổi | M4: Tiết | N4: Giờ dạy | O4: THỨ HAI | P4: THỨ BA | Q4: THỨ TƯ | R4: THỨ NĂM | S4: THỨ SÁU | T4: THỨ BẢY
A5: SÁNG | B5: 1 | C5: 7h00-7h45 | D5: ='TONG HOP'!AJ6 -> 0 | E5: ='TONG HOP'!AJ17 -> GDCT | F5: ='TONG HOP'!AJ28 -> SD CCDC | G5: ='TONG HOP'!AJ39 -> 0 | H5: ='TONG HOP'!AJ50 -> 0 | I5: ='TONG HOP'!AJ61 -> ĐO LƯỜNG | L5: SÁNG | M5: 1 | N5: 7h00-7h45 | O5: ='TONG HOP'!AK6 -> 0 | P5: ='TONG HOP'!AK17 -> GDCT | Q5: ='TONG HOP'!AK28 -> 0 | R5: ='TONG HOP'!AK39 -> 0 | S5: ='TONG HOP'!AK50 -> 0 | T5: ='TONG HOP'!AK61 -> 0
B6: 2 | C6: 7h45-8h30 | D6: ='TONG HOP'!AJ7 -> 0 | E6: ='TONG HOP'!AJ18 -> THAM QUAN | F6: ='TONG HOP'!AJ29 -> CN ĐIỆN | G6: ='TONG HOP'!AJ40 -> 0 | H6: ='TONG HOP'!AJ51 -> 0 | I6: ='TONG HOP'!AJ62 -> ĐIỆN - ĐIỆN TỬ | M6: 2 | N6: 7h45-8h30 | O6: ='TONG HOP'!AK7 -> 0 | P6: ='TONG HOP'!AK18 -> THAM QUAN | Q6: ='TONG HOP'!AK29 -> 0 | R6: ='TONG HOP'!AK40 -> 0 | S6: ='TONG HOP'!AK51 -> 0 | T6: ='TONG HOP'!AK62 -> 0
B7: 3 | C7: 9h00-9h45 | D7: ='TONG HOP'!AJ8 -> 0 | E7: ='TONG HOP'!AJ19 -> THỰC TẾ | F7: ='TONG HOP'!AJ30 -> 0 | G7: ='TONG HOP'!AJ41 -> 0 | H7: ='TONG HOP'!AJ52 -> 0 | I7: ='TONG HOP'!AJ63 -> 0 | M7: 3 | N7: 9h00-9h45 | O7: ='TONG HOP'!AK8 -> 0 | P7: ='TONG HOP'!AK19 -> THỰC TẾ | Q7: ='TONG HOP'!AK30 -> 0 | R7: ='TONG HOP'!AK41 -> 0 | S7: ='TONG HOP'!AK52 -> 0 | T7: ='TONG HOP'!AK63 -> 0
B8: 4 | C8: 9h45-10h30 | D8: ='TONG HOP'!AJ9 -> 0 | E8: ='TONG HOP'!AJ20 -> 0 | F8: ='TONG HOP'!AJ31 -> B203 | G8: ='TONG HOP'!AJ42 -> 0 | H8: ='TONG HOP'!AJ53 -> 0 | I8: ='TONG HOP'!AJ64 -> B212 | M8: 4 | N8: 9h45-10h30 | O8: ='TONG HOP'!AK9 -> 0 | P8: ='TONG HOP'!AK20 -> 0 | Q8: ='TONG HOP'!AK31 -> 0 | R8: ='TONG HOP'!AK42 -> 0 | S8: ='TONG HOP'!AK53 -> 0 | T8: ='TONG HOP'!AK64 -> 0
B9: 5 | C9: 10h30-11h15(LT) 10h30-11h30(TH) | D9: ='TONG HOP'!AJ10 -> 0 | E9: ='TONG HOP'!AJ21 -> C.NGUYÊN | F9: ='TONG HOP'!AJ32 -> T.LƯU | G9: ='TONG HOP'!AJ43 -> 0 | H9: ='TONG HOP'!AJ54 -> 0 | I9: ='TONG HOP'!AJ65 -> T.HÙNG | M9: 5 | N9: 10h30-11h15(LT) 10h30-11h30(TH) | O9: ='TONG HOP'!AK10 -> 0 | P9: ='TONG HOP'!AK21 -> C.NGUYÊN | Q9: ='TONG HOP'!AK32 -> 0 | R9: ='TONG HOP'!AK43 -> 0 | S9: ='TONG HOP'!AK54 -> 0 | T9: ='TONG HOP'!AK65 -> 0
A10: CHIỀU | B10: 6 | C10: 12h45-13h30 | D10: ='TONG HOP'!AJ11 -> 0 | E10: ='TONG HOP'!AJ22 -> TIẾNG ANH 1 | F10: ='TONG HOP'!AJ33 -> KT ĐIỆN | G10: ='TONG HOP'!AJ44 -> GDTC | H10: ='TONG HOP'!AJ55 -> 0 | I10: ='TONG HOP'!AJ66 -> ĐO LƯỜNG | L10: CHIỀU | M10: 6 | N10: 12h45-13h30 | O10: ='TONG HOP'!AK11 -> 0 | P10: ='TONG HOP'!AK22 -> TIẾNG ANH 1 | Q10: ='TONG HOP'!AK33 -> KT ĐIỆN | R10: ='TONG HOP'!AK44 -> GDTC | S10: ='TONG HOP'!AK55 -> SD CCDC | T10: ='TONG HOP'!AK66 -> 0
B11: 7 | C11: 13h30-14h15 | D11: ='TONG HOP'!AJ12 -> 0 | E11: ='TONG HOP'!AJ23 -> 0 | F11: ='TONG HOP'!AJ34 -> 0 | G11: ='TONG HOP'!AJ45 -> 0 | H11: ='TONG HOP'!AJ56 -> 0 | I11: ='TONG HOP'!AJ67 -> ĐIỆN - ĐIỆN TỬ | M11: 7 | N11: 13h30-14h15 | O11: ='TONG HOP'!AK12 -> 0 | P11: ='TONG HOP'!AK23 -> 0 | Q11: ='TONG HOP'!AK34 -> 0 | R11: ='TONG HOP'!AK45 -> 0 | S11: ='TONG HOP'!AK56 -> CN ĐIỆN | T11: ='TONG HOP'!AK67 -> 0
B12: 8 | C12: 14h45-15h30 | D12: ='TONG HOP'!AJ13 -> 0 | E12: ='TONG HOP'!AJ24 -> 0 | F12: ='TONG HOP'!AJ35 -> 0 | G12: ='TONG HOP'!AJ46 -> 0 | H12: ='TONG HOP'!AJ57 -> 0 | I12: ='TONG HOP'!AJ68 -> 0 | M12: 8 | N12: 14h45-15h30 | O12: ='TONG HOP'!AK13 -> 0 | P12: ='TONG HOP'!AK24 -> 0 | Q12: ='TONG HOP'!AK35 -> 0 | R12: ='TONG HOP'!AK46 -> 0 | S12: ='TONG HOP'!AK57 -> 0 | T12: ='TONG HOP'!AK68 -> 0
B13: 9 | C13: 15h30-16h15 | D13: ='TONG HOP'!AJ14 -> 0 | E13: ='TONG HOP'!AJ25 -> A017 | F13: ='TONG HOP'!AJ36 -> A015 | G13: ='TONG HOP'!AJ47 -> NHÀ THI ĐẤU | H13: ='TONG HOP'!AJ58 -> 0 | I13: ='TONG HOP'!AJ69 -> B212 | M13: 9 | N13: 15h30-16h15 | O13: ='TONG HOP'!AK14 -> 0 | P13: ='TONG HOP'!AK25 -> A017 | Q13: ='TONG HOP'!AK36 -> A015 | R13: ='TONG HOP'!AK47 -> NHÀ THI ĐẤU | S13: ='TONG HOP'!AK58 -> B203 | T13: ='TONG HOP'!AK69 -> 0
B14: 10 | C14: 16h15-17h00(LT) 16h15-17h15(TH) | D14: ='TONG HOP'!AJ15 -> 0 | E14: ='TONG HOP'!AJ26 -> C.PHƯƠNG | F14: ='TONG HOP'!AJ37 -> T.CÔNG | G14: ='TONG HOP'!AJ48 -> T.THANH | H14: ='TONG HOP'!AJ59 -> 0 | I14: ='TONG HOP'!AJ70 -> T.HÙNG | M14: 10 | N14: 16h15-17h00(LT) 16h15-17h15(TH) | O14: ='TONG HOP'!AK15 -> 0 | P14: ='TONG HOP'!AK26 -> C.PHƯƠNG | Q14: ='TONG HOP'!AK37 -> T.CÔNG | R14: ='TONG HOP'!AK48 -> T.THANH | S14: ='TONG HOP'!AK59 -> T.CHƯƠNG | T14: ='TONG HOP'!AK70 -> 0
A15: =L2 -> ÁP DỤNG TỪ NGÀY 12/10/2026 ĐẾN NGÀY 31/10/2026 | L15: =A2 -> ÁP DỤNG TỪ NGÀY 12/10/2026 ĐẾN NGÀY 31/10/2026
A16: LỚP: | C16: ='TONG HOP'!AL5 -> C26TĐH2 | L16: LỚP: | N16: ='TONG HOP'!AM5 -> T26DC2
A17: Buổi | B17: Tiết | C17: Giờ dạy | D17: THỨ HAI | E17: THỨ BA | F17: THỨ TƯ | G17: THỨ NĂM | H17: THỨ SÁU | I17: THỨ BẢY | L17: Buổi | M17: Tiết | N17: Giờ dạy | O17: THỨ HAI | P17: THỨ BA | Q17: THỨ TƯ | R17: THỨ NĂM | S17: THỨ SÁU | T17: THỨ BẢY
A18: SÁNG | B18: 1 | C18: 7h00-7h45 | D18: ='TONG HOP'!AL6 -> 0 | E18: ='TONG HOP'!AL17 -> GDCT | F18: ='TONG HOP'!AL28 -> KT AN TOÀN | G18: ='TONG HOP'!AL39 -> 0 | H18: ='TONG HOP'!AL50 -> 0 | I18: ='TONG HOP'!AL61 -> 0 | L18: SÁNG | M18: 1 | N18: 7h00-7h45 | O18: ='TONG HOP'!AM6 -> KT AN TOÀN | P18: ='TONG HOP'!AM17 -> PHÁP LUẬT | Q18: ='TONG HOP'!AM28 -> CUNG CẤP ĐIỆN | R18: ='TONG HOP'!AM39 -> TIẾNG ANH 1 | S18: ='TONG HOP'!AM50 -> KT ĐIỆN | T18: ='TONG HOP'!AM61 -> TIN HỌC
B19: 2 | C19: 7h45-8h30 | D19: ='TONG HOP'!AL7 -> 0 | E19: ='TONG HOP'!AL18 -> THAM QUAN | F19: ='TONG HOP'!AL29 -> VÀ BH LĐ | G19: ='TONG HOP'!AL40 -> 0 | H19: ='TONG HOP'!AL51 -> 0 | I19: ='TONG HOP'!AL62 -> 0 | M19: 2 | N19: 7h45-8h30 | O19: ='TONG HOP'!AM7 -> VÀ BHLĐ | P19: ='TONG HOP'!AM18 -> 0 | Q19: ='TONG HOP'!AM29 -> 0 | R19: ='TONG HOP'!AM40 -> 0 | S19: ='TONG HOP'!AM51 -> 0 | T19: ='TONG HOP'!AM62 -> 0
B20: 3 | C20: 9h00-9h45 | D20: ='TONG HOP'!AL8 -> 0 | E20: ='TONG HOP'!AL19 -> THỰC TẾ | F20: ='TONG HOP'!AL30 -> 0 | G20: ='TONG HOP'!AL41 -> 0 | H20: ='TONG HOP'!AL52 -> 0 | I20: ='TONG HOP'!AL63 -> 0 | M20: 3 | N20: 9h00-9h45 | O20: ='TONG HOP'!AM8 -> 0 | P20: ='TONG HOP'!AM19 -> 0 | Q20: ='TONG HOP'!AM30 -> 0 | R20: ='TONG HOP'!AM41 -> 0 | S20: ='TONG HOP'!AM52 -> 0 | T20: ='TONG HOP'!AM63 -> 0
B21: 4 | C21: 9h45-10h30 | D21: ='TONG HOP'!AL9 -> 0 | E21: ='TONG HOP'!AL20 -> 0 | F21: ='TONG HOP'!AL31 -> A112 | G21: ='TONG HOP'!AL42 -> 0 | H21: ='TONG HOP'!AL53 -> 0 | I21: ='TONG HOP'!AL64 -> 0 | M21: 4 | N21: 9h45-10h30 | O21: ='TONG HOP'!AM9 -> A112 | P21: ='TONG HOP'!AM20 -> A111 | Q21: ='TONG HOP'!AM31 -> A113 | R21: ='TONG HOP'!AM42 -> A018 | S21: ='TONG HOP'!AM53 -> A111 | T21: ='TONG HOP'!AM64 -> B204
B22: 5 | C22: 10h30-11h15(LT) 10h30-11h30(TH) | D22: ='TONG HOP'!AL10 -> 0 | E22: ='TONG HOP'!AL21 -> C.NGUYÊN | F22: ='TONG HOP'!AL32 -> T.CHƯƠNG | G22: ='TONG HOP'!AL43 -> 0 | H22: ='TONG HOP'!AL54 -> 0 | I22: ='TONG HOP'!AL65 -> 0 | M22: 5 | N22: 10h30-11h15(LT) 10h30-11h30(TH) | O22: ='TONG HOP'!AM10 -> T.LƯU | P22: ='TONG HOP'!AM21 -> C.HỒNG | Q22: ='TONG HOP'!AM32 -> T.V.TUẤN | R22: ='TONG HOP'!AM43 -> T.CÔNG HOÀNG | S22: ='TONG HOP'!AM54 -> T.V.HÙNG | T22: ='TONG HOP'!AM65 -> T.HIẾU
A23: CHIỀU | B23: 6 | C23: 12h45-13h30 | D23: ='TONG HOP'!AL11 -> SD CÔNG CỤ | E23: ='TONG HOP'!AL22 -> TIẾNG ANH 1 | F23: ='TONG HOP'!AL33 -> SD CÔNG CỤ | G23: ='TONG HOP'!AL44 -> GDTC | H23: ='TONG HOP'!AL55 -> 0 | I23: ='TONG HOP'!AL66 -> 0 | L23: CHIỀU | M23: 6 | N23: 12h45-13h30 | O23: ='TONG HOP'!AM11 -> HỌC VĂN HÓA | P23: ='TONG HOP'!AM22 -> HỌC VĂN HÓA | Q23: ='TONG HOP'!AM33 -> HỌC VĂN HÓA | R23: ='TONG HOP'!AM44 -> HỌC VĂN HÓA | S23: ='TONG HOP'!AM55 -> HỌC VĂN HÓA | T23: ='TONG HOP'!AM66 -> TIN HỌC
B24: 7 | C24: 13h30-14h15 | D24: ='TONG HOP'!AL12 -> DỤNG CỤ | E24: ='TONG HOP'!AL23 -> 0 | F24: ='TONG HOP'!AL34 -> DỤNG CỤ | G24: ='TONG HOP'!AL45 -> 0 | H24: ='TONG HOP'!AL56 -> 0 | I24: ='TONG HOP'!AL67 -> 0 | M24: 7 | N24: 13h30-14h15 | O24: ='TONG HOP'!AM12 -> THEO TKB TTGDTX | P24: ='TONG HOP'!AM23 -> THEO TKB TTGDTX | Q24: ='TONG HOP'!AM34 -> THEO TKB TTGDTX | R24: ='TONG HOP'!AM45 -> THEO TKB TTGDTX | S24: ='TONG HOP'!AM56 -> THEO TKB TTGDTX | T24: ='TONG HOP'!AM67 -> 0
B25: 8 | C25: 14h45-15h30 | D25: ='TONG HOP'!AL13 -> 0 | E25: ='TONG HOP'!AL24 -> 0 | F25: ='TONG HOP'!AL35 -> 0 | G25: ='TONG HOP'!AL46 -> 0 | H25: ='TONG HOP'!AL57 -> 0 | I25: ='TONG HOP'!AL68 -> 0 | M25: 8 | N25: 14h45-15h30 | O25: ='TONG HOP'!AM13 -> QUẬN 1 | P25: ='TONG HOP'!AM24 -> QUẬN 1 | Q25: ='TONG HOP'!AM35 -> QUẬN 1 | R25: ='TONG HOP'!AM46 -> QUẬN 1 | S25: ='TONG HOP'!AM57 -> QUẬN 1 | T25: ='TONG HOP'!AM68 -> 0
B26: 9 | C26: 15h30-16h15 | D26: ='TONG HOP'!AL14 -> B203 | E26: ='TONG HOP'!AL25 -> A017 | F26: ='TONG HOP'!AL36 -> B203 | G26: ='TONG HOP'!AL47 -> NHÀ THI ĐẤU | H26: ='TONG HOP'!AL58 -> 0 | I26: ='TONG HOP'!AL69 -> 0 | M26: 9 | N26: 15h30-16h15 | O26: ='TONG HOP'!AM14 -> 0 | P26: ='TONG HOP'!AM25 -> 0 | Q26: ='TONG HOP'!AM36 -> 0 | R26: ='TONG HOP'!AM47 -> 0 | S26: ='TONG HOP'!AM58 -> 0 | T26: ='TONG HOP'!AM69 -> B204
B27: 10 | C27: 16h15-17h00(LT) 16h15-17h15(TH) | D27: ='TONG HOP'!AL15 -> T.CHƯƠNG | E27: ='TONG HOP'!AL26 -> C.PHƯƠNG | F27: ='TONG HOP'!AL37 -> T.CHƯƠNG | G27: ='TONG HOP'!AL48 -> T.THANH | H27: ='TONG HOP'!AL59 -> 0 | I27: ='TONG HOP'!AL70 -> 0 | M27: 10 | N27: 16h15-17h00(LT) 16h15-17h15(TH) | O27: ='TONG HOP'!AM15 -> 0 | P27: ='TONG HOP'!AM26 -> 0 | Q27: ='TONG HOP'!AM37 -> 0 | R27: ='TONG HOP'!AM48 -> 0 | S27: ='TONG HOP'!AM59 -> 0 | T27: ='TONG HOP'!AM70 -> T.HIẾU
A28: =L15 -> ÁP DỤNG TỪ NGÀY 12/10/2026 ĐẾN NGÀY 31/10/2026 | L28: =A15 -> ÁP DỤNG TỪ NGÀY 12/10/2026 ĐẾN NGÀY 31/10/2026
A29: LỚP: | C29: ='TONG HOP'!AN5 -> T26KTML2-N1 | L29: LỚP: | N29: ='TONG HOP'!AO5 -> T26KTML2-N2
A30: Buổi | B30: Tiết | C30: Giờ dạy | D30: THỨ HAI | E30: THỨ BA | F30: THỨ TƯ | G30: THỨ NĂM | H30: THỨ SÁU | I30: THỨ BẢY | L30: Buổi | M30: Tiết | N30: Giờ dạy | O30: THỨ HAI | P30: THỨ BA | Q30: THỨ TƯ | R30: THỨ NĂM | S30: THỨ SÁU | T30: THỨ BẢY
A31: SÁNG | B31: 1 | C31: 7h00-7h45 | D31: ='TONG HOP'!AN6 -> KT ĐIỆN- | E31: ='TONG HOP'!AN17 -> PHÁP LUẬT | F31: ='TONG HOP'!AN28 -> TIN HỌC | G31: ='TONG HOP'!AN39 -> TIẾNG ANH 1 | H31: ='TONG HOP'!AN50 -> CS KT NHIỆT | I31: ='TONG HOP'!AN61 -> THỰC TẬP | L31: SÁNG | M31: 1 | N31: 7h00-7h45 | O31: ='TONG HOP'!AO6 -> KT ĐIỆN- | P31: ='TONG HOP'!AO17 -> PHÁP LUẬT | Q31: ='TONG HOP'!AO28 -> TIN HỌC | R31: ='TONG HOP'!AO39 -> TIẾNG ANH 1 | S31: ='TONG HOP'!AO50 -> CS KT NHIỆT | T31: ='TONG HOP'!AO61 -> 0
B32: 2 | C32: 7h45-8h30 | D32: ='TONG HOP'!AN7 -> ĐIỆN TỬ | E32: ='TONG HOP'!AN18 -> 0 | F32: ='TONG HOP'!AN29 -> 0 | G32: ='TONG HOP'!AN40 -> 0 | H32: ='TONG HOP'!AN51 -> LẠNH VÀ KK | I32: ='TONG HOP'!AN62 -> GÒ HÀN | M32: 2 | N32: 7h45-8h30 | O32: ='TONG HOP'!AO7 -> ĐIỆN TỬ | P32: ='TONG HOP'!AO18 -> 0 | Q32: ='TONG HOP'!AO29 -> 0 | R32: ='TONG HOP'!AO40 -> 0 | S32: ='TONG HOP'!AO51 -> LẠNH VÀ KK | T32: ='TONG HOP'!AO62 -> 0
B33: 3 | C33: 9h00-9h45 | D33: ='TONG HOP'!AN8 -> 0 | E33: ='TONG HOP'!AN19 -> 0 | F33: ='TONG HOP'!AN30 -> 0 | G33: ='TONG HOP'!AN41 -> 0 | H33: ='TONG HOP'!AN52 -> 0 | I33: ='TONG HOP'!AN63 -> 0 | M33: 3 | N33: 9h00-9h45 | O33: ='TONG HOP'!AO8 -> 0 | P33: ='TONG HOP'!AO19 -> 0 | Q33: ='TONG HOP'!AO30 -> 0 | R33: ='TONG HOP'!AO41 -> 0 | S33: ='TONG HOP'!AO52 -> 0 | T33: ='TONG HOP'!AO63 -> 0
B34: 4 | C34: 9h45-10h30 | D34: ='TONG HOP'!AN9 -> A307 | E34: ='TONG HOP'!AN20 -> A111 | F34: ='TONG HOP'!AN31 -> B204 | G34: ='TONG HOP'!AN42 -> A018 | H34: ='TONG HOP'!AN53 -> A308 | I34: ='TONG HOP'!AN64 -> C007 | M34: 4 | N34: 9h45-10h30 | O34: ='TONG HOP'!AO9 -> A307 | P34: ='TONG HOP'!AO20 -> A111 | Q34: ='TONG HOP'!AO31 -> B204 | R34: ='TONG HOP'!AO42 -> A018 | S34: ='TONG HOP'!AO53 -> A308 | T34: ='TONG HOP'!AO64 -> 0
B35: 5 | C35: 10h30-11h15(LT) 10h30-11h30(TH) | D35: ='TONG HOP'!AN10 -> T.CÔNG | E35: ='TONG HOP'!AN21 -> C.HỒNG | F35: ='TONG HOP'!AN32 -> T.HIẾU | G35: ='TONG HOP'!AN43 -> T.CÔNG HOÀNG | H35: ='TONG HOP'!AN54 -> T.QUANG | I35: ='TONG HOP'!AN65 -> T.TRƯƠNG | M35: 5 | N35: 10h30-11h15(LT) 10h30-11h30(TH) | O35: ='TONG HOP'!AO10 -> T.CÔNG | P35: ='TONG HOP'!AO21 -> C.HỒNG | Q35: ='TONG HOP'!AO32 -> T.HIẾU | R35: ='TONG HOP'!AO43 -> T.CÔNG HOÀNG | S35: ='TONG HOP'!AO54 -> T.QUANG | T35: ='TONG HOP'!AO65 -> 0
A36: CHIỀU | B36: 6 | C36: 12h45-13h30 | D36: ='TONG HOP'!AN11 -> HỌC VĂN HÓA | E36: ='TONG HOP'!AN22 -> HỌC VĂN HÓA | F36: ='TONG HOP'!AN33 -> HỌC VĂN HÓA | G36: ='TONG HOP'!AN44 -> HỌC VĂN HÓA | H36: ='TONG HOP'!AN55 -> HỌC VĂN HÓA | I36: ='TONG HOP'!AN66 -> 0 | L36: CHIỀU | M36: 6 | N36: 12h45-13h30 | O36: ='TONG HOP'!AO11 -> HỌC VĂN HÓA | P36: ='TONG HOP'!AO22 -> HỌC VĂN HÓA | Q36: ='TONG HOP'!AO33 -> HỌC VĂN HÓA | R36: ='TONG HOP'!AO44 -> HỌC VĂN HÓA | S36: ='TONG HOP'!AO55 -> HỌC VĂN HÓA | T36: ='TONG HOP'!AO66 -> THỰC TẬP
B37: 7 | C37: 13h30-14h15 | D37: ='TONG HOP'!AN12 -> THEO TKB TTGDTX | E37: ='TONG HOP'!AN23 -> THEO TKB TTGDTX | F37: ='TONG HOP'!AN34 -> THEO TKB TTGDTX | G37: ='TONG HOP'!AN45 -> THEO TKB TTGDTX | H37: ='TONG HOP'!AN56 -> THEO TKB TTGDTX | I37: ='TONG HOP'!AN67 -> 0 | M37: 7 | N37: 13h30-14h15 | O37: ='TONG HOP'!AO12 -> THEO TKB TTGDTX | P37: ='TONG HOP'!AO23 -> THEO TKB TTGDTX | Q37: ='TONG HOP'!AO34 -> THEO TKB TTGDTX | R37: ='TONG HOP'!AO45 -> THEO TKB TTGDTX | S37: ='TONG HOP'!AO56 -> THEO TKB TTGDTX | T37: ='TONG HOP'!AO67 -> GÒ HÀN
B38: 8 | C38: 14h45-15h30 | D38: ='TONG HOP'!AN13 -> QUẬN 1 | E38: ='TONG HOP'!AN24 -> QUẬN 1 | F38: ='TONG HOP'!AN35 -> QUẬN 1 | G38: ='TONG HOP'!AN46 -> QUẬN 1 | H38: ='TONG HOP'!AN57 -> QUẬN 1 | I38: ='TONG HOP'!AN68 -> 0 | M38: 8 | N38: 14h45-15h30 | O38: ='TONG HOP'!AO13 -> QUẬN 1 | P38: ='TONG HOP'!AO24 -> QUẬN 1 | Q38: ='TONG HOP'!AO35 -> QUẬN 1 | R38: ='TONG HOP'!AO46 -> QUẬN 1 | S38: ='TONG HOP'!AO57 -> QUẬN 1 | T38: ='TONG HOP'!AO68 -> 0
B39: 9 | C39: 15h30-16h15 | D39: ='TONG HOP'!AN14 -> 0 | E39: ='TONG HOP'!AN25 -> 0 | F39: ='TONG HOP'!AN36 -> 0 | G39: ='TONG HOP'!AN47 -> 0 | H39: ='TONG HOP'!AN58 -> 0 | I39: ='TONG HOP'!AN69 -> 0 | M39: 9 | N39: 15h30-16h15 | O39: ='TONG HOP'!AO14 -> 0 | P39: ='TONG HOP'!AO25 -> 0 | Q39: ='TONG HOP'!AO36 -> 0 | R39: ='TONG HOP'!AO47 -> 0 | S39: ='TONG HOP'!AO58 -> 0 | T39: ='TONG HOP'!AO69 -> C007
B40: 10 | C40: 16h15-17h00(LT) 16h15-17h15(TH) | D40: ='TONG HOP'!AN15 -> 0 | E40: ='TONG HOP'!AN26 -> 0 | F40: ='TONG HOP'!AN37 -> 0 | G40: ='TONG HOP'!AN48 -> 0 | H40: ='TONG HOP'!AN59 -> 0 | I40: ='TONG HOP'!AN70 -> 0 | M40: 10 | N40: 16h15-17h00(LT) 16h15-17h15(TH) | O40: ='TONG HOP'!AO15 -> 0 | P40: ='TONG HOP'!AO26 -> 0 | Q40: ='TONG HOP'!AO37 -> 0 | R40: ='TONG HOP'!AO48 -> 0 | S40: ='TONG HOP'!AO59 -> 0 | T40: ='TONG HOP'!AO70 -> T.TRƯƠNG
...

Sheet KHOA Kinh tế
A1: T H Ờ I K H Ó A B I Ể U - K H O A KINH TẾ
A2: ='Khoa CK OT'!A2:I2 -> ÁP DỤNG TỪ NGÀY 12/10/2026 ĐẾN NGÀY 31/10/2026 | K2: =A2 -> ÁP DỤNG TỪ NGÀY 12/10/2026 ĐẾN NGÀY 31/10/2026
A3: LỚP: | C3: ='TONG HOP'!BD5 -> C26KT2 | K3: LỚP: | M3: ='TONG HOP'!BE5 -> C26QTKD2
A4: Buổi | B4: Tiết | C4: Giờ dạy | D4: THỨ HAI | E4: THỨ BA | F4: THỨ TƯ | G4: THỨ NĂM | H4: THỨ SÁU | I4: THỨ BẢY | K4: Buổi | L4: Tiết | M4: Giờ dạy | N4: THỨ HAI | O4: THỨ BA | P4: THỨ TƯ | Q4: THỨ NĂM | R4: THỨ SÁU | S4: THỨ BẢY
A5: SÁNG | B5: 1 | C5: 7h00-7h45 | D5: ='TONG HOP'!BD6 -> 0 | E5: ='TONG HOP'!BD17 -> GDTC | F5: ='TONG HOP'!BD28 -> 0 | G5: ='TONG HOP'!BD39 -> GDCT | H5: ='TONG HOP'!BD50 -> 0 | I5: ='TONG HOP'!BD61 -> 0 | K5: SÁNG | L5: 1 | M5: 7h00-7h45 | N5: ='TONG HOP'!BE6 -> 0 | O5: ='TONG HOP'!BE17 -> GDTC | P5: ='TONG HOP'!BE28 -> 0 | Q5: ='TONG HOP'!BE39 -> GDCT | R5: ='TONG HOP'!BE50 -> KỸ NĂNG MỀM | S5: ='TONG HOP'!BE61 -> 0
B6: 2 | C6: 7h45-8h30 | D6: ='TONG HOP'!BD7 -> 0 | E6: ='TONG HOP'!BD18 -> 0 | F6: ='TONG HOP'!BD29 -> 0 | G6: ='TONG HOP'!BD40 -> 0 | H6: ='TONG HOP'!BD51 -> 0 | I6: ='TONG HOP'!BD62 -> 0 | L6: 2 | M6: 7h45-8h30 | N6: ='TONG HOP'!BE7 -> 0 | O6: ='TONG HOP'!BE18 -> 0 | P6: ='TONG HOP'!BE29 -> 0 | Q6: ='TONG HOP'!BE40 -> 0 | R6: ='TONG HOP'!BE51 -> 0 | S6: ='TONG HOP'!BE62 -> 0
B7: 3 | C7: 9h00-9h45 | D7: ='TONG HOP'!BD8 -> 0 | E7: ='TONG HOP'!BD19 -> 0 | F7: ='TONG HOP'!BD30 -> 0 | G7: ='TONG HOP'!BD41 -> 0 | H7: ='TONG HOP'!BD52 -> 0 | I7: ='TONG HOP'!BD63 -> 0 | L7: 3 | M7: 9h00-9h45 | N7: ='TONG HOP'!BE8 -> 0 | O7: ='TONG HOP'!BE19 -> 0 | P7: ='TONG HOP'!BE30 -> 0 | Q7: ='TONG HOP'!BE41 -> 0 | R7: ='TONG HOP'!BE52 -> 0 | S7: ='TONG HOP'!BE63 -> 0
B8: 4 | C8: 9h45-10h30 | D8: ='TONG HOP'!BD9 -> 0 | E8: ='TONG HOP'!BD20 -> NHÀ THI ĐẤU | F8: ='TONG HOP'!BD31 -> 0 | G8: ='TONG HOP'!BD42 -> A110 | H8: ='TONG HOP'!BD53 -> 0 | I8: ='TONG HOP'!BD64 -> 0 | L8: 4 | M8: 9h45-10h30 | N8: ='TONG HOP'!BE9 -> 0 | O8: ='TONG HOP'!BE20 -> NHÀ THI ĐẤU | P8: ='TONG HOP'!BE31 -> 0 | Q8: ='TONG HOP'!BE42 -> A110 | R8: ='TONG HOP'!BE53 -> A203 | S8: ='TONG HOP'!BE64 -> 0
B9: 5 | C9: 10h30-11h15(LT) 10h30-11h30(TH) | D9: ='TONG HOP'!BD10 -> 0 | E9: ='TONG HOP'!BD21 -> T.THANH | F9: ='TONG HOP'!BD32 -> 0 | G9: ='TONG HOP'!BD43 -> C.THỦY | H9: ='TONG HOP'!BD54 -> 0 | I9: ='TONG HOP'!BD65 -> 0 | L9: 5 | M9: 10h30-11h15(LT) 10h30-11h30(TH) | N9: ='TONG HOP'!BE10 -> 0 | O9: ='TONG HOP'!BE21 -> T.THANH | P9: ='TONG HOP'!BE32 -> 0 | Q9: ='TONG HOP'!BE43 -> C.THỦY | R9: ='TONG HOP'!BE54 -> T.DUY | S9: ='TONG HOP'!BE65 -> 0
