Workbook
Name _Fill: #REF!
Name _Fill: #REF!
Name _Sort: #REF!
Name _Sort: #REF!
Name _ST2: 'TONG HOP'!$9:$9
Name _ST22: 'TONG HOP'!$E$9:$AV$9
Name DT: '[1]TONG HOP'!$9:$9
Name DT: 'TONG HOP'!$9:$9

Sheet TONG HOP
A2: SỈ SỐ | E2: 34 | F2: 28 | G2: 37 | I2: 42 | K2: 46 | M2: 15 | Q2: 41 | R2: 33 | T2: 8 | U2: 8 | Y2: 16 | Z2: 13 | AA2: 13 | AJ2: 19 | AK2: 21 | AT2: 4 | AU2: 11 | AV2: 9 | BH2: 10 | BN2: Tổng cộng: | BO2: =SUM(E2:BN2) -> 408 | BQ2: SV
A3: KHOA | D3: KHOA | E3: KHOA CƠ KHÍ Ô TÔ | Y3: KHOA CNTT | AJ3: KHOA Đ-ĐL | AT3: CNTP | BD3: KHOA KT | BN3: KẾT THÚC TIẾN ĐỘ
A4: GVCN | C4: TIẾT | D4: GIỜ DẠY | BM4: GIỜ DẠY | BN4: TIẾT | BO4: GVCN
A5: LỚP | E5: C26OTO2-N1 | F5: C26OTO2-N2 | G5: C26CK2 | H5: C26KTCK2 | I5: T26OTO2 | J5: T26CK2 | K5: C26OTO-LT | Y5: C26LRMT2 | Z5: C26MT2 | AA5: C26TKĐH2 | AB5: C26UDPM2 | AC5: T26LRMT2 | AD5: T26MT2 | AE5: T26TKĐH2 | AF5: T26UDPM2 | AJ5: C26DC2-N1 | AK5: C26DC2-N2 | AL5: C26TĐH2 | AM5: T26DC2 | AN5: T26KTML2-N1 | AO5: T26KTML2-N2 | AS5: C24KTML-LT | AT5: C26TP1 | AU5: T26TP1 | AV5: C26TP-LT | AX5: T25TP1 | AY5: T25TP2 | AZ5: C25TP1 | BA5: C24TP2 | BD5: C26KT2 | BE5: C26QTKD2 | BF5: T26KT2 | BO5: LỚP
A6: THỨ HAI | B6: SÁNG | C6: 1 | D6: 7h30-8h15 | E6: DUNG SAI LG | F6: DUNG SAI LG | G6: VẼ KT | J6: BV MT- ATLĐ | AE6: TIN HỌC | AF6: TIN HỌC | AM6: KT AN TOÀN | AN6: KT ĐIỆN- | AO6: KT ĐIỆN- | AU6: TN HÓA SINH | AV6: BQ CB THỊT | BF6: MARKETING | BM6: 7h00-7h45 | BN6: 1 | BO6: SÁNG | BP6: THỨ HAI
C7: 2 | D7: 8h30-9h15 | E7: VÀ ĐLKT | F7: VÀ ĐLKT | J7: VÀ VS CN | AM7: VÀ BHLĐ | AN7: ĐIỆN TỬ | AO7: ĐIỆN TỬ | AU7: TP | AV7: VÀ THỦY SẢN | BF7: CƠ BẢN | BM7: 7h45-8h30 | BN7: 2
C8: 3 | D8: 9h15-10h00 | BM8: 9h00-9h45 | BN8: 3
C9: 4 | E9: A205 | F9: A205 | G9: A113 | J9: A306 | AE9: B514 | AF9: B504 | AM9: A112 | AN9: A307 | AO9: A307 | AU9: C102 | AV9: C103 | BF9: A018 | BM9: 9h45-10h30 | BN9: 4
C10: 5 | D10: 11h00-11h45 | E10: T.THÔNG | F10: T.THÔNG | G10: T.HOÀNG | J10: T.NGHI | AE10: T.DUY | AF10: C.HÂN | AM10: T.LƯU | AN10: T.CÔNG | AO10: T.CÔNG | AU10: C.DIỆP | AV10: T.XUÂN | BF10: C.NGUYỆT | BM10: 10h30-11h15 | BN10: 5
B11: CHIỀU | C11: 6 | D11: 12h45-1h30 | H11: VẼ KT | I11: HỌC VĂN HÓA | J11: HỌC VĂN HÓA | K11: CN LẮP | AC11: HỌC VĂN HÓA | AD11: HỌC VĂN HÓA | AE11: HỌC VĂN HÓA | AF11: HỌC VĂN HÓA | AL11: SD CÔNG CỤ | AM11: HỌC VĂN HÓA | AN11: HỌC VĂN HÓA | AO11: HỌC VĂN HÓA | AT11: KỸ THUẬT | AU11: HỌC VĂN HÓA | AW11: HỌC VĂN HÓA | AX11: HỌC VĂN HÓA | BE11: MARKETING CB | BF11: HỌC VĂN HÓA | BH11: HỌC VĂN HÓA | BI11: HỌC VĂN HÓA | BJ11: HỌC VĂN HÓA | BM11: 12h45-1h30 | BN11: 6 | BO11: CHIỀU
C12: 7 | D12: 1h30-2h15 | I12: THEO TKB TTGDTX | J12: THEO TKB TTGDTX | K12: RÁP Ô TÔ | AC12: THEO TKB TTGDTX | AD12: THEO TKB TTGDTX | AE12: THEO TKB TTGDTX | AF12: THEO TKB TTGDTX | AL12: DỤNG CỤ | AM12: THEO TKB TTGDTX | AN12: THEO TKB TTGDTX | AO12: THEO TKB TTGDTX | AT12: PHÒNG TN | AU12: THEO TKB TTGDTX | AW12: THEO TKB TTGDTX | AX12: THEO TKB TTGDTX | BF12: THEO TKB TTGDTX | BH12: THEO TKB TTGDTX | BI12: THEO TKB TTGDTX | BJ12: THEO TKB TTGDTX | BM12: 1h30-2h15 | BN12: 7
C13: 8 | D13: 2h30-3h15 | I13: QUẬN 1 | J13: QUẬN 1 | AC13: QUẬN 1 | AD13: QUẬN 1 | AE13: QUẬN 1 | AF13: QUẬN 1 | AM13: QUẬN 1 | AN13: QUẬN 1 | AO13: QUẬN 1 | AU13: QUẬN 1 | AW13: QUẬN 1 | AX13: QUẬN 1 | BE13: AD TỪ 18/10 | BF13: QUẬN 1 | BH13: QUẬN 1 | BI13: QUẬN 1 | BJ13: QUẬN 1 | BM13: 2h30-3h15 | BN13: 8
C14: 9 | D14: 3h15-4h00 | H14: A018 | K14: B004 | AL14: B203 | AT14: C102 | BE14: A307 | BM14: 3h15-4h00 | BN14: 9
C15: 10 | D15: 4h15-5h00 | H15: T.HOÀNG | K15: T.HUY | AL15: T.CHƯƠNG | AT15: C.DIỆP | BE15: C.NGUYỆT | BM15: 4h15-5h00 | BN15: 10
A16: THỨ BA | B16: LỚP | E16: =E5 -> C26OTO2-N1 | F16: =F5 -> C26OTO2-N2 | G16: =G5 -> C26CK2 | H16: =H5 -> C26KTCK2 | I16: =I5 -> T26OTO2 | J16: =J5 -> T26CK2 | K16: =K5 -> C26OTO-LT | L16: =L5 -> 0 | ... T16: =T5 -> 0 | Y16: =Y5 -> C26LRMT2 | Z16: =Z5 -> C26MT2 | AA16: =AA5 -> C26TKĐH2 | AB16: =AB5 -> C26UDPM2 | AC16: =AC5 -> T26LRMT2 | AD16: =AD5 -> T26MT2 | AE16: =AE5 -> T26TKĐH2 | AF16: =AF5 -> T26UDPM2 | ... AV16: =AV5 -> C26TP-LT | AX16: =AX5 -> T25TP1 | AY16: =AY5 -> T25TP2 | AZ16: =AZ5 -> C25TP1 | BA16: =BA5 -> C24TP2 | BB16: =BB5 -> 0 | BD16: =BD5 -> C26KT2 | BE16: =BE5 -> C26QTKD2 | BF16: =BF5 -> T26KT2 | BH16: =BH5 -> 0 | BI16: =BI5 -> 0 | BJ16: =BJ5 -> 0 | BK16: =BK5 -> 0 | BL16: =BL5 -> 0 | BP16: THỨ BA
B17: SÁNG | C17: 1 | D17: 7h30-8h15 | E17: GDCT | F17: GDCT | G17: TIẾNG ANH 1 | H17: TIẾNG ANH 1 | I17: TIẾNG ANH 1 | J17: TIẾNG ANH 1 | Y17: GDTC | Z17: GDTC | AA17: GDTC | AB17: GDTC | AC17: TIẾNG ANH 1 | AD17: TIẾNG ANH 1 | AE17: TIẾNG ANH 1 | AF17: TIẾNG ANH 1 | AJ17: GDCT | AK17: GDCT | AL17: GDCT | AM17: PHÁP LUẬT | AN17: PHÁP LUẬT | AO17: PHÁP LUẬT | AT17: GDTC | AU17: KỸ NĂNG | AV17: THÍ NGHIỆM | BD17: GDTC | BE17: GDTC | BF17: KỸ NĂNG | BL17: HỌC VĂN HÓA | BM17: 7h00-7h45 | BN17: 1 | BO17: SÁNG
C18: 2 | D18: 8h30-9h15 | E18: THAM QUAN | F18: THAM QUAN | AJ18: THAM QUAN | AK18: THAM QUAN | AL18: THAM QUAN | AU18: THIẾT YẾU | AV18: VI SINH TP | BF18: THIẾT YẾU | BL18: THEO TKB TTGDTX | BM18: 7h45-8h30 | BN18: 2
C19: 3 | D19: 9h15-10h00 | E19: THỰC TẾ | F19: THỰC TẾ | AJ19: THỰC TẾ | AK19: THỰC TẾ | AL19: THỰC TẾ | BL19: GIA ĐỊNH | BM19: 9h00-9h45 | BN19: 3
C20: 4 | D20: 10h15-11h00 | G20: A110 | H20: A110 | I20: A017 | J20: A017 | Y20: NHÀ THI ĐẤU | Z20: NHÀ THI ĐẤU | AA20: NHÀ THI ĐẤU | AB20: NHÀ THI ĐẤU | AC20: A018 | AD20: A018 | AE20: A018 | AF20: A018 | AM20: A111 | AN20: A111 | AO20: A111 | AT20: NHÀ THI ĐẤU | AU20: A112 | AV20: C107 | BD20: NHÀ THI ĐẤU | BE20: NHÀ THI ĐẤU | BF20: A112 | BM20: 9h45-10h30 | BN20: 4
C21: 5 | D21: 11h00-11h45 | E21: C.THỦY | F21: C.THỦY | G21: C.PHƯƠNG | H21: C.PHƯƠNG | I21: C.DIỆU | J21: C.DIỆU | Y21: T.THANH | Z21: T.THANH | AA21: T.THANH | AB21: T.THANH | AC21: T.HOÀNG | AD21: T.HOÀNG | AE21: T.HOÀNG | AF21: T.HOÀNG | AJ21: C.NGUYÊN | AK21: C.NGUYÊN | AL21: C.NGUYÊN | AM21: C.HỒNG | AN21: C.HỒNG | AO21: C.HỒNG | AT21: T.THANH | AU21: C.CHIÊU LINH | AV21: C.QUỲNH ANH | BD21: T.THANH | BE21: T.THANH | BF21: C.CHIÊU LINH | BM21: 10h30-11h15 | BN21: 5
B22: CHIỀU | C22: 6 | D22: 12h45-1h30 | E22: GDTC | F22: GDTC | I22: HỌC VĂN HÓA | J22: HỌC VĂN HÓA | K22: VẼ CHI TIẾT | Y22: TIẾNG ANH 1 | Z22: TIẾNG ANH 1 | AA22: TIẾNG ANH 1 | AB22: TIẾNG ANH 1 | AC22: HỌC VĂN HÓA | AD22: HỌC VĂN HÓA | AE22: HỌC VĂN HÓA | AF22: HỌC VĂN HÓA | AJ22: TIẾNG ANH 1 | AK22: TIẾNG ANH 1 | AL22: TIẾNG ANH 1 | AM22: HỌC VĂN HÓA | AN22: HỌC VĂN HÓA | AO22: HỌC VĂN HÓA | AT22: TIẾNG ANH 1 | AU22: HỌC VĂN HÓA | AV22: THÍ NGHIỆM | AW22: HỌC VĂN HÓA | AX22: HỌC VĂN HÓA | BD22: TIẾNG ANH 1 | BE22: TIẾNG ANH 1 | BF22: HỌC VĂN HÓA | BH22: HỌC VĂN HÓA | BI22: HỌC VĂN HÓA | BJ22: HỌC VĂN HÓA | BL22: HỌC VĂN HÓA | BM22: 12h45-1h30 | BN22: 6 | BO22: CHIỀU
C23: 7 | D23: 1h30-2h15 | I23: THEO TKB TTGDTX | J23: THEO TKB TTGDTX | K23: Ô TÔ TRÊN MT | AC23: THEO TKB TTGDTX | AD23: THEO TKB TTGDTX | AE23: THEO TKB TTGDTX | AF23: THEO TKB TTGDTX | AM23: THEO TKB TTGDTX | AN23: THEO TKB TTGDTX | AO23: THEO TKB TTGDTX | AU23: THEO TKB TTGDTX | AV23: VI SINH TP | AW23: THEO TKB TTGDTX | AX23: THEO TKB TTGDTX | BF23: THEO TKB TTGDTX | BH23: THEO TKB TTGDTX | BI23: THEO TKB TTGDTX | BJ23: THEO TKB TTGDTX | BL23: THEO TKB TTGDTX | BM23: 1h30-2h15 | BN23: 7
C24: 8 | D24: 2h30-3h15 | I24: QUẬN 1 | J24: QUẬN 1 | AC24: QUẬN 1 | AD24: QUẬN 1 | AE24: QUẬN 1 | AF24: QUẬN 1 | AM24: QUẬN 1 | AN24: QUẬN 1 | AO24: QUẬN 1 | AU24: QUẬN 1 | AW24: QUẬN 1 | AX24: QUẬN 1 | BF24: QUẬN 1 | BH24: QUẬN 1 | BI24: QUẬN 1 | BJ24: QUẬN 1 | BL24: GIA ĐỊNH | BM24: 2h30-3h15 | BN24: 8
C25: 9 | D25: 3h15-4h00 | E25: NHÀ THI ĐẤU | F25: NHÀ THI ĐẤU | K25: C002 | Y25: A018 | Z25: A018 | AA25: A018 | AB25: A018 | AJ25: A017 | AK25: A017 | AL25: A017 | AT25: A018 | AV25: C107 | BD25: A018 | BE25: A018 | BM25: 3h15-4h00 | BN25: 9
C26: 10 | D26: 4h15-5h00 | E26: T.THANH | F26: T.THANH | K26: T.THUẤN | Y26: C.DIỆU | Z26: C.DIỆU | AA26: C.DIỆU | AB26: C.DIỆU | AJ26: C.PHƯƠNG | AK26: C.PHƯƠNG | AL26: C.PHƯƠNG | AT26: C.DIỆU | AV26: C.QUỲNH ANH | BD26: C.DIỆU | BE26: C.DIỆU | BM26: 4h15-5h00 | BN26: 10
A27: THỨ TƯ | B27: LỚP | E27: =E5 -> C26OTO2-N1 | F27: =F16 -> C26OTO2-N2 | G27: =G16 -> C26CK2 | H27: =H16 -> C26KTCK2 | I27: =I16 -> T26OTO2 | J27: =J5 -> T26CK2 | K27: =K16 -> C26OTO-LT | L27: =L16 -> 0 | M27: =M5 -> 0 | N27: =N16 -> 0 | O27: =O16 -> 0 | P27: =P5 -> 0 | Q27: =Q16 -> 0 | R27: =R16 -> 0 | S27: =S38 -> 0 | T27: =T16 -> 0 | Y27: =Y16 -> C26LRMT2 | Z27: =Z16 -> C26MT2 | AA27: =AA16 -> C26TKĐH2 | AB27: =AB16 -> C26UDPM2 | AC27: =AC16 -> T26LRMT2 | AD27: =AD16 -> T26MT2 | AE27: =AE16 -> T26TKĐH2 | AF27: =AF16 -> T26UDPM2 | ... AI27: =AI16 -> 0 | AJ27: =AJ5 -> C26DC2-N1 | AK27: =AK5 -> C26DC2-N2 | AL27: =AL16 -> C26TĐH2 | AM27: =AM5 -> T26DC2 | AN27: =AN5 -> T26KTML2-N1 | AO27: =AO5 -> T26KTML2-N2 | AP27: =AP5 -> 0 | AQ27: =AQ5 -> 0 | AR27: =AR5 -> 0 | AS27: =AS16 -> C24KTML-LT | AT27: =AT16 -> C26TP1 | AU27: =AU16 -> T26TP1 | AV27: =AV5 -> C26TP-LT | AX27: =AX16 -> T25TP1 | AY27: =AY5 -> T25TP2 | AZ27: =AZ16 -> C25TP1 | BA27: =BA16 -> C24TP2 | BB27: =BB5 -> 0 | BD27: =BD5 -> C26KT2 | BE27: =BE5 -> C26QTKD2 | BF27: =BF16 -> T26KT2 | BH27: =BH16 -> 0 | BI27: =BI16 -> 0 | BJ27: =BJ16 -> 0 | BK27: =BK16 -> 0 | BL27: =BL16 -> 0 | BM27: KẾT THÚC TIẾN ĐỘ | BP27: THỨ TƯ
B28: SÁNG | C28: 1 | D28: 7h30-8h15 | E28: KT Ô TÔ | F28: KT Ô TÔ | G28: NL CẮT | I28: KT Ô TÔ | J28: VẬT LIỆU CK | AE28: MỸ THUẬT CB | AF28: KT LẬP TRÌNH | AJ28: SD CCDC | AL28: KT AN TOÀN | AM28: CUNG CẤP ĐIỆN | AN28: TIN HỌC | AO28: TIN HỌC | AT28: VI SINH TP | AU28: KT PHÒNG | BF28: NGUYÊN LÝ | BM28: 7h00-7h45 | BN28: 1 | BO28: SÁNG
C29: 3 | D29: 8h30-9h15 | AJ29: CN ĐIỆN | AL29: VÀ BH LĐ | AU29: THÍ NGHIỆM | BF29: THỐNG KÊ | BM29: 7h45-8h30 | BN29: 2
C30: 3 | D30: 9h15-10h00 | BM30: 9h00-9h45 | BN30: 3
C31: 4 | D31: 10h15-11h00 | E31: A205 | F31: A205 | G31: A306 | I31: A306 | J31: A206 | AE31: B506 | AF31: B514 | AJ31: B203 | AL31: A112 | AM31: A113 | AN31: B204 | AO31: B204 | AT31: A111 | AU31: C102 | BF31: A110 | BM31: 9h45-10h30 | BN31: 4
C32: 5 | D32: 11h00-11h45 | E32: T.THỊNH | F32: T.THỊNH | G32: T.LONG | I32: T.LÂN | J32: T.TRƯƠNG | AE32: C.S.MAI | AF32: C.HÂN | AJ32: T.LƯU | AL32: T.CHƯƠNG | AM32: T.V.TUẤN | AN32: T.HIẾU | AO32: T.HIẾU | AT32: C.QUỲNH ANH | AU32: C.DIỆP | BF32: C.PHƯƠNG | BM32: 10h30-11h15 | BN32: 5
B33: CHIỀU | C33: 6 | D33: 12h45-1h30 | F33: BD VÀ SC | H33: NL CẮT | I33: HỌC VĂN HÓA | J33: HỌC VĂN HÓA | AC33: HỌC VĂN HÓA | AD33: HỌC VĂN HÓA | AE33: HỌC VĂN HÓA | AF33: HỌC VĂN HÓA | AJ33: KT ĐIỆN | AK33: KT ĐIỆN | AL33: SD CÔNG CỤ | AM33: HỌC VĂN HÓA | AN33: HỌC VĂN HÓA | AO33: HỌC VĂN HÓA | AT33: KỸ THUẬT | AU33: HỌC VĂN HÓA | AW33: HỌC VĂN HÓA | AX33: HỌC VĂN HÓA | BF33: HỌC VĂN HÓA | BH33: HỌC VĂN HÓA | BI33: HỌC VĂN HÓA | BJ33: HỌC VĂN HÓA | BM33: 12h45-1h30 | BN33: 6 | BO33: CHIỀU
C34: 7 | D34: 1h30-2h15 | F34: CK ĐỘNG CƠ | I34: THEO TKB TTGDTX | J34: THEO TKB TTGDTX | AC34: THEO TKB TTGDTX | AD34: THEO TKB TTGDTX | AE34: THEO TKB TTGDTX | AF34: THEO TKB TTGDTX | AL34: DỤNG CỤ | AM34: THEO TKB TTGDTX | AN34: THEO TKB TTGDTX | AO34: THEO TKB TTGDTX | AT34: PHÒNG TN | AU34: THEO TKB TTGDTX | AW34: THEO TKB TTGDTX | AX34: THEO TKB TTGDTX | BF34: THEO TKB TTGDTX | BH34: THEO TKB TTGDTX | BI34: THEO TKB TTGDTX | BJ34: THEO TKB TTGDTX | BM34: 1h30-2h15 | BN34: 7
C35: 8 | D35: 2h30-3h15 | I35: QUẬN 1 | J35: QUẬN 1 | AC35: QUẬN 1 | AD35: QUẬN 1 | AE35: QUẬN 1 | AF35: QUẬN 1 | AM35: QUẬN 1 | AN35: QUẬN 1 | AO35: QUẬN 1 | AU35: QUẬN 1 | AW35: QUẬN 1 | AX35: QUẬN 1 | BF35: QUẬN 1 | BH35: QUẬN 1 | BI35: QUẬN 1 | BJ35: QUẬN 1 | BM35: 2h30-3h15 | BN35: 8
C36: 9 | D36: 3h15-4h00 | F36: B004 | H36: A018 | AJ36: A015 | AK36: A015 | AL36: B203 | AT36: C102 | BM36: 3h15-4h00 | BN36: 9
C37: 10 | D37: 4h15-5h00 | F37: T.LÂN | H37: T.LONG | AJ37: T.CÔNG | AK37: T.CÔNG | AL37: T.CHƯƠNG | AT37: C.DIỆP | BM37: 4h15-5h00 | BN37: 10
A38: THỨ NĂM | B38: LỚP | E38: =E5 -> C26OTO2-N1 | F38: =F27 -> C26OTO2-N2 | G38: =G27 -> C26CK2 | H38: =H27 -> C26KTCK2 | I38: =I27 -> T26OTO2 | J38: =J5 -> T26CK2 | K38: =K27 -> C26OTO-LT | L38: =L27 -> 0 | M38: =M5 -> 0 | N38: =N27 -> 0 | O38: =O27 -> 0 | P38: =P5 -> 0 | Q38: =Q27 -> 0 | R38: =R27 -> 0 | S38: =S16 -> 0 | T38: =T27 -> 0 | Y38: =Y27 -> C26LRMT2 | Z38: =Z27 -> C26MT2 | AA38: =AA27 -> C26TKĐH2 | AB38: =AB27 -> C26UDPM2 | AC38: =AC27 -> T26LRMT2 | AD38: =AD27 -> T26MT2 | AE38: =AE27 -> T26TKĐH2 | AF38: =AF27 -> T26UDPM2 | ... AH38: =AH27 -> 0 | AJ38: =AJ5 -> C26DC2-N1 | AK38: =AK5 -> C26DC2-N2 | AL38: =AL27 -> C26TĐH2 | AM38: =AM5 -> T26DC2 | AN38: =AN5 -> T26KTML2-N1 | AO38: =AO5 -> T26KTML2-N2 | AP38: =AP5 -> 0 | AQ38: =AQ5 -> 0 | AR38: =AR5 -> 0 | AS38: =AS27 -> C24KTML-LT | AT38: =AT27 -> C26TP1 | AU38: =AU27 -> T26TP1 | AV38: =AV27 -> C26TP-LT | AX38: =AX27 -> T25TP1 | AY38: =AY27 -> T25TP2 | AZ38: =AZ27 -> C25TP1 | BA38: =BA27 -> C24TP2 | BB38: =BB27 -> 0 | BD38: =BD27 -> C26KT2 | BE38: =BE27 -> C26QTKD2 | BF38: =BF27 -> T26KT2 | BH38: =BH27 -> 0 | BI38: =BI27 -> 0 | BJ38: =BJ27 -> 0 | BK38: =BK27 -> 0 | BL38: =BL27 -> 0 | BP38: THỨ NĂM
B39: SÁNG | C39: 1 | D39: 7h30-8h15 | G39: GDTC | H39: GDTC | I39: PHÁP LUẬT | J39: PHÁP LUẬT | Y39: GDCT | Z39: GDCT | AA39: GDCT | AB39: GDCT | AC39: KỸ NĂNG | AD39: KỸ NĂNG | AE39: KỸ NĂNG | AF39: KỸ NĂNG | AM39: TIẾNG ANH 1 | AN39: TIẾNG ANH 1 | AO39: TIẾNG ANH 1 | AT39: GDCT | AU39: TIẾNG ANH 1 | AV39: THÍ NGHIỆM | BD39: GDCT | BE39: GDCT | BF39: TIẾNG ANH 1 | BM39: 7h00-7h45 | BN39: 1 | BO39: SÁNG
C40: 2 | D40: 8h30-9h15 | AC40: THIẾT YẾU | AD40: THIẾT YẾU | AE40: THIẾT YẾU | AF40: THIẾT YẾU | AV40: HÓA SINH TP | BM40: 7h45-8h30 | BN40: 2
C41: 3 | D41: 9h15-10h00 | BM41: 9h00-9h45 | BN41: 3
C42: 4 | D42: 10h15-11h00 | G42: NHÀ THI ĐẤU | H42: NHÀ THI ĐẤU | I42: A017 | J42: A017 | Y42: A110 | Z42: A110 | AA42: A110 | AB42: A110 | AC42: A111 | AD42: A111 | AE42: A111 | AF42: A111 | AM42: A018 | AN42: A018 | AO42: A018 | AT42: A110 | AU42: A112 | AV42: C102 | BD42: A110 | BE42: A110 | BF42: A112 | BM42: 9h45-10h30 | BN42: 4 | BR42: =+BO3 -> 0
C43: 5 | D43: 11h00-11h45 | G43: T.THANH | H43: T.THANH | I43: C.HỒNG | J43: C.HỒNG | Y43: C.THỦY | Z43: C.THỦY | AA43: C.THỦY | AB43: C.THỦY | AC43: C.CHIÊU LINH | AD43: C.CHIÊU LINH | AE43: C.CHIÊU LINH | AF43: C.CHIÊU LINH | AM43: T.CÔNG HOÀNG | AN43: T.CÔNG HOÀNG | AO43: T.CÔNG HOÀNG | AT43: C.THỦY | AU43: C.DIỆU | AV43: C.THANH VY | BD43: C.THỦY | BE43: C.THỦY | BF43: C.DIỆU | BM43: 10h30-11h15 | BN43: 5
B44: CHIỀU | C44: 6 | D44: 12h45-1h30 | E44: TIẾNG ANH 1 | F44: TIẾNG ANH 1 | G44: GDCT | H44: GDCT | I44: HỌC VĂN HÓA | J44: HỌC VĂN HÓA | K44: BD VÀ SC | AC44: HỌC VĂN HÓA | AD44: HỌC VĂN HÓA | AE44: HỌC VĂN HÓA | AF44: HỌC VĂN HÓA | AJ44: GDTC | AK44: GDTC | AL44: GDTC | AM44: HỌC VĂN HÓA | AN44: HỌC VĂN HÓA | AO44: HỌC VĂN HÓA | AU44: HỌC VĂN HÓA | AW44: HỌC VĂN HÓA | AX44: HỌC VĂN HÓA | BE44: KỸ NĂNG MỀM | BF44: HỌC VĂN HÓA | BH44: HỌC VĂN HÓA | BI44: HỌC VĂN HÓA | BJ44: HỌC VĂN HÓA | BM44: 12h45-1h30 | BN44: 6 | BO44: CHIỀU
C45: 7 | D45: 1h30-2h15 | I45: THEO TKB TTGDTX | J45: THEO TKB TTGDTX | K45: KHUNG GẦM | AC45: THEO TKB TTGDTX | AD45: THEO TKB TTGDTX | AE45: THEO TKB TTGDTX | AF45: THEO TKB TTGDTX | AM45: THEO TKB TTGDTX | AN45: THEO TKB TTGDTX | AO45: THEO TKB TTGDTX | AU45: THEO TKB TTGDTX | AW45: THEO TKB TTGDTX | AX45: THEO TKB TTGDTX | BF45: THEO TKB TTGDTX | BH45: THEO TKB TTGDTX | BI45: THEO TKB TTGDTX | BJ45: THEO TKB TTGDTX | BM45: 1h30-2h15 | BN45: 7
C46: 8 | D46: 2h30-3h15 | I46: QUẬN 1 | J46: QUẬN 1 | K46: ÔTÔ | AC46: QUẬN 1 | AD46: QUẬN 1 | AE46: QUẬN 1 | AF46: QUẬN 1 | AM46: QUẬN 1 | AN46: QUẬN 1 | AO46: QUẬN 1 | AU46: QUẬN 1 | AW46: QUẬN 1 | AX46: QUẬN 1 | BF46: QUẬN 1 | BH46: QUẬN 1 | BI46: QUẬN 1 | BJ46: QUẬN 1 | BM46: 2h30-3h15 | BN46: 8
C47: 9 | D47: 3h15-4h00 | E47: A017 | F47: A017 | G47: A018 | H47: A018 | K47: B005 | AJ47: NHÀ THI ĐẤU | AK47: NHÀ THI ĐẤU | AL47: NHÀ THI ĐẤU | BE47: A203 | BM47: 3h15-4h00 | BN47: 9
C48: 10 | D48: 4h15-5h00 | E48: C.DIỆU | F48: C.DIỆU | G48: C.NGUYÊN | H48: C.NGUYÊN | K48: T.DŨNG | AJ48: T.THANH | AK48: T.THANH | AL48: T.THANH | BE48: T.DUY | BM48: 4h15-5h00 | BN48: 10
A49: THỨ SÁU | B49: LỚP | E49: =E38 -> C26OTO2-N1 | F49: =F38 -> C26OTO2-N2 | G49: =G38 -> C26CK2 | H49: =H38 -> C26KTCK2 | I49: =I38 -> T26OTO2 | J49: =J38 -> T26CK2 | K49: =K38 -> C26OTO-LT | L49: =L38 -> 0 | ... T49: =T38 -> 0 | Y49: =Y38 -> C26LRMT2 | Z49: =Z38 -> C26MT2 | AA49: =AA38 -> C26TKĐH2 | AB49: =AB38 -> C26UDPM2 | AC49: =AC38 -> T26LRMT2 | AD49: =AD38 -> T26MT2 | AE49: =AE38 -> T26TKĐH2 | AF49: =AF38 -> T26UDPM2 | AJ49: =AJ5 -> C26DC2-N1 | AK49: =AK5 -> C26DC2-N2 | AL49: =AL5 -> C26TĐH2 | AM49: =AM5 -> T26DC2 | AN49: =AN5 -> T26KTML2-N1 | AO49: =AO5 -> T26KTML2-N2 | AP49: =AP5 -> 0 | AQ49: =AQ5 -> 0 | ... AS49: =AS5 -> C24KTML-LT | AT49: =AT38 -> C26TP1 | AU49: =AU38 -> T26TP1 | AV49: =AV38 -> C26TP-LT | AX49: =AX38 -> T25TP1 | AY49: =AY38 -> T25TP2 | AZ49: =AZ38 -> C25TP1 | BA49: =BA38 -> C24TP2 | BB49: =BB38 -> 0 | BD49: =BD38 -> C26KT2 | BE49: =BE38 -> C26QTKD2 | BF49: =BF38 -> T26KT2 | BH49: =BH38 -> 0 | BI49: =BI38 -> 0 | BJ49: =BJ38 -> 0 | BK49: =BK38 -> 0 | BL49: =BL38 -> 0 | BP49: THỨ SÁU
B50: SÁNG | C50: 1 | D50: 7h30-8h15 | G50: VẼ KT | J50: NL CẮT | AE50: LR VÀ CĐ | AF50: XỬ LÝ ẢNH | AM50: KT ĐIỆN | AN50: CS KT NHIỆT | AO50: CS KT NHIỆT | AT50: TN HÓA SINH | AU50: VI SINH TP | BE50: KỸ NĂNG MỀM | BF50: NGUYÊN LÝ | BM50: 7h00-7h45 | BN50: 2 | BO50: SÁNG
C51: 2 | D51: 8h30-9h15 | AE51: MÁY TÍNH | AF51: VỚI PHOTOSHOP | AN51: LẠNH VÀ KK | AO51: LẠNH VÀ KK | AT51: TP | BF51: KẾ TOÁN | BM51: 7h45-8h30 | BN51: 3
C52: 3 | D52: 9h15-10h00 | BM52: 9h00-9h45 | BN52: 4
C53: 4 | D53: 10h15-11h00 | G53: A017 | J53: A307 | AE53: B504 | AF53: B514 | AM53: A111 | AN53: A308 | AO53: A308 | AT53: C102 | AU53: A113 | BE53: A203 | BF53: A110 | BM53: 9h45-10h30 | BN53: 5
C54: 5 | D54: 11h00-11h45 | G54: T.HOÀNG | J54: T.LONG | AE54: T.THÀNH | AF54: T.LIÊN | AM54: T.V.HÙNG | AN54: T.QUANG | AO54: T.QUANG | AT54: C.DIỆP | AU54: C.QUỲNH ANH | BE54: T.DUY | BF54: C.D.TRANG | BM54: 10h30-11h15 | BN54: 6
B55: CHIỀU | C55: 6 | D55: 12h45-1h30 | H55: VẼ KT | I55: HỌC VĂN HÓA | J55: HỌC VĂN HÓA | K55: BD VÀ SC | AC55: HỌC VĂN HÓA | AD55: HỌC VĂN HÓA | AE55: HỌC VĂN HÓA | AF55: HỌC VĂN HÓA | AG55: HỌC VĂN HÓA | AH55: HỌC VĂN HÓA | AI55: HỌC VĂN HÓA | AK55: SD CCDC | AM55: HỌC VĂN HÓA | AN55: HỌC VĂN HÓA | AO55: HỌC VĂN HÓA | AU55: HỌC VĂN HÓA | AW55: HỌC VĂN HÓA | AX55: HỌC VĂN HÓA | BE55: KINH TẾ VI MÔ | BF55: HỌC VĂN HÓA | BH55: HỌC VĂN HÓA | BI55: HỌC VĂN HÓA | BJ55: HỌC VĂN HÓA | BM55: 12h45-1h30 | BN55: 7 | BO55: CHIỀU
C56: 7 | D56: 1h30-2h15 | I56: THEO TKB TTGDTX | J56: THEO TKB TTGDTX | K56: HT ĐIỆN Ô TÔ | AC56: THEO TKB TTGDTX | AD56: THEO TKB TTGDTX | AE56: THEO TKB TTGDTX | AF56: THEO TKB TTGDTX | AG56: THEO TKB TTGDTX | AH56: THEO TKB TTGDTX | AI56: THEO TKB TTGDTX | AK56: CN ĐIỆN | AM56: THEO TKB TTGDTX | AN56: THEO TKB TTGDTX | AO56: THEO TKB TTGDTX | AU56: THEO TKB TTGDTX | AW56: THEO TKB TTGDTX | AX56: THEO TKB TTGDTX | BF56: THEO TKB TTGDTX | BH56: THEO TKB TTGDTX | BI56: THEO TKB TTGDTX | BJ56: THEO TKB TTGDTX | BM56: 1h30-2h15 | BN56: 8
C57: 8 | D57: 2h30-3h15 | I57: QUẬN 1 | J57: QUẬN 1 | AC57: QUẬN 1 | AD57: QUẬN 1 | AE57: QUẬN 1 | AF57: QUẬN 1 | AG57: QUẬN 1 | AH57: QUẬN 1 | AI57: QUẬN 1 | AM57: QUẬN 1 | AN57: QUẬN 1 | AO57: QUẬN 1 | AU57: QUẬN 1 | AW57: QUẬN 1 | AX57: QUẬN 1 | BF57: QUẬN 1 | BH57: QUẬN 1 | BI57: QUẬN 1 | BJ57: QUẬN 1 | BM57: 2h30-3h15 | BN57: 9
C58: 9 | D58: 3h15-4h00 | H58: A018 | K58: B004 | AK58: B203 | BE58: A017 | BM58: 3h15-4h00 | BN58: 10
C59: 10 | D59: 4h15-5h00 | H59: T.HOÀNG | K59: T.THỊNH | AK59: T.CHƯƠNG | BE59: C.KHUYÊN | BM59: 4h15-5h00 | BN59: 11
A60: THỨ BẢY | B60: LỚP | E60: =E49 -> C26OTO2-N1 | F60: =F49 -> C26OTO2-N2 | G60: =G49 -> C26CK2 | H60: =H49 -> C26KTCK2 | I60: =I49 -> T26OTO2 | J60: =J49 -> T26CK2 | K60: =K49 -> C26OTO-LT | L60: =L49 -> 0 | ... T60: =T49 -> 0 | Y60: =Y49 -> C26LRMT2 | Z60: =Z49 -> C26MT2 | AA60: =AA49 -> C26TKĐH2 | AB60: =AB49 -> C26UDPM2 | AC60: =AC49 -> T26LRMT2 | AD60: =AD49 -> T26MT2 | AE60: =AE49 -> T26TKĐH2 | AF60: =AF49 -> T26UDPM2 | ... AH60: =AH49 -> 0 | AJ60: =AJ5 -> C26DC2-N1 | AK60: =AK5 -> C26DC2-N2 | AL60: =AL5 -> C26TĐH2 | AM60: =AM5 -> T26DC2 | AN60: =AN5 -> T26KTML2-N1 | AO60: =AO5 -> T26KTML2-N2 | AP60: =AP5 -> 0 | AQ60: =AQ5 -> 0 | ... AS60: =AS5 -> C24KTML-LT | AT60: =AT49 -> C26TP1 | AU60: =AU49 -> T26TP1 | AV60: =AV49 -> C26TP-LT | AX60: =AX49 -> T25TP1 | AY60: =AY49 -> T25TP2 | AZ60: =AZ49 -> C25TP1 | BA60: =BA49 -> C24TP2 | BB60: =BB49 -> 0 | BD60: =BD49 -> C26KT2 | BE60: =BE49 -> C26QTKD2 | BF60: =BF38 -> T26KT2 | BH60: =BH49 -> 0 | BI60: =BI49 -> 0 | BJ60: =BJ49 -> 0 | BK60: =BK49 -> 0 | BL60: =BL49 -> 0 | BP60: THỨ BẢY
B61: SÁNG | C61: 1 | D61: 7h30-8h15 | I61: VẼ KT | AF61: TK WEB | AJ61: ĐO LƯỜNG | AM61: TIN HỌC | AN61: THỰC TẬP | AT61: THÍ NGHIỆM | AU61: AN TOÀN | AV61: GDCT | BM61: 7h00-7h45 | BN61: 2 | BO61: SÁNG
C62: 2 | D62: 8h30-9h15 | AJ62: ĐIỆN - ĐIỆN TỬ | AN62: GÒ HÀN | AT62: HÓA SINH | AU62: LAO ĐỘNG | BM62: 7h45-8h30 | BN62: 3
C63: 3 | D63: 9h15-10h00 | BM63: 9h00-9h45 | BN63: 4
C64: 4 | D64: 10h15-11h00 | I64: A110 | AF64: B513 | AJ64: B212 | AM64: B204 | AN64: C007 | AT64: C102 | AU64: A018 | AV64: A015 | BM64: 9h45-10h30 | BN64: 5
C65: 5 | D65: 11h00-11h45 | I65: T.LONG | AF65: T.TÀI | AJ65: T.HÙNG | AM65: T.HIẾU | AN65: T.TRƯƠNG | AT65: C.DIỆP | AU65: C.THOA | AV65: C.NGUYÊN | BM65: 10h30-11h15 | BN65: 6
B66: CHIỀU | C66: 6 | D66: 12h45-1h30 | K66: BD VÀ SC | AE66: NGHỆ THUẬT | AJ66: ĐO LƯỜNG | AM66: TIN HỌC | AO66: THỰC TẬP | AU66: TN HÓA SINH | BM66: 12h45-1h30 | BN66: 7 | BO66: CHIỀU
C67: 7 | D67: 1h30-2h15 | K67: KHUNG GẦM | AE67: CHỮ | AJ67: ĐIỆN - ĐIỆN TỬ | AO67: GÒ HÀN | AU67: TP | BM67: 1h30-2h15 | BN67: 8
C68: 8 | D68: 2h30-3h15 | K68: ÔTÔ | BM68: 2h30-3h15 | BN68: 9
C69: 9 | D69: 3h15-4h00 | K69: B005 | AE69: B515 | AJ69: B212 | AM69: B204 | AO69: C007 | AU69: C102 | BM69: 3h15-4h00 | BN69: 10
C70: 10 | D70: 4h15-5h00 | K70: T.DŨNG | AE70: C.THƯ | AJ70: T.HÙNG | AM70: T.HIẾU | AO70: T.TRƯƠNG | AU70: C.DIỆP | BM70: 4h15-5h00 | BN70: 11
B71: SÁNG | C71: 1 | D71: 6h45 | BM71: 6h45 | BN71: 1 | BO71: SAÙNG
C72: 2 | D72: 8h15 | BM72: 8h15 | BN72: 2
C73: 3 | D73: 8h30 | BM73: 8h30 | BN73: 3
C74: 4 | D74: 10h00 | BM74: 10h00 | BN74: 4
C75: 5 | D75: 10h15 | BM75: 10h15 | BN75: 5
C76: 6 | D76: 11h45 | BM76: 11h45 | BN76: 6
B77: CHIỀU | C77: 7 | D77: 12h45 | BM77: 12h45 | BN77: 7 | BO77: CHIEÀU
C78: 8 | D78: 2h15 | BM78: 2h15 | BN78: 8
C79: 9 | D79: 2h30 | BM79: 2h30 | BN79: 9
C80: 10 | D80: 4h | BM80: 4h | BN80: 10
C81: 11 | D81: 4h15 | BM81: 4h15 | BN81: 11
C82: 12 | D82: 5h45 | BM82: 5h45 | BN82: 12
B83: KẾT THÚC TIẾN ĐỘ | BM83: KẾT THÚC TIẾN ĐỘ
A84: GVCN | C84: TIẾT | D84: GIỜ DẠY | BM84: GIỜ DẠY | BN84: TIẾT | BO84: GVCN
A85: LỚP | E85: =E60 -> C26OTO2-N1 | F85: =F60 -> C26OTO2-N2 | G85: =G60 -> C26CK2 | H85: =H60 -> C26KTCK2 | I85: =I60 -> T26OTO2 | J85: =J60 -> T26CK2 | K85: =K60 -> C26OTO-LT | L85: =L60 -> 0 | ... T85: =T60 -> 0 | Y85: =Y60 -> C26LRMT2 | Z85: =Z60 -> C26MT2 | AA85: =AA60 -> C26TKĐH2 | AB85: =AB60 -> C26UDPM2 | AC85: =AC60 -> T26LRMT2 | AD85: =AD60 -> T26MT2 | AE85: =AE60 -> T26TKĐH2 | AF85: T22UDPM2 | AG85: =AG60 -> 0 | AH85: T22UDPM2 | AJ85: =AJ5 -> C26DC2-N1 | AK85: =AK5 -> C26DC2-N2 | AL85: =AL5 -> C26TĐH2 | AM85: =AM5 -> T26DC2 | AN85: =AN60 -> T26KTML2-N1 | AO85: =AO60 -> T26KTML2-N2 | AP85: =AP60 -> 0 | AQ85: =AQ60 -> 0 | AR85: =AR60 -> 0 | AS85: =AS60 -> C24KTML-LT | AT85: =AT60 -> C26TP1 | AU85: =AU60 -> T26TP1 | AV85: T22TP1(N1) | AX85: =AX60 -> T25TP1 | AY85: =AY60 -> T25TP2 | AZ85: =AZ60 -> C25TP1 | BA85: =BA60 -> C24TP2 | BB85: =BB60 -> 0 | BD85: =BD60 -> C26KT2 | BE85: =BE60 -> C26QTKD2 | BF85: =BF60 -> T26KT2 | BH85: =BH60 -> 0 | BI85: =BI60 -> 0 | BJ85: =BJ60 -> 0 | BK85: =BK60 -> 0 | BL85: =BL60 -> 0 | BO85: LỚP

Sheet Khoa CK OT
A1: T H Ờ I K H Ó A B I Ể U - K H O A C Ơ K H Í Ô T Ô
A2: ÁP DỤNG TỪ NGÀY 12/10/2026 ĐẾN NGÀY 31/10/2026 | K2: =A2 -> ÁP DỤNG TỪ NGÀY 12/10/2026 ĐẾN NGÀY 31/10/2026
A3: LỚP: | C3: ='TONG HOP'!E5 -> C26OTO2-N1 | E3: GVCN: NGÔ TẤN HẢI. SĐT: 0984.410.454 | K3: LỚP: | M3: ='TONG HOP'!F5 -> C26OTO2-N2
A4: Buổi | B4: Tiết | C4: Giờ dạy | D4: THỨ HAI | E4: THỨ BA | F4: THỨ TƯ | G4: THỨ NĂM | H4: THỨ SÁU | I4: THỨ BẢY | K4: Buổi | L4: Tiết | M4: Giờ dạy | N4: THỨ HAI | O4: THỨ BA | P4: THỨ TƯ | Q4: THỨ NĂM | R4: THỨ SÁU | S4: THỨ BẢY
A5: SÁNG | B5: 1 | C5: 7h00-7h45 | D5: ='TONG HOP'!E6 -> DUNG SAI LG | E5: ='TONG HOP'!E17 -> GDCT | F5: ='TONG HOP'!E28 -> KT Ô TÔ | G5: ='TONG HOP'!E39 -> 0 | H5: ='TONG HOP'!E50 -> 0 | I5: ='TONG HOP'!E61 -> 0 | K5: SÁNG | L5: 1 | M5: 7h00-7h45 | N5: ='TONG HOP'!F6 -> DUNG SAI LG | O5: ='TONG HOP'!F17 -> GDCT | P5: ='TONG HOP'!F28 -> KT Ô TÔ | Q5: ='TONG HOP'!F39 -> 0 | R5: ='TONG HOP'!F50 -> 0 | S5: ='TONG HOP'!F61 -> 0
B6: 2 | C6: 7h45-8h30 | D6: ='TONG HOP'!E7 -> VÀ ĐLKT | E6: ='TONG HOP'!E18 -> THAM QUAN | F6: ='TONG HOP'!E29 -> 0 | G6: ='TONG HOP'!E40 -> 0 | H6: ='TONG HOP'!E51 -> 0 | I6: ='TONG HOP'!E62 -> 0 | L6: 2 | M6: 7h45-8h30 | N6: ='TONG HOP'!F7 -> VÀ ĐLKT | O6: ='TONG HOP'!F18 -> THAM QUAN | P6: ='TONG HOP'!F29 -> 0 | Q6: ='TONG HOP'!F40 -> 0 | R6: ='TONG HOP'!F51 -> 0 | S6: ='TONG HOP'!F62 -> 0
B7: 3 | C7: 9h00-9h45 | D7: ='TONG HOP'!E8 -> 0 | E7: ='TONG HOP'!E19 -> THỰC TẾ | F7: ='TONG HOP'!E30 -> 0 | G7: ='TONG HOP'!E41 -> 0 | H7: ='TONG HOP'!E52 -> 0 | I7: ='TONG HOP'!E63 -> 0 | L7: 3 | M7: 9h00-9h45 | N7: ='TONG HOP'!F8 -> 0 | O7: ='TONG HOP'!F19 -> THỰC TẾ | P7: ='TONG HOP'!F30 -> 0 | Q7: ='TONG HOP'!F41 -> 0 | R7: ='TONG HOP'!F52 -> 0 | S7: ='TONG HOP'!F63 -> 0
B8: 4 | C8: 9h45-10h30 | D8: ='TONG HOP'!E9 -> A205 | E8: ='TONG HOP'!E20 -> 0 | F8: ='TONG HOP'!E31 -> A205 | G8: ='TONG HOP'!E42 -> 0 | H8: ='TONG HOP'!E53 -> 0 | I8: ='TONG HOP'!E64 -> 0 | L8: 4 | M8: 9h45-10h30 | N8: ='TONG HOP'!F9 -> A205 | O8: ='TONG HOP'!F20 -> 0 | P8: ='TONG HOP'!F31 -> A205 | Q8: ='TONG HOP'!F42 -> 0 | R8: ='TONG HOP'!F53 -> 0 | S8: ='TONG HOP'!F64 -> 0
B9: 5 | C9: 10h30-11h15(LT) 10h30-11h30(TH) | D9: ='TONG HOP'!E10 -> T.THÔNG | E9: ='TONG HOP'!E21 -> C.THỦY | F9: ='TONG HOP'!E32 -> T.THỊNH | G9: ='TONG HOP'!E43 -> 0 | H9: ='TONG HOP'!E54 -> 0 | I9: ='TONG HOP'!E65 -> 0 | L9: 5 | M9: 10h30-11h15(LT) 10h30-11h30(TH) | N9: ='TONG HOP'!F10 -> T.THÔNG | O9: ='TONG HOP'!F21 -> C.THỦY | P9: ='TONG HOP'!F32 -> T.THỊNH | Q9: ='TONG HOP'!F43 -> 0 | R9: ='TONG HOP'!F54 -> 0 | S9: ='TONG HOP'!F65 -> 0
A10: CHIỀU | B10: 6 | C10: 12h45-13h30 | D10: ='TONG HOP'!E11 -> 0 | E10: ='TONG HOP'!E22 -> GDTC | F10: ='TONG HOP'!E33 -> 0 | G10: ='TONG HOP'!E44 -> TIẾNG ANH 1 | H10: ='TONG HOP'!E55 -> 0 | I10: ='TONG HOP'!E66 -> 0 | K10: CHIỀU | L10: 6 | M10: 12h45-13h30 | N10: ='TONG HOP'!F11 -> 0 | O10: ='TONG HOP'!F22 -> GDTC | P10: ='TONG HOP'!F33 -> BD VÀ SC | Q10: ='TONG HOP'!F44 -> TIẾNG ANH 1 | R10: ='TONG HOP'!F55 -> 0 | S10: ='TONG HOP'!F66 -> 0
B11: 7 | C11: 13h30-14h15 | D11: ='TONG HOP'!E12 -> 0 | E11: ='TONG HOP'!E23 -> 0 | F11: ='TONG HOP'!E34 -> 0 | G11: ='TONG HOP'!E45 -> 0 | H11: ='TONG HOP'!E56 -> 0 | I11: ='TONG HOP'!E67 -> 0 | L11: 7 | M11: 13h30-14h15 | N11: ='TONG HOP'!F12 -> 0 | O11: ='TONG HOP'!F23 -> 0 | P11: ='TONG HOP'!F34 -> CK ĐỘNG CƠ | Q11: ='TONG HOP'!F45 -> 0 | R11: ='TONG HOP'!F56 -> 0 | S11: ='TONG HOP'!F67 -> 0
B12: 8 | C12: 14h45-15h30 | D12: ='TONG HOP'!E13 -> 0 | E12: ='TONG HOP'!E24 -> 0 | F12: ='TONG HOP'!E35 -> 0 | G12: ='TONG HOP'!E46 -> 0 | H12: ='TONG HOP'!E57 -> 0 | I12: ='TONG HOP'!E68 -> 0 | L12: 8 | M12: 14h45-15h30 | N12: ='TONG HOP'!F13 -> 0 | O12: ='TONG HOP'!F24 -> 0 | P12: ='TONG HOP'!F35 -> 0 | Q12: ='TONG HOP'!F46 -> 0 | R12: ='TONG HOP'!F57 -> 0 | S12: ='TONG HOP'!F68 -> 0
B13: 9 | C13: 15h30-16h15 | D13: ='TONG HOP'!E14 -> 0 | E13: ='TONG HOP'!E25 -> NHÀ THI ĐẤU | F13: ='TONG HOP'!E36 -> 0 | G13: ='TONG HOP'!E47 -> A017 | H13: ='TONG HOP'!E58 -> 0 | I13: ='TONG HOP'!E69 -> 0 | L13: 9 | M13: 15h30-16h15 | N13: ='TONG HOP'!F14 -> 0 | O13: ='TONG HOP'!F25 -> NHÀ THI ĐẤU | P13: ='TONG HOP'!F36 -> B004 | Q13: ='TONG HOP'!F47 -> A017 | R13: ='TONG HOP'!F58 -> 0 | S13: ='TONG HOP'!F69 -> 0
B14: 10 | C14: 16h15-17h00(LT) 16h15-17h15(TH) | D14: ='TONG HOP'!E15 -> 0 | E14: ='TONG HOP'!E26 -> T.THANH | F14: ='TONG HOP'!E37 -> 0 | G14: ='TONG HOP'!E48 -> C.DIỆU | H14: ='TONG HOP'!E59 -> 0 | I14: ='TONG HOP'!E70 -> 0 | L14: 10 | M14: 16h15-17h00(LT) 16h15-17h15(TH) | N14: ='TONG HOP'!F15 -> 0 | O14: ='TONG HOP'!F26 -> T.THANH | P14: ='TONG HOP'!F37 -> T.LÂN | Q14: ='TONG HOP'!F48 -> C.DIỆU | R14: ='TONG HOP'!F59 -> 0 | S14: ='TONG HOP'!F70 -> 0
A15: =K2 -> ÁP DỤNG TỪ NGÀY 12/10/2026 ĐẾN NGÀY 31/10/2026 | K15: =A15 -> ÁP DỤNG TỪ NGÀY 12/10/2026 ĐẾN NGÀY 31/10/2026
A16: LỚP: | C16: ='TONG HOP'!G5 -> C26CK2 | K16: LỚP: | M16: ='TONG HOP'!H5 -> C26KTCK2
A17: Buổi | B17: Tiết | C17: Giờ dạy | D17: THỨ HAI | E17: THỨ BA | F17: THỨ TƯ | G17: THỨ NĂM | H17: THỨ SÁU | I17: THỨ BẢY | K17: Buổi | L17: Tiết | M17: Giờ dạy | N17: THỨ HAI | O17: THỨ BA | P17: THỨ TƯ | Q17: THỨ NĂM | R17: THỨ SÁU | S17: THỨ BẢY
A18: SÁNG | B18: 1 | C18: 7h00-7h45 | D18: ='TONG HOP'!G6 -> VẼ KT | E18: ='TONG HOP'!G17 -> TIẾNG ANH 1 | F18: ='TONG HOP'!G28 -> NL CẮT | G18: ='TONG HOP'!G39 -> GDTC | H18: ='TONG HOP'!G50 -> VẼ KT | I18: ='TONG HOP'!G61 -> 0 | K18: SÁNG | L18: 1 | M18: 7h00-7h45 | N18: ='TONG HOP'!H6 -> 0 | O18: ='TONG HOP'!H17 -> TIẾNG ANH 1 | P18: ='TONG HOP'!H28 -> 0 | Q18: ='TONG HOP'!H39 -> GDTC | R18: ='TONG HOP'!H50 -> 0 | S18: ='TONG HOP'!H61 -> 0
B19: 2 | C19: 7h45-8h30 | D19: ='TONG HOP'!G7 -> 0 | E19: ='TONG HOP'!G18 -> 0 | F19: ='TONG HOP'!G29 -> 0 | G19: ='TONG HOP'!G40 -> 0 | H19: ='TONG HOP'!G51 -> 0 | I19: ='TONG HOP'!G62 -> 0 | L19: 2 | M19: 7h45-8h30 | N19: ='TONG HOP'!H7 -> 0 | O19: ='TONG HOP'!H18 -> 0 | P19: ='TONG HOP'!H29 -> 0 | Q19: ='TONG HOP'!H40 -> 0 | R19: ='TONG HOP'!H51 -> 0 | S19: ='TONG HOP'!H62 -> 0
B20: 3 | C20: 9h00-9h45 | D20: ='TONG HOP'!G8 -> 0 | E20: ='TONG HOP'!G19 -> 0 | F20: ='TONG HOP'!G30 -> 0 | G20: ='TONG HOP'!G41 -> 0 | H20: ='TONG HOP'!G52 -> 0 | I20: ='TONG HOP'!G63 -> 0 | L20: 3 | M20: 9h00-9h45 | N20: ='TONG HOP'!H8 -> 0 | O20: ='TONG HOP'!H19 -> 0 | P20: ='TONG HOP'!H30 -> 0 | Q20: ='TONG HOP'!H41 -> 0 | R20: ='TONG HOP'!H52 -> 0 | S20: ='TONG HOP'!H63 -> 0
B21: 4 | C21: 9h45-10h30 | D21: ='TONG HOP'!G9 -> A113 | E21: ='TONG HOP'!G20 -> A110 | F21: ='TONG HOP'!G31 -> A306 | G21: ='TONG HOP'!G42 -> NHÀ THI ĐẤU | H21: ='TONG HOP'!G53 -> A017 | I21: ='TONG HOP'!G64 -> 0 | L21: 4 | M21: 9h45-10h30 | N21: ='TONG HOP'!H9 -> 0 | O21: ='TONG HOP'!H20 -> A110 | P21: ='TONG HOP'!H31 -> 0 | Q21: ='TONG HOP'!H42 -> NHÀ THI ĐẤU | R21: ='TONG HOP'!H53 -> 0 | S21: ='TONG HOP'!H64 -> 0
B22: 5 | C22: 10h30-11h15(LT) 10h30-11h30(TH) | D22: ='TONG HOP'!G10 -> T.HOÀNG | E22: ='TONG HOP'!G21 -> C.PHƯƠNG | F22: ='TONG HOP'!G32 -> T.LONG | G22: ='TONG HOP'!G43 -> T.THANH | H22: ='TONG HOP'!G54 -> T.HOÀNG | I22: ='TONG HOP'!G65 -> 0 | L22: 5 | M22: 10h30-11h15(LT) 10h30-11h30(TH) | N22: ='TONG HOP'!H10 -> 0 | O22: ='TONG HOP'!H21 -> C.PHƯƠNG | P22: ='TONG HOP'!H32 -> 0 | Q22: ='TONG HOP'!H43 -> T.THANH | R22: ='TONG HOP'!H54 -> 0 | S22: ='TONG HOP'!H65 -> 0
A23: CHIỀU | B23: 6 | C23: 12h45-13h30 | D23: ='TONG HOP'!G11 -> 0 | E23: ='TONG HOP'!G22 -> 0 | F23: ='TONG HOP'!G33 -> 0 | G23: ='TONG HOP'!G44 -> GDCT | H23: ='TONG HOP'!G55 -> 0 | I23: ='TONG HOP'!G66 -> 0 | K23: CHIỀU | L23: 6 | M23: 12h45-13h30 | N23: ='TONG HOP'!H11 -> VẼ KT | O23: ='TONG HOP'!H22 -> 0 | P23: ='TONG HOP'!H33 -> NL CẮT | Q23: ='TONG HOP'!H44 -> GDCT | R23: ='TONG HOP'!H55 -> VẼ KT | S23: ='TONG HOP'!H66 -> 0
B24: 7 | C24: 13h30-14h15 | D24: ='TONG HOP'!G12 -> 0 | E24: ='TONG HOP'!G23 -> 0 | F24: ='TONG HOP'!G34 -> 0 | G24: ='TONG HOP'!G45 -> 0 | H24: ='TONG HOP'!G56 -> 0 | I24: ='TONG HOP'!G67 -> 0 | L24: 7 | M24: 13h30-14h15 | N24: ='TONG HOP'!H12 -> 0 | O24: ='TONG HOP'!H23 -> 0 | P24: ='TONG HOP'!H34 -> 0 | Q24: ='TONG HOP'!H45 -> 0 | R24: ='TONG HOP'!H56 -> 0 | S24: ='TONG HOP'!H67 -> 0
B25: 8 | C25: 14h45-15h30 | D25: ='TONG HOP'!G13 -> 0 | E25: ='TONG HOP'!G24 -> 0 | F25: ='TONG HOP'!G35 -> 0 | G25: ='TONG HOP'!G46 -> 0 | H25: ='TONG HOP'!G57 -> 0 | I25: ='TONG HOP'!G68 -> 0 | L25: 8 | M25: 14h45-15h30 | N25: ='TONG HOP'!H13 -> 0 | O25: ='TONG HOP'!H24 -> 0 | P25: ='TONG HOP'!H35 -> 0 | Q25: ='TONG HOP'!H46 -> 0 | R25: ='TONG HOP'!H57 -> 0 | S25: ='TONG HOP'!H68 -> 0
B26: 9 | C26: 15h30-16h15 | D26: ='TONG HOP'!G14 -> 0 | E26: ='TONG HOP'!G25 -> 0 | F26: ='TONG HOP'!G36 -> 0 | G26: ='TONG HOP'!G47 -> A018 | H26: ='TONG HOP'!G58 -> 0 | I26: ='TONG HOP'!G69 -> 0 | L26: 9 | M26: 15h30-16h15 | N26: ='TONG HOP'!H14 -> A018 | O26: ='TONG HOP'!H25 -> 0 | P26: ='TONG HOP'!H36 -> A018 | Q26: ='TONG HOP'!H47 -> A018 | R26: ='TONG HOP'!H58 -> A018 | S26: ='TONG HOP'!H69 -> 0
B27: 10 | C27: 16h15-17h00(LT) 16h15-17h15(TH) | D27: ='TONG HOP'!G15 -> 0 | E27: ='TONG HOP'!G26 -> 0 | F27: ='TONG HOP'!G37 -> 0 | G27: ='TONG HOP'!G48 -> C.NGUYÊN | H27: ='TONG HOP'!G59 -> 0 | I27: ='TONG HOP'!G70 -> 0 | L27: 10 | M27: 16h15-17h00(LT) 16h15-17h15(TH) | N27: ='TONG HOP'!H15 -> T.HOÀNG | O27: ='TONG HOP'!H26 -> 0 | P27: ='TONG HOP'!H37 -> T.LONG | Q27: ='TONG HOP'!H48 -> C.NGUYÊN | R27: ='TONG HOP'!H59 -> T.HOÀNG | S27: ='TONG HOP'!H70 -> 0
A28: =A2 -> ÁP DỤNG TỪ NGÀY 12/10/2026 ĐẾN NGÀY 31/10/2026 | K28: =A28 -> ÁP DỤNG TỪ NGÀY 12/10/2026 ĐẾN NGÀY 31/10/2026
A29: LỚP: | C29: ='TONG HOP'!I5 -> T26OTO2 | E29: GVCN: LÊ LÂN. SĐT: | M29: ='TONG HOP'!J5 -> T26CK2
A30: Buổi | B30: Tiết | C30: Giờ dạy | D30: THỨ HAI | E30: THỨ BA | F30: THỨ TƯ | G30: THỨ NĂM | H30: THỨ SÁU | I30: THỨ BẢY | K30: Buổi | L30: Tiết | M30: Giờ dạy | N30: THỨ HAI | O30: THỨ BA | P30: THỨ TƯ | Q30: THỨ NĂM | R30: THỨ SÁU | S30: THỨ BẢY
A31: SÁNG | B31: 1 | C31: 7h00-7h45 | D31: ='TONG HOP'!I6 -> 0 | E31: ='TONG HOP'!I17 -> TIẾNG ANH 1 | F31: ='TONG HOP'!I28 -> KT Ô TÔ | G31: ='TONG HOP'!I39 -> PHÁP LUẬT | H31: ='TONG HOP'!I50 -> 0 | I31: ='TONG HOP'!I61 -> VẼ KT | K31: SÁNG | L31: 1 | M31: 7h00-7h45 | N31: ='TONG HOP'!J6 -> BV MT- ATLĐ | O31: ='TONG HOP'!J17 -> TIẾNG ANH 1 | P31: ='TONG HOP'!J28 -> VẬT LIỆU CK | Q31: ='TONG HOP'!J39 -> PHÁP LUẬT | R31: ='TONG HOP'!J50 -> NL CẮT | S31: ='TONG HOP'!J61 -> 0
B32: 2 | C32: 7h45-8h30 | D32: ='TONG HOP'!I7 -> 0 | E32: ='TONG HOP'!I18 -> 0 | F32: ='TONG HOP'!I29 -> 0 | G32: ='TONG HOP'!I40 -> 0 | H32: ='TONG HOP'!I51 -> 0 | I32: ='TONG HOP'!I62 -> 0 | L32: 2 | M32: 7h45-8h30 | N32: ='TONG HOP'!J7 -> VÀ VS CN | O32: ='TONG HOP'!J18 -> 0 | P32: ='TONG HOP'!J29 -> 0 | Q32: ='TONG HOP'!J40 -> 0 | R32: ='TONG HOP'!J51 -> 0 | S32: ='TONG HOP'!J62 -> 0
B33: 3 | C33: 9h00-9h45 | D33: ='TONG HOP'!I8 -> 0 | E33: ='TONG HOP'!I19 -> 0 | F33: ='TONG HOP'!I30 -> 0 | G33: ='TONG HOP'!I41 -> 0 | H33: ='TONG HOP'!I52 -> 0 | I33: ='TONG HOP'!I63 -> 0 | L33: 3 | M33: 9h00-9h45 | N33: ='TONG HOP'!J8 -> 0 | O33: ='TONG HOP'!J19 -> 0 | P33: ='TONG HOP'!J30 -> 0 | Q33: ='TONG HOP'!J41 -> 0 | R33: ='TONG HOP'!J52 -> 0 | S33: ='TONG HOP'!J63 -> 0
B34: 4 | C34: 9h45-10h30 | D34: ='TONG HOP'!I9 -> 0 | E34: ='TONG HOP'!I20 -> A017 | F34: ='TONG HOP'!I31 -> A306 | G34: ='TONG HOP'!I42 -> A017 | H34: ='TONG HOP'!I53 -> 0 | I34: ='TONG HOP'!I64 -> A110 | L34: 4 | M34: 9h45-10h30 | N34: ='TONG HOP'!J9 -> A306 | O34: ='TONG HOP'!J20 -> A017 | P34: ='TONG HOP'!J31 -> A206 | Q34: ='TONG HOP'!J42 -> A017 | R34: ='TONG HOP'!J53 -> A307 | S34: ='TONG HOP'!J64 -> 0
B35: 5 | C35: 10h30-11h15(LT) 10h30-11h30(TH) | D35: ='TONG HOP'!I10 -> 0 | E35: ='TONG HOP'!I21 -> C.DIỆU | F35: ='TONG HOP'!I32 -> T.LÂN | G35: ='TONG HOP'!I43 -> C.HỒNG | H35: ='TONG HOP'!I54 -> 0 | I35: ='TONG HOP'!I65 -> T.LONG | L35: 5 | M35: 10h30-11h15(LT) 10h30-11h30(TH) | N35: ='TONG HOP'!J10 -> T.NGHI | O35: ='TONG HOP'!J21 -> C.DIỆU | P35: ='TONG HOP'!J32 -> T.TRƯƠNG | Q35: ='TONG HOP'!J43 -> C.HỒNG | R35: ='TONG HOP'!J54 -> T.LONG | S35: ='TONG HOP'!J65 -> 0
A36: CHIỀU | B36: 6 | C36: 12h45-13h30 | D36: ='TONG HOP'!I11 -> HỌC VĂN HÓA | E36: ='TONG HOP'!I22 -> HỌC VĂN HÓA | F36: ='TONG HOP'!I33 -> HỌC VĂN HÓA | G36: ='TONG HOP'!I44 -> HỌC VĂN HÓA | H36: ='TONG HOP'!I55 -> HỌC VĂN HÓA | I36: ='TONG HOP'!I66 -> 0 | K36: TỐI | L36: 11 | M36: 12h45-13h30 | N36: ='TONG HOP'!J11 -> HỌC VĂN HÓA | O36: ='TONG HOP'!J22 -> HỌC VĂN HÓA | P36: ='TONG HOP'!J33 -> HỌC VĂN HÓA | Q36: ='TONG HOP'!J44 -> HỌC VĂN HÓA | R36: ='TONG HOP'!J55 -> HỌC VĂN HÓA | S36: ='TONG HOP'!J66 -> 0
B37: 7 | C37: 13h30-14h15 | D37: ='TONG HOP'!I12 -> THEO TKB TTGDTX | E37: ='TONG HOP'!I23 -> THEO TKB TTGDTX | F37: ='TONG HOP'!I34 -> THEO TKB TTGDTX | G37: ='TONG HOP'!I45 -> THEO TKB TTGDTX | H37: ='TONG HOP'!I56 -> THEO TKB TTGDTX | I37: ='TONG HOP'!I67 -> 0 | L37: 12 | M37: 13h30-14h15 | N37: ='TONG HOP'!J12 -> THEO TKB TTGDTX | O37: ='TONG HOP'!J23 -> THEO TKB TTGDTX | P37: ='TONG HOP'!J34 -> THEO TKB TTGDTX | Q37: ='TONG HOP'!J45 -> THEO TKB TTGDTX | R37: ='TONG HOP'!J56 -> THEO TKB TTGDTX | S37: ='TONG HOP'!J67 -> 0
B38: 8 | C38: 14h45-15h30 | D38: ='TONG HOP'!I13 -> QUẬN 1 | E38: ='TONG HOP'!I24 -> QUẬN 1 | F38: ='TONG HOP'!I35 -> QUẬN 1 | G38: ='TONG HOP'!I46 -> QUẬN 1 | H38: ='TONG HOP'!I57 -> QUẬN 1 | I38: ='TONG HOP'!I68 -> 0 | L38: 13 | M38: 14h45-15h30 | N38: ='TONG HOP'!J13 -> QUẬN 1 | O38: ='TONG HOP'!J24 -> QUẬN 1 | P38: ='TONG HOP'!J35 -> QUẬN 1 | Q38: ='TONG HOP'!J46 -> QUẬN 1 | R38: ='TONG HOP'!J57 -> QUẬN 1 | S38: ='TONG HOP'!J68 -> 0
B39: 9 | C39: 15h30-16h15 | D39: ='TONG HOP'!I14 -> 0 | E39: ='TONG HOP'!I25 -> 0 | F39: ='TONG HOP'!I36 -> 0 | G39: ='TONG HOP'!I47 -> 0 | H39: ='TONG HOP'!I58 -> 0 | I39: ='TONG HOP'!I69 -> 0 | L39: 14 | M39: 15h30-16h15 | N39: ='TONG HOP'!J14 -> 0 | O39: ='TONG HOP'!J25 -> 0 | P39: ='TONG HOP'!J36 -> 0 | Q39: ='TONG HOP'!J47 -> 0 | R39: ='TONG HOP'!J58 -> 0 | S39: ='TONG HOP'!J69 -> 0
B40: 10 | C40: 16h15-17h00(LT) 16h15-17h15(TH) | D40: ='TONG HOP'!I15 -> 0 | E40: ='TONG HOP'!I26 -> 0 | F40: ='TONG HOP'!I37 -> 0 | G40: ='TONG HOP'!I48 -> 0 | H40: ='TONG HOP'!I59 -> 0 | I40: ='TONG HOP'!I70 -> 0 | M40: 16h15-17h00(LT) 16h15-17h15(TH) | N40: ='TONG HOP'!J15 -> 0 | O40: ='TONG HOP'!J26 -> 0 | P40: ='TONG HOP'!J37 -> 0 | Q40: ='TONG HOP'!J48 -> 0 | R40: ='TONG HOP'!J59 -> 0 | S40: ='TONG HOP'!J70 -> 0
A41: =K28 -> ÁP DỤNG TỪ NGÀY 12/10/2026 ĐẾN NGÀY 31/10/2026 | K41: =A41 -> ÁP DỤNG TỪ NGÀY 12/10/2026 ĐẾN NGÀY 31/10/2026
A42: LỚP: | K42: LỚP: | M42: ='TONG HOP'!L5 -> 0
A43: Buổi | B43: Tiết | C43: Giờ dạy | D43: THỨ HAI | E43: THỨ BA | F43: THỨ TƯ | G43: THỨ NĂM | H43: THỨ SÁU | I43: THỨ BẢY | K43: Buổi | L43: Tiết | M43: Giờ dạy | N43: THỨ HAI | O43: THỨ BA | P43: THỨ TƯ | Q43: THỨ NĂM | R43: THỨ SÁU | S43: THỨ BẢY
A44: SÁNG | B44: 1 | C44: 7h00-7h45 | D44: ='TONG HOP'!K6 -> 0 | E44: ='TONG HOP'!K17 -> 0 | F44: ='TONG HOP'!K28 -> 0 | G44: ='TONG HOP'!K39 -> 0 | H44: ='TONG HOP'!K50 -> 0 | I44: ='TONG HOP'!K61 -> 0 | K44: SÁNG | L44: 1 | M44: 7h00-7h45 | N44: ='TONG HOP'!L6 -> 0 | O44: ='TONG HOP'!L17 -> 0 | P44: ='TONG HOP'!L28 -> 0 | Q44: ='TONG HOP'!L39 -> 0 | R44: ='TONG HOP'!L50 -> 0 | S44: ='TONG HOP'!L61 -> 0
B45: 2 | C45: 7h45-8h30 | D45: ='TONG HOP'!K7 -> 0 | E45: ='TONG HOP'!K18 -> 0 | F45: ='TONG HOP'!K29 -> 0 | G45: ='TONG HOP'!K40 -> 0 | H45: ='TONG HOP'!K51 -> 0 | I45: ='TONG HOP'!K62 -> 0 | L45: 2 | M45: 7h45-8h30 | N45: ='TONG HOP'!L7 -> 0 | O45: ='TONG HOP'!L18 -> 0 | P45: ='TONG HOP'!L29 -> 0 | Q45: ='TONG HOP'!L40 -> 0 | R45: ='TONG HOP'!L51 -> 0 | S45: ='TONG HOP'!L62 -> 0
B46: 3 | C46: 9h00-9h45 | D46: ='TONG HOP'!K8 -> 0 | E46: ='TONG HOP'!K19 -> 0 | F46: ='TONG HOP'!K30 -> 0 | G46: ='TONG HOP'!K41 -> 0 | H46: ='TONG HOP'!K52 -> 0 | I46: ='TONG HOP'!K63 -> 0 | L46: 3 | M46: 9h00-9h45 | N46: ='TONG HOP'!L8 -> 0 | O46: ='TONG HOP'!L19 -> 0 | P46: ='TONG HOP'!L30 -> 0 | Q46: ='TONG HOP'!L41 -> 0 | R46: ='TONG HOP'!L52 -> 0 | S46: ='TONG HOP'!L63 -> 0
B47: 4 | C47: 9h45-10h30 | D47: ='TONG HOP'!K9 -> 0 | E47: ='TONG HOP'!K20 -> 0 | F47: ='TONG HOP'!K31 -> 0 | G47: ='TONG HOP'!K42 -> 0 | H47: ='TONG HOP'!K53 -> 0 | I47: ='TONG HOP'!K64 -> 0 | L47: 4 | M47: 9h45-10h30 | N47: ='TONG HOP'!L9 -> 0 | O47: ='TONG HOP'!L20 -> 0 | P47: ='TONG HOP'!L31 -> 0 | Q47: ='TONG HOP'!L42 -> 0 | R47: ='TONG HOP'!L53 -> 0 | S47: ='TONG HOP'!L64 -> 0
B48: 5 | C48: 10h30-11h15(LT) 10h30-11h30(TH) | D48: ='TONG HOP'!K10 -> 0 | E48: ='TONG HOP'!K21 -> 0 | F48: ='TONG HOP'!K32 -> 0 | G48: ='TONG HOP'!K43 -> 0 | H48: ='TONG HOP'!K54 -> 0 | I48: ='TONG HOP'!K65 -> 0 | L48: 5 | M48: 10h30-11h15(LT) 10h30-11h30(TH) | N48: ='TONG HOP'!L10 -> 0 | O48: ='TONG HOP'!L21 -> 0 | P48: ='TONG HOP'!L32 -> 0 | Q48: ='TONG HOP'!L43 -> 0 | R48: ='TONG HOP'!L54 -> 0 | S48: ='TONG HOP'!L65 -> 0
A49: CHIỀU | B49: 6 | C49: 12h45-13h30 | D49: ='TONG HOP'!K11 -> CN LẮP | E49: ='TONG HOP'!K22 -> VẼ CHI TIẾT | G49: ='TONG HOP'!K44 -> BD VÀ SC | H49: ='TONG HOP'!K55 -> BD VÀ SC | I49: ='TONG HOP'!K66 -> BD VÀ SC | K49: CHIỀU | L49: 6 | M49: 12h45-13h30 | N49: ='TONG HOP'!L11 -> 0 | O49: ='TONG HOP'!L22 -> 0 | P49: ='TONG HOP'!L33 -> 0 | Q49: ='TONG HOP'!L44 -> 0 | R49: ='TONG HOP'!L55 -> 0 | S49: ='TONG HOP'!L66 -> 0
B50: 7 | C50: 13h30-14h15 | D50: ='TONG HOP'!K12 -> RÁP Ô TÔ | E50: ='TONG HOP'!K23 -> Ô TÔ TRÊN MT | G50: ='TONG HOP'!K45 -> KHUNG GẦM | H50: ='TONG HOP'!K56 -> HT ĐIỆN Ô TÔ | I50: ='TONG HOP'!K67 -> KHUNG GẦM | L50: 7 | M50: 13h30-14h15 | N50: ='TONG HOP'!L12 -> 0 | O50: ='TONG HOP'!L23 -> 0 | P50: ='TONG HOP'!L34 -> 0 | Q50: ='TONG HOP'!L45 -> 0 | R50: ='TONG HOP'!L56 -> 0 | S50: ='TONG HOP'!L67 -> 0
B51: 8 | C51: 14h45-15h30 | D51: ='TONG HOP'!K13 -> 0 | E51: ='TONG HOP'!K24 -> 0 | G51: ='TONG HOP'!K46 -> ÔTÔ | H51: ='TONG HOP'!K57 -> 0 | I51: ='TONG HOP'!K68 -> ÔTÔ | L51: 8 | M51: 14h45-15h30 | N51: ='TONG HOP'!L13 -> 0 | O51: ='TONG HOP'!L24 -> 0 | P51: ='TONG HOP'!L35 -> 0 | Q51: ='TONG HOP'!L46 -> 0 | R51: ='TONG HOP'!L57 -> 0 | S51: ='TONG HOP'!L68 -> 0
B52: 9 | C52: 15h30-16h15 | D52: ='TONG HOP'!K14 -> B004 | E52: ='TONG HOP'!K25 -> C002 | G52: ='TONG HOP'!K47 -> B005 | H52: ='TONG HOP'!K58 -> B004 | I52: ='TONG HOP'!K69 -> B005 | L52: 9 | M52: 15h30-16h15 | N52: ='TONG HOP'!L14 -> 0 | O52: ='TONG HOP'!L25 -> 0 | P52: ='TONG HOP'!L36 -> 0 | Q52: ='TONG HOP'!L47 -> 0 | R52: ='TONG HOP'!L58 -> 0 | S52: ='TONG HOP'!L69 -> 0
B53: 10 | C53: 16h15-17h00(LT) 16h15-17h15(TH) | D53: ='TONG HOP'!K15 -> T.HUY | E53: ='TONG HOP'!K26 -> T.THUẤN | G53: ='TONG HOP'!K48 -> T.DŨNG | H53: ='TONG HOP'!K59 -> T.THỊNH | I53: ='TONG HOP'!K70 -> T.DŨNG | L53: 10 | M53: 16h15-17h00(LT) 16h15-17h15(TH) | N53: ='TONG HOP'!L15 -> 0 | O53: ='TONG HOP'!L26 -> 0 | P53: ='TONG HOP'!L37 -> 0 | Q53: ='TONG HOP'!L48 -> 0 | R53: ='TONG HOP'!L59 -> 0 | S53: ='TONG HOP'!L70 -> 0
A54: =A2 -> ÁP DỤNG TỪ NGÀY 12/10/2026 ĐẾN NGÀY 31/10/2026 | K54: =A54 -> ÁP DỤNG TỪ NGÀY 12/10/2026 ĐẾN NGÀY 31/10/2026
A55: LỚP: | C55: ='TONG HOP'!M5 -> 0 | K55: LỚP: | M55: ='TONG HOP'!N5 -> 0
A56: Buổi | B56: Tiết | C56: Giờ dạy | D56: THỨ HAI | E56: THỨ BA | F56: THỨ TƯ | G56: THỨ NĂM | H56: THỨ SÁU | I56: THỨ BẢY | K56: Buổi | L56: Tiết | M56: Giờ dạy | N56: THỨ HAI | O56: THỨ BA | P56: THỨ TƯ | Q56: THỨ NĂM | R56: THỨ SÁU | S56: THỨ BẢY
A57: SÁNG | B57: 1 | C57: 7h00-7h45 | D57: ='TONG HOP'!M6 -> 0 | E57: ='TONG HOP'!M17 -> 0 | F57: ='TONG HOP'!M28 -> 0 | G57: ='TONG HOP'!M39 -> 0 | H57: ='TONG HOP'!M50 -> 0 | I57: ='TONG HOP'!M61 -> 0 | K57: SÁNG | L57: 1 | M57: 7h00-7h45 | N57: ='TONG HOP'!N6 -> 0 | O57: ='TONG HOP'!N17 -> 0 | P57: ='TONG HOP'!N28 -> 0 | Q57: ='TONG HOP'!N39 -> 0 | R57: ='TONG HOP'!N50 -> 0 | S57: ='TONG HOP'!N61 -> 0
B58: 2 | C58: 7h45-8h30 | D58: ='TONG HOP'!M7 -> 0 | E58: ='TONG HOP'!M18 -> 0 | F58: ='TONG HOP'!M29 -> 0 | G58: ='TONG HOP'!M40 -> 0 | H58: ='TONG HOP'!M51 -> 0 | I58: ='TONG HOP'!M62 -> 0 | L58: 2 | M58: 7h45-8h30 | N58: ='TONG HOP'!N7 -> 0 | O58: ='TONG HOP'!N18 -> 0 | P58: ='TONG HOP'!N29 -> 0 | Q58: ='TONG HOP'!N40 -> 0 | R58: ='TONG HOP'!N51 -> 0 | S58: ='TONG HOP'!N62 -> 0
B59: 3 | C59: 9h00-9h45 | D59: ='TONG HOP'!M8 -> 0 | E59: ='TONG HOP'!M19 -> 0 | F59: ='TONG HOP'!M30 -> 0 | G59: ='TONG HOP'!M41 -> 0 | H59: ='TONG HOP'!M52 -> 0 | I59: ='TONG HOP'!M63 -> 0 | L59: 3 | M59: 9h00-9h45 | N59: ='TONG HOP'!N8 -> 0 | O59: ='TONG HOP'!N19 -> 0 | P59: ='TONG HOP'!N30 -> 0 | Q59: ='TONG HOP'!N41 -> 0 | R59: ='TONG HOP'!N52 -> 0 | S59: ='TONG HOP'!N63 -> 0
B60: 4 | C60: 9h45-10h30 | D60: ='TONG HOP'!M9 -> 0 | E60: ='TONG HOP'!M20 -> 0 | F60: ='TONG HOP'!M31 -> 0 | G60: ='TONG HOP'!M42 -> 0 | H60: ='TONG HOP'!M53 -> 0 | I60: ='TONG HOP'!M64 -> 0 | L60: 4 | M60: 9h45-10h30 | N60: ='TONG HOP'!N9 -> 0 | O60: ='TONG HOP'!N20 -> 0 | P60: ='TONG HOP'!N31 -> 0 | Q60: ='TONG HOP'!N42 -> 0 | R60: ='TONG HOP'!N53 -> 0 | S60: ='TONG HOP'!N64 -> 0
B61: 5 | C61: 10h30-11h15(LT) 10h30-11h30(TH) | D61: ='TONG HOP'!M10 -> 0 | E61: ='TONG HOP'!M21 -> 0 | F61: ='TONG HOP'!M32 -> 0 | G61: ='TONG HOP'!M43 -> 0 | H61: ='TONG HOP'!M54 -> 0 | I61: ='TONG HOP'!M65 -> 0 | L61: 5 | M61: 10h30-11h15(LT) 10h30-11h30(TH) | N61: ='TONG HOP'!N10 -> 0 | O61: ='TONG HOP'!N21 -> 0 | P61: ='TONG HOP'!N32 -> 0 | Q61: ='TONG HOP'!N43 -> 0 | R61: ='TONG HOP'!N54 -> 0 | S61: ='TONG HOP'!N65 -> 0
A62: CHIỀU | B62: 6 | C62: 12h45-13h30 | D62: ='TONG HOP'!M11 -> 0 | E62: ='TONG HOP'!M22 -> 0 | F62: ='TONG HOP'!M33 -> 0 | G62: ='TONG HOP'!M44 -> 0 | H62: ='TONG HOP'!M55 -> 0 | I62: ='TONG HOP'!M66 -> 0 | K62: CHIỀU | L62: 6 | M62: 12h45-13h30 | N62: ='TONG HOP'!N11 -> 0 | O62: ='TONG HOP'!N22 -> 0 | P62: ='TONG HOP'!N33 -> 0 | Q62: ='TONG HOP'!N44 -> 0 | R62: ='TONG HOP'!N55 -> 0 | S62: ='TONG HOP'!N66 -> 0
B63: 7 | C63: 13h30-14h15 | D63: ='TONG HOP'!M12 -> 0 | E63: ='TONG HOP'!M23 -> 0 | F63: ='TONG HOP'!M34 -> 0 | G63: ='TONG HOP'!M45 -> 0 | H63: ='TONG HOP'!M56 -> 0 | I63: ='TONG HOP'!M67 -> 0 | L63: 7 | M63: 13h30-14h15 | N63: ='TONG HOP'!N12 -> 0 | O63: ='TONG HOP'!N23 -> 0 | P63: ='TONG HOP'!N34 -> 0 | Q63: ='TONG HOP'!N45 -> 0 | R63: ='TONG HOP'!N56 -> 0 | S63: ='TONG HOP'!N67 -> 0
B64: 8 | C64: 14h45-15h30 | D64: ='TONG HOP'!M13 -> 0 | E64: ='TONG HOP'!M24 -> 0 | F64: ='TONG HOP'!M35 -> 0 | G64: ='TONG HOP'!M46 -> 0 | H64: ='TONG HOP'!M57 -> 0 | I64: ='TONG HOP'!M68 -> 0 | L64: 8 | M64: 14h45-15h30 | N64: ='TONG HOP'!N13 -> 0 | O64: ='TONG HOP'!N24 -> 0 | P64: ='TONG HOP'!N35 -> 0 | Q64: ='TONG HOP'!N46 -> 0 | R64: ='TONG HOP'!N57 -> 0 | S64: ='TONG HOP'!N68 -> 0
B65: 9 | C65: 15h30-16h15 | D65: ='TONG HOP'!M14 -> 0 | E65: ='TONG HOP'!M25 -> 0 | F65: ='TONG HOP'!M36 -> 0 | G65: ='TONG HOP'!M47 -> 0 | H65: ='TONG HOP'!M58 -> 0 | I65: ='TONG HOP'!M69 -> 0 | L65: 9 | M65: 15h30-16h15 | N65: ='TONG HOP'!N14 -> 0 | O65: ='TONG HOP'!N25 -> 0 | P65: ='TONG HOP'!N36 -> 0 | Q65: ='TONG HOP'!N47 -> 0 | R65: ='TONG HOP'!N58 -> 0 | S65: ='TONG HOP'!N69 -> 0
B66: 10 | C66: 16h15-17h00(LT) 16h15-17h15(TH) | D66: ='TONG HOP'!M15 -> 0 | E66: ='TONG HOP'!M26 -> 0 | F66: ='TONG HOP'!M37 -> 0 | G66: ='TONG HOP'!M48 -> 0 | H66: ='TONG HOP'!M59 -> 0 | I66: ='TONG HOP'!M70 -> 0 | L66: 10 | M66: 16h15-17h00(LT) 16h15-17h15(TH) | N66: ='TONG HOP'!N15 -> 0 | O66: ='TONG HOP'!N26 -> 0 | P66: ='TONG HOP'!N37 -> 0 | Q66: ='TONG HOP'!N48 -> 0 | R66: ='TONG HOP'!N59 -> 0 | S66: ='TONG HOP'!N70 -> 0
A67: =K54 -> ÁP DỤNG TỪ NGÀY 12/10/2026 ĐẾN NGÀY 31/10/2026 | K67: =A67 -> ÁP DỤNG TỪ NGÀY 12/10/2026 ĐẾN NGÀY 31/10/2026
A68: LỚP: | C68: ='TONG HOP'!O5 -> 0 | K68: LỚP: | M68: ='TONG HOP'!P5 -> 0
A69: Buổi | B69: Tiết | C69: Giờ dạy | D69: THỨ HAI | E69: THỨ BA | F69: THỨ TƯ | G69: THỨ NĂM | H69: THỨ SÁU | I69: THỨ BẢY | K69: Buổi | L69: Tiết | M69: Giờ dạy | N69: THỨ HAI | O69: THỨ BA | P69: THỨ TƯ | Q69: THỨ NĂM | R69: THỨ SÁU | S69: THỨ BẢY
A70: SÁNG | B70: 1 | C70: 7h00-7h45 | D70: ='TONG HOP'!O6 -> 0 | E70: ='TONG HOP'!O17 -> 0 | F70: ='TONG HOP'!O28 -> 0 | G70: ='TONG HOP'!O39 -> 0 | H70: ='TONG HOP'!O50 -> 0 | I70: ='TONG HOP'!O61 -> 0 | K70: SÁNG | L70: 1 | M70: 7h00-7h45 | N70: ='TONG HOP'!P6 -> 0 | O70: ='TONG HOP'!P17 -> 0 | P70: ='TONG HOP'!P28 -> 0 | Q70: ='TONG HOP'!P39 -> 0 | R70: ='TONG HOP'!P50 -> 0 | S70: ='TONG HOP'!P61 -> 0
B71: 2 | C71: 7h45-8h30 | D71: ='TONG HOP'!O7 -> 0 | E71: ='TONG HOP'!O18 -> 0 | F71: ='TONG HOP'!O29 -> 0 | G71: ='TONG HOP'!O40 -> 0 | H71: ='TONG HOP'!O51 -> 0 | I71: ='TONG HOP'!O62 -> 0 | L71: 2 | M71: 7h45-8h30 | N71: ='TONG HOP'!P7 -> 0 | O71: ='TONG HOP'!P18 -> 0 | P71: ='TONG HOP'!P29 -> 0 | Q71: ='TONG HOP'!P40 -> 0 | R71: ='TONG HOP'!P51 -> 0 | S71: ='TONG HOP'!P62 -> 0
B72: 3 | C72: 9h00-9h45 | D72: ='TONG HOP'!O8 -> 0 | E72: ='TONG HOP'!O19 -> 0 | F72: ='TONG HOP'!O30 -> 0 | G72: ='TONG HOP'!O41 -> 0 | H72: ='TONG HOP'!O52 -> 0 | I72: ='TONG HOP'!O63 -> 0 | L72: 3 | M72: 9h00-9h45 | N72: ='TONG HOP'!P8 -> 0 | O72: ='TONG HOP'!P19 -> 0 | P72: ='TONG HOP'!P30 -> 0 | Q72: ='TONG HOP'!P41 -> 0 | R72: ='TONG HOP'!P52 -> 0 | S72: ='TONG HOP'!P63 -> 0
B73: 4 | C73: 9h45-10h30 | D73: ='TONG HOP'!O9 -> 0 | E73: ='TONG HOP'!O20 -> 0 | F73: ='TONG HOP'!O31 -> 0 | G73: ='TONG HOP'!O42 -> 0 | H73: ='TONG HOP'!O53 -> 0 | I73: ='TONG HOP'!O64 -> 0 | L73: 4 | M73: 9h45-10h30 | N73: ='TONG HOP'!P9 -> 0 | O73: ='TONG HOP'!P20 -> 0 | P73: ='TONG HOP'!P31 -> 0 | Q73: ='TONG HOP'!P42 -> 0 | R73: ='TONG HOP'!P53 -> 0 | S73: ='TONG HOP'!P64 -> 0
B74: 5 | C74: 10h30-11h15(LT) 10h30-11h30(TH) | D74: ='TONG HOP'!O10 -> 0 | E74: ='TONG HOP'!O21 -> 0 | F74: ='TONG HOP'!O32 -> 0 | G74: ='TONG HOP'!O43 -> 0 | H74: ='TONG HOP'!O54 -> 0 | I74: ='TONG HOP'!O65 -> 0 | L74: 5 | M74: 10h30-11h15(LT) 10h30-11h30(TH) | N74: ='TONG HOP'!P10 -> 0 | O74: ='TONG HOP'!P21 -> 0 | P74: ='TONG HOP'!P32 -> 0 | Q74: ='TONG HOP'!P43 -> 0 | R74: ='TONG HOP'!P54 -> 0 | S74: ='TONG HOP'!P65 -> 0
A75: CHIỀU | B75: 6 | C75: 12h45-13h30 | D75: ='TONG HOP'!O11 -> 0 | E75: ='TONG HOP'!O22 -> 0 | F75: ='TONG HOP'!O33 -> 0 | G75: ='TONG HOP'!O44 -> 0 | H75: ='TONG HOP'!O55 -> 0 | I75: ='TONG HOP'!O66 -> 0 | K75: CHIỀU | L75: 6 | M75: 12h45-13h30 | N75: ='TONG HOP'!P11 -> 0 | O75: ='TONG HOP'!P22 -> 0 | P75: ='TONG HOP'!P33 -> 0 | Q75: ='TONG HOP'!P44 -> 0 | R75: ='TONG HOP'!P55 -> 0 | S75: ='TONG HOP'!P66 -> 0
B76: 7 | C76: 13h30-14h15 | D76: ='TONG HOP'!O12 -> 0 | E76: ='TONG HOP'!O23 -> 0 | F76: ='TONG HOP'!O34 -> 0 | G76: ='TONG HOP'!O45 -> 0 | H76: ='TONG HOP'!O56 -> 0 | I76: ='TONG HOP'!O67 -> 0 | L76: 7 | M76: 13h30-14h15 | N76: ='TONG HOP'!P12 -> 0 | O76: ='TONG HOP'!P23 -> 0 | P76: ='TONG HOP'!P34 -> 0 | Q76: ='TONG HOP'!P45 -> 0 | R76: ='TONG HOP'!P56 -> 0 | S76: ='TONG HOP'!P67 -> 0
B77: 8 | C77: 14h45-15h30 | D77: ='TONG HOP'!O13 -> 0 | E77: ='TONG HOP'!O24 -> 0 | F77: ='TONG HOP'!O35 -> 0 | G77: ='TONG HOP'!O46 -> 0 | H77: ='TONG HOP'!O57 -> 0 | I77: ='TONG HOP'!O68 -> 0 | L77: 8 | M77: 14h45-15h30 | N77: ='TONG HOP'!P13 -> 0 | O77: ='TONG HOP'!P24 -> 0 | P77: ='TONG HOP'!P35 -> 0 | Q77: ='TONG HOP'!P46 -> 0 | R77: ='TONG HOP'!P57 -> 0 | S77: ='TONG HOP'!P68 -> 0
B78: 9 | C78: 15h30-16h15 | D78: ='TONG HOP'!O14 -> 0 | E78: ='TONG HOP'!O25 -> 0 | F78: ='TONG HOP'!O36 -> 0 | G78: ='TONG HOP'!O47 -> 0 | H78: ='TONG HOP'!O58 -> 0 | I78: ='TONG HOP'!O69 -> 0 | L78: 9 | M78: 15h30-16h15 | N78: ='TONG HOP'!P14 -> 0 | O78: ='TONG HOP'!P25 -> 0 | P78: ='TONG HOP'!P36 -> 0 | Q78: ='TONG HOP'!P47 -> 0 | R78: ='TONG HOP'!P58 -> 0 | S78: ='TONG HOP'!P69 -> 0
B79: 10 | C79: 16h15-17h00(LT) 16h15-17h15(TH) | D79: ='TONG HOP'!O15 -> 0 | E79: ='TONG HOP'!O26 -> 0 | F79: ='TONG HOP'!O37 -> 0 | G79: ='TONG HOP'!O48 -> 0 | H79: ='TONG HOP'!O59 -> 0 | I79: ='TONG HOP'!O70 -> 0 | L79: 10 | M79: 16h15-17h00(LT) 16h15-17h15(TH) | N79: ='TONG HOP'!P15 -> 0 | O79: ='TONG HOP'!P26 -> 0 | P79: ='TONG HOP'!P37 -> 0 | Q79: ='TONG HOP'!P48 -> 0 | R79: ='TONG HOP'!P59 -> 0 | S79: ='TONG HOP'!P70 -> 0
A80: =A54 -> ÁP DỤNG TỪ NGÀY 12/10/2026 ĐẾN NGÀY 31/10/2026 | K80: =A80 -> ÁP DỤNG TỪ NGÀY 12/10/2026 ĐẾN NGÀY 31/10/2026
A81: LỚP: | C81: ='TONG HOP'!Q5 -> 0 | K81: LỚP: | M81: ='TONG HOP'!R5 -> 0
A82: Buổi | B82: Tiết | C82: Giờ dạy | D82: THỨ HAI | E82: THỨ BA | F82: THỨ TƯ | G82: THỨ NĂM | H82: THỨ SÁU | I82: THỨ BẢY | K82: Buổi | L82: Tiết | M82: Giờ dạy | N82: THỨ HAI | O82: THỨ BA | P82: THỨ TƯ | Q82: THỨ NĂM | R82: THỨ SÁU | S82: THỨ BẢY
A83: SÁNG | B83: 1 | C83: 7h00-7h45 | D83: ='TONG HOP'!Q6 -> 0 | E83: ='TONG HOP'!Q17 -> 0 | F83: ='TONG HOP'!Q28 -> 0 | G83: ='TONG HOP'!Q39 -> 0 | H83: ='TONG HOP'!Q50 -> 0 | I83: ='TONG HOP'!Q61 -> 0 | K83: SÁNG | L83: 1 | M83: 7h00-7h45 | N83: ='TONG HOP'!R6 -> 0 | O83: ='TONG HOP'!R17 -> 0 | P83: ='TONG HOP'!R28 -> 0 | Q83: ='TONG HOP'!R39 -> 0 | R83: ='TONG HOP'!R50 -> 0 | S83: ='TONG HOP'!R61 -> 0
B84: 2 | C84: 7h45-8h30 | D84: ='TONG HOP'!Q7 -> 0 | E84: ='TONG HOP'!Q18 -> 0 | F84: ='TONG HOP'!Q29 -> 0 | G84: ='TONG HOP'!Q40 -> 0 | H84: ='TONG HOP'!Q51 -> 0 | I84: ='TONG HOP'!Q62 -> 0 | L84: 2 | M84: 7h45-8h30 | N84: ='TONG HOP'!R7 -> 0 | O84: ='TONG HOP'!R18 -> 0 | P84: ='TONG HOP'!R29 -> 0 | Q84: ='TONG HOP'!R40 -> 0 | R84: ='TONG HOP'!R51 -> 0 | S84: ='TONG HOP'!R62 -> 0
B85: 3 | C85: 9h00-9h45 | D85: ='TONG HOP'!Q8 -> 0 | E85: ='TONG HOP'!Q19 -> 0 | F85: ='TONG HOP'!Q30 -> 0 | G85: ='TONG HOP'!Q41 -> 0 | H85: ='TONG HOP'!Q52 -> 0 | I85: ='TONG HOP'!Q63 -> 0 | L85: 3 | M85: 9h00-9h45 | N85: ='TONG HOP'!R8 -> 0 | O85: ='TONG HOP'!R19 -> 0 | P85: ='TONG HOP'!R30 -> 0 | Q85: ='TONG HOP'!R41 -> 0 | R85: ='TONG HOP'!R52 -> 0 | S85: ='TONG HOP'!R63 -> 0
B86: 4 | C86: 9h45-10h30 | D86: ='TONG HOP'!Q9 -> 0 | E86: ='TONG HOP'!Q20 -> 0 | F86: ='TONG HOP'!Q31 -> 0 | G86: ='TONG HOP'!Q42 -> 0 | H86: ='TONG HOP'!Q53 -> 0 | I86: ='TONG HOP'!Q64 -> 0 | L86: 4 | M86: 9h45-10h30 | N86: ='TONG HOP'!R9 -> 0 | O86: ='TONG HOP'!R20 -> 0 | P86: ='TONG HOP'!R31 -> 0 | Q86: ='TONG HOP'!R42 -> 0 | R86: ='TONG HOP'!R53 -> 0 | S86: ='TONG HOP'!R64 -> 0
B87: 5 | C87: 10h30-11h15(LT) 10h30-11h30(TH) | D87: ='TONG HOP'!Q10 -> 0 | E87: ='TONG HOP'!Q21 -> 0 | F87: ='TONG HOP'!Q32 -> 0 | G87: ='TONG HOP'!Q43 -> 0 | H87: ='TONG HOP'!Q54 -> 0 | I87: ='TONG HOP'!Q65 -> 0 | L87: 5 | M87: 10h30-11h15(LT) 10h30-11h30(TH) | N87: ='TONG HOP'!R10 -> 0 | O87: ='TONG HOP'!R21 -> 0 | P87: ='TONG HOP'!R32 -> 0 | Q87: ='TONG HOP'!R43 -> 0 | R87: ='TONG HOP'!R54 -> 0 | S87: ='TONG HOP'!R65 -> 0
A88: CHIỀU | B88: 6 | C88: 12h45-13h30 | D88: ='TONG HOP'!Q11 -> 0 | E88: ='TONG HOP'!Q22 -> 0 | F88: ='TONG HOP'!Q33 -> 0 | G88: ='TONG HOP'!Q44 -> 0 | H88: ='TONG HOP'!Q55 -> 0 | I88: ='TONG HOP'!Q66 -> 0 | K88: TỐI | L88: 6 | M88: 12h45-13h30 | N88: ='TONG HOP'!R11 -> 0 | O88: ='TONG HOP'!R22 -> 0 | P88: ='TONG HOP'!R33 -> 0 | Q88: ='TONG HOP'!R44 -> 0 | R88: ='TONG HOP'!R55 -> 0 | S88: ='TONG HOP'!R66 -> 0
B89: 7 | C89: 13h30-14h15 | D89: ='TONG HOP'!Q12 -> 0 | E89: ='TONG HOP'!Q23 -> 0 | F89: ='TONG HOP'!Q34 -> 0 | G89: ='TONG HOP'!Q45 -> 0 | H89: ='TONG HOP'!Q56 -> 0 | I89: ='TONG HOP'!Q67 -> 0 | L89: 7 | M89: 13h30-14h15 | N89: ='TONG HOP'!R12 -> 0 | O89: ='TONG HOP'!R23 -> 0 | P89: ='TONG HOP'!R34 -> 0 | Q89: ='TONG HOP'!R45 -> 0 | R89: ='TONG HOP'!R56 -> 0 | S89: ='TONG HOP'!R67 -> 0
B90: 8 | C90: 14h45-15h30 | D90: ='TONG HOP'!Q13 -> 0 | E90: ='TONG HOP'!Q24 -> 0 | F90: ='TONG HOP'!Q35 -> 0 | G90: ='TONG HOP'!Q46 -> 0 | H90: ='TONG HOP'!Q57 -> 0 | I90: ='TONG HOP'!Q68 -> 0 | L90: 8 | M90: 14h45-15h30 | N90: ='TONG HOP'!R13 -> 0 | O90: ='TONG HOP'!R24 -> 0 | P90: ='TONG HOP'!R35 -> 0 | Q90: ='TONG HOP'!R46 -> 0 | R90: ='TONG HOP'!R57 -> 0 | S90: ='TONG HOP'!R68 -> 0
B91: 9 | C91: 15h30-16h15 | D91: ='TONG HOP'!Q14 -> 0 | E91: ='TONG HOP'!Q25 -> 0 | F91: ='TONG HOP'!Q36 -> 0 | G91: ='TONG HOP'!Q47 -> 0 | H91: ='TONG HOP'!Q58 -> 0 | I91: ='TONG HOP'!Q69 -> 0 | L91: 9 | M91: 15h30-16h15 | N91: ='TONG HOP'!R14 -> 0 | O91: ='TONG HOP'!R25 -> 0 | P91: ='TONG HOP'!R36 -> 0 | Q91: ='TONG HOP'!R47 -> 0 | R91: ='TONG HOP'!R58 -> 0 | S91: ='TONG HOP'!R69 -> 0
B92: 10 | C92: 16h15-17h00(LT) 16h15-17h15(TH) | D92: ='TONG HOP'!Q15 -> 0 | E92: ='TONG HOP'!Q26 -> 0 | F92: ='TONG HOP'!Q37 -> 0 | G92: ='TONG HOP'!Q48 -> 0 | H92: ='TONG HOP'!Q59 -> 0 | I92: ='TONG HOP'!Q70 -> 0 | L92: 10 | M92: 16h15-17h00(LT) 16h15-17h15(TH) | N92: ='TONG HOP'!R15 -> 0 | O92: ='TONG HOP'!R26 -> 0 | P92: ='TONG HOP'!R37 -> 0 | Q92: ='TONG HOP'!R48 -> 0 | R92: ='TONG HOP'!R59 -> 0 | S92: ='TONG HOP'!R70 -> 0
A93: =A15 -> ÁP DỤNG TỪ NGÀY 12/10/2026 ĐẾN NGÀY 31/10/2026 | K93: =K15 -> ÁP DỤNG TỪ NGÀY 12/10/2026 ĐẾN NGÀY 31/10/2026
A94: LỚP: | C94: ='TONG HOP'!S5 -> 0 | K94: LỚP: | M94: ='TONG HOP'!T5 -> 0
A95: Buổi | B95: Tiết | C95: Giờ dạy | D95: THỨ HAI | E95: THỨ BA | F95: THỨ TƯ | G95: THỨ NĂM | H95: THỨ SÁU | I95: THỨ BẢY | K95: Buổi | L95: Tiết | M95: Giờ dạy | N95: THỨ HAI | O95: THỨ BA | P95: THỨ TƯ | Q95: THỨ NĂM | R95: THỨ SÁU | S95: THỨ BẢY
A96: SÁNG | B96: 1 | C96: 7h00-7h45 | D96: ='TONG HOP'!S6 -> 0 | E96: ='TONG HOP'!S17 -> 0 | F96: ='TONG HOP'!S28 -> 0 | G96: ='TONG HOP'!S39 -> 0 | H96: ='TONG HOP'!S50 -> 0 | I96: ='TONG HOP'!S61 -> 0 | K96: SÁNG | L96: 1 | M96: 7h00-7h45 | N96: ='TONG HOP'!T6 -> 0 | O96: ='TONG HOP'!T17 -> 0 | P96: ='TONG HOP'!T28 -> 0 | Q96: ='TONG HOP'!T39 -> 0 | R96: ='TONG HOP'!T50 -> 0 | S96: ='TONG HOP'!T61 -> 0
B97: 2 | C97: 7h45-8h30 | D97: ='TONG HOP'!S7 -> 0 | E97: ='TONG HOP'!S18 -> 0 | F97: ='TONG HOP'!S29 -> 0 | G97: ='TONG HOP'!S40 -> 0 | H97: ='TONG HOP'!S51 -> 0 | I97: ='TONG HOP'!S62 -> 0 | L97: 2 | M97: 7h45-8h30 | N97: ='TONG HOP'!T7 -> 0 | O97: ='TONG HOP'!T18 -> 0 | P97: ='TONG HOP'!T29 -> 0 | Q97: ='TONG HOP'!T40 -> 0 | R97: ='TONG HOP'!T51 -> 0 | S97: ='TONG HOP'!T62 -> 0
B98: 3 | C98: 9h00-9h45 | D98: ='TONG HOP'!S8 -> 0 | E98: ='TONG HOP'!S19 -> 0 | F98: ='TONG HOP'!S30 -> 0 | G98: ='TONG HOP'!S41 -> 0 | H98: ='TONG HOP'!S52 -> 0 | I98: ='TONG HOP'!S63 -> 0 | L98: 3 | M98: 9h00-9h45 | N98: ='TONG HOP'!T8 -> 0 | O98: ='TONG HOP'!T19 -> 0 | P98: ='TONG HOP'!T30 -> 0 | Q98: ='TONG HOP'!T41 -> 0 | R98: ='TONG HOP'!T52 -> 0 | S98: ='TONG HOP'!T63 -> 0
B99: 4 | C99: 9h45-10h30 | D99: ='TONG HOP'!S9 -> 0 | E99: ='TONG HOP'!S20 -> 0 | F99: ='TONG HOP'!S31 -> 0 | G99: ='TONG HOP'!S42 -> 0 | H99: ='TONG HOP'!S53 -> 0 | I99: ='TONG HOP'!S64 -> 0 | L99: 4 | M99: 9h45-10h30 | N99: ='TONG HOP'!T9 -> 0 | O99: ='TONG HOP'!T20 -> 0 | P99: ='TONG HOP'!T31 -> 0 | Q99: ='TONG HOP'!T42 -> 0 | R99: ='TONG HOP'!T53 -> 0 | S99: ='TONG HOP'!T64 -> 0
B100: 5 | C100: 10h30-11h15(LT) 10h30-11h30(TH) | D100: ='TONG HOP'!S10 -> 0 | E100: ='TONG HOP'!S21 -> 0 | F100: ='TONG HOP'!S32 -> 0 | G100: ='TONG HOP'!S43 -> 0 | H100: ='TONG HOP'!S54 -> 0 | I100: ='TONG HOP'!S65 -> 0 | L100: 5 | M100: 10h30-11h15(LT) 10h30-11h30(TH) | N100: ='TONG HOP'!T10 -> 0 | O100: ='TONG HOP'!T21 -> 0 | P100: ='TONG HOP'!T32 -> 0 | Q100: ='TONG HOP'!T43 -> 0 | R100: ='TONG HOP'!T54 -> 0 | S100: ='TONG HOP'!T65 -> 0
...

Sheet Khoa CNTT
A1: T H Ờ I K H Ó A B I Ể U - K H O A C ÔNG NGHỆ THÔNG TIN
A2: ='Khoa CK OT'!A2:I2 -> ÁP DỤNG TỪ NGÀY 12/10/2026 ĐẾN NGÀY 31/10/2026 | L2: =A2 -> ÁP DỤNG TỪ NGÀY 12/10/2026 ĐẾN NGÀY 31/10/2026
A3: LỚP: | C3: ='TONG HOP'!Y5 -> C26LRMT2 | L3: LỚP: | N3: ='TONG HOP'!Z5 -> C26MT2
A4: Buổi | B4: Tiết | C4: Giờ dạy | D4: THỨ HAI | E4: THỨ BA | F4: THỨ TƯ | G4: THỨ NĂM | H4: THỨ SÁU | I4: THỨ BẢY | J4: CHỦ NHẬT | L4: Buổi | M4: Tiết | N4: Giờ dạy | O4: THỨ HAI | P4: THỨ BA | Q4: THỨ TƯ | R4: THỨ NĂM | S4: THỨ SÁU | T4: THỨ BẢY | U4: CHỦ NHẬT
A5: SÁNG | B5: 1 | C5: 7h00-7h45 | D5: ='TONG HOP'!Y6 -> 0 | E5: ='TONG HOP'!Y17 -> GDTC | F5: ='TONG HOP'!Y28 -> 0 | G5: ='TONG HOP'!Y39 -> GDCT | H5: ='TONG HOP'!Y50 -> 0 | I5: ='TONG HOP'!Y61 -> 0 | L5: SÁNG | M5: 1 | N5: 7h00-7h45 | O5: ='TONG HOP'!Z6 -> 0 | P5: ='TONG HOP'!Z17 -> GDTC | Q5: ='TONG HOP'!Z28 -> 0 | R5: ='TONG HOP'!Z39 -> GDCT | S5: ='TONG HOP'!Z50 -> 0 | T5: ='TONG HOP'!Z61 -> 0
B6: 2 | C6: 7h45-8h30 | D6: ='TONG HOP'!Y7 -> 0 | E6: ='TONG HOP'!Y18 -> 0 | F6: ='TONG HOP'!Z29 -> 0 | G6: ='TONG HOP'!Y40 -> 0 | H6: ='TONG HOP'!Y51 -> 0 | I6: ='TONG HOP'!Y62 -> 0 | M6: 2 | N6: 7h45-8h30 | O6: ='TONG HOP'!Z7 -> 0 | P6: ='TONG HOP'!Z18 -> 0 | Q6: ='TONG HOP'!Z29 -> 0 | R6: ='TONG HOP'!Z40 -> 0 | S6: ='TONG HOP'!Z51 -> 0 | T6: ='TONG HOP'!Z62 -> 0
B7: 3 | C7: 9h00-9h45 | D7: ='TONG HOP'!Y8 -> 0 | E7: ='TONG HOP'!Y19 -> 0 | F7: ='TONG HOP'!Z30 -> 0 | G7: ='TONG HOP'!Y41 -> 0 | H7: ='TONG HOP'!Y52 -> 0 | I7: ='TONG HOP'!Y63 -> 0 | M7: 3 | N7: 9h00-9h45 | O7: ='TONG HOP'!Z8 -> 0 | P7: ='TONG HOP'!Z19 -> 0 | Q7: ='TONG HOP'!Z30 -> 0 | R7: ='TONG HOP'!Z41 -> 0 | S7: ='TONG HOP'!Z52 -> 0 | T7: ='TONG HOP'!Z63 -> 0
B8: 4 | C8: 9h45-10h30 | D8: ='TONG HOP'!Y9 -> 0 | E8: ='TONG HOP'!Y20 -> NHÀ THI ĐẤU | F8: ='TONG HOP'!Z31 -> 0 | G8: ='TONG HOP'!Y42 -> A110 | H8: ='TONG HOP'!Y53 -> 0 | I8: ='TONG HOP'!Y64 -> 0 | M8: 4 | N8: 9h45-10h30 | O8: ='TONG HOP'!Z9 -> 0 | P8: ='TONG HOP'!Z20 -> NHÀ THI ĐẤU | Q8: ='TONG HOP'!Z31 -> 0 | R8: ='TONG HOP'!Z42 -> A110 | S8: ='TONG HOP'!Z53 -> 0 | T8: ='TONG HOP'!Z64 -> 0
B9: 5 | C9: 10h30-11h15(LT) 10h30-11h30(TH) | D9: ='TONG HOP'!Y10 -> 0 | E9: ='TONG HOP'!Y21 -> T.THANH | F9: ='TONG HOP'!Z32 -> 0 | G9: ='TONG HOP'!Y43 -> C.THỦY | H9: ='TONG HOP'!Y54 -> 0 | I9: ='TONG HOP'!Y65 -> 0 | M9: 5 | N9: 10h30-11h15(LT) 10h30-11h30(TH) | O9: ='TONG HOP'!Z10 -> 0 | P9: ='TONG HOP'!Z21 -> T.THANH | Q9: ='TONG HOP'!Z32 -> 0 | R9: ='TONG HOP'!Z43 -> C.THỦY | S9: ='TONG HOP'!Z54 -> 0 | T9: ='TONG HOP'!Z65 -> 0
A10: CHIỀU | B10: 6 | C10: 12h45-13h30 | D10: ='TONG HOP'!Y11 -> 0 | E10: ='TONG HOP'!Y22 -> TIẾNG ANH 1 | F10: ='TONG HOP'!Z33 -> 0 | G10: ='TONG HOP'!Y44 -> 0 | H10: ='TONG HOP'!Y55 -> 0 | I10: ='TONG HOP'!Y66 -> 0 | L10: CHIỀU | M10: 6 | N10: 12h45-13h30 | O10: ='TONG HOP'!Z11 -> 0 | P10: ='TONG HOP'!Z6 -> 0 | Q10: ='TONG HOP'!Z33 -> 0 | R10: ='TONG HOP'!Z44 -> 0 | S10: ='TONG HOP'!Z55 -> 0 | T10: ='TONG HOP'!Z66 -> 0
B11: 7 | C11: 13h30-14h15 | D11: ='TONG HOP'!Y12 -> 0 | E11: ='TONG HOP'!Y23 -> 0 | F11: ='TONG HOP'!Z34 -> 0 | G11: ='TONG HOP'!Y45 -> 0 | H11: ='TONG HOP'!Y56 -> 0 | I11: ='TONG HOP'!Y67 -> 0 | M11: 7 | N11: 13h30-14h15 | O11: ='TONG HOP'!Z12 -> 0 | P11: ='TONG HOP'!Z7 -> 0 | Q11: ='TONG HOP'!Z34 -> 0 | R11: ='TONG HOP'!Z45 -> 0 | S11: ='TONG HOP'!Z56 -> 0 | T11: ='TONG HOP'!Z67 -> 0
B12: 8 | C12: 14h45-15h30 | D12: ='TONG HOP'!Y13 -> 0 | E12: ='TONG HOP'!Y24 -> 0 | F12: ='TONG HOP'!Z35 -> 0 | G12: ='TONG HOP'!Y46 -> 0 | H12: ='TONG HOP'!Y57 -> 0 | I12: ='TONG HOP'!Y68 -> 0 | M12: 8 | N12: 14h45-15h30 | O12: ='TONG HOP'!Z13 -> 0 | P12: ='TONG HOP'!Z8 -> 0 | Q12: ='TONG HOP'!Z35 -> 0 | R12: ='TONG HOP'!Z46 -> 0 | S12: ='TONG HOP'!Z57 -> 0 | T12: ='TONG HOP'!Z68 -> 0
B13: 9 | C13: 15h30-16h15 | D13: ='TONG HOP'!Y14 -> 0 | E13: ='TONG HOP'!Y25 -> A018 | F13: ='TONG HOP'!Z36 -> 0 | G13: ='TONG HOP'!Y47 -> 0 | H13: ='TONG HOP'!Y58 -> 0 | I13: ='TONG HOP'!Y69 -> 0 | M13: 9 | N13: 15h30-16h15 | O13: ='TONG HOP'!Z14 -> 0 | P13: ='TONG HOP'!Z9 -> 0 | Q13: ='TONG HOP'!Z36 -> 0 | R13: ='TONG HOP'!Z47 -> 0 | S13: ='TONG HOP'!Z58 -> 0 | T13: ='TONG HOP'!Z69 -> 0
B14: 10 | C14: 16h15-17h00(LT) 16h15-17h15(TH) | D14: ='TONG HOP'!Y15 -> 0 | E14: ='TONG HOP'!Y26 -> C.DIỆU | F14: ='TONG HOP'!Z37 -> 0 | G14: ='TONG HOP'!Y48 -> 0 | H14: ='TONG HOP'!Y59 -> 0 | I14: ='TONG HOP'!Y70 -> 0 | M14: 10 | N14: 16h15-17h00(LT) 16h15-17h15(TH) | O14: ='TONG HOP'!Z15 -> 0 | P14: ='TONG HOP'!Z10 -> 0 | Q14: ='TONG HOP'!Z37 -> 0 | R14: ='TONG HOP'!Z48 -> 0 | S14: ='TONG HOP'!Z59 -> 0 | T14: ='TONG HOP'!Z70 -> 0
A15: =A2 -> ÁP DỤNG TỪ NGÀY 12/10/2026 ĐẾN NGÀY 31/10/2026 | L15: =A15 -> ÁP DỤNG TỪ NGÀY 12/10/2026 ĐẾN NGÀY 31/10/2026
A16: LỚP: | C16: ='TONG HOP'!AA5 -> C26TKĐH2 | L16: LỚP: | N16: ='TONG HOP'!AB5 -> C26UDPM2
A17: Buổi | B17: Tiết | C17: Giờ dạy | D17: THỨ HAI | E17: THỨ BA | F17: THỨ TƯ | G17: THỨ NĂM | H17: THỨ SÁU | I17: THỨ BẢY | J17: CHỦ NHẬT | L17: Buổi | M17: Tiết | N17: Giờ dạy | O17: THỨ HAI | P17: THỨ BA | Q17: THỨ TƯ | R17: THỨ NĂM | S17: THỨ SÁU | T17: THỨ BẢY | U17: CHỦ NHẬT
A18: SÁNG | B18: 1 | C18: 7h00-7h45 | D18: ='TONG HOP'!AA6 -> 0 | E18: ='TONG HOP'!AA17 -> GDTC | F18: ='TONG HOP'!AA28 -> 0 | G18: ='TONG HOP'!AA39 -> GDCT | H18: ='TONG HOP'!AA50 -> 0 | I18: ='TONG HOP'!AA61 -> 0 | L18: SÁNG | M18: 1 | N18: 7h00-7h45 | O18: ='TONG HOP'!AB6 -> 0 | P18: ='TONG HOP'!AB17 -> GDTC | Q18: ='TONG HOP'!AB28 -> 0 | R18: ='TONG HOP'!AB39 -> GDCT | S18: ='TONG HOP'!AB50 -> 0 | T18: ='TONG HOP'!AB61 -> 0
B19: 2 | C19: 7h45-8h30 | D19: ='TONG HOP'!AA7 -> 0 | E19: ='TONG HOP'!AA18 -> 0 | F19: ='TONG HOP'!AA29 -> 0 | G19: ='TONG HOP'!AA40 -> 0 | H19: ='TONG HOP'!AA51 -> 0 | I19: ='TONG HOP'!AA62 -> 0 | M19: 2 | N19: 7h45-8h30 | O19: ='TONG HOP'!AB7 -> 0 | P19: ='TONG HOP'!AB18 -> 0 | Q19: ='TONG HOP'!AB29 -> 0 | R19: ='TONG HOP'!AB40 -> 0 | S19: ='TONG HOP'!AB51 -> 0 | T19: ='TONG HOP'!AB62 -> 0
B20: 3 | C20: 9h00-9h45 | D20: ='TONG HOP'!AA8 -> 0 | E20: ='TONG HOP'!AA19 -> 0 | F20: ='TONG HOP'!AA30 -> 0 | G20: ='TONG HOP'!AA41 -> 0 | H20: ='TONG HOP'!AA52 -> 0 | I20: ='TONG HOP'!AA63 -> 0 | M20: 3 | N20: 9h00-9h45 | O20: ='TONG HOP'!AB8 -> 0 | P20: ='TONG HOP'!AB19 -> 0 | Q20: ='TONG HOP'!AB30 -> 0 | R20: ='TONG HOP'!AB41 -> 0 | S20: ='TONG HOP'!AB52 -> 0 | T20: ='TONG HOP'!AB63 -> 0
B21: 4 | C21: 9h45-10h30 | D21: ='TONG HOP'!AA9 -> 0 | E21: ='TONG HOP'!AA20 -> NHÀ THI ĐẤU | F21: ='TONG HOP'!AA31 -> 0 | G21: ='TONG HOP'!AA42 -> A110 | H21: ='TONG HOP'!AA53 -> 0 | I21: ='TONG HOP'!AA64 -> 0 | M21: 4 | N21: 9h45-10h30 | O21: ='TONG HOP'!AB9 -> 0 | P21: ='TONG HOP'!AB20 -> NHÀ THI ĐẤU | Q21: ='TONG HOP'!AB31 -> 0 | R21: ='TONG HOP'!AB42 -> A110 | S21: ='TONG HOP'!AB53 -> 0 | T21: ='TONG HOP'!AB64 -> 0
B22: 5 | C22: 10h30-11h15(LT) 10h30-11h30(TH) | D22: ='TONG HOP'!AA10 -> 0 | E22: ='TONG HOP'!AA21 -> T.THANH | F22: ='TONG HOP'!AA32 -> 0 | G22: ='TONG HOP'!AA43 -> C.THỦY | H22: ='TONG HOP'!AA54 -> 0 | I22: ='TONG HOP'!AA65 -> 0 | M22: 5 | N22: 10h30-11h15(LT) 10h30-11h30(TH) | O22: ='TONG HOP'!AB10 -> 0 | P22: ='TONG HOP'!AB21 -> T.THANH | Q22: ='TONG HOP'!AB32 -> 0 | R22: ='TONG HOP'!AB43 -> C.THỦY | S22: ='TONG HOP'!AB54 -> 0 | T22: ='TONG HOP'!AB65 -> 0
A23: CHIỀU | B23: 6 | C23: 12h45-13h30 | D23: ='TONG HOP'!AA11 -> 0 | E23: ='TONG HOP'!AA22 -> TIẾNG ANH 1 | F23: ='TONG HOP'!AA33 -> 0 | G23: ='TONG HOP'!AA44 -> 0 | H23: ='TONG HOP'!AA55 -> 0 | I23: ='TONG HOP'!AA66 -> 0 | L23: CHIỀU | M23: 6 | N23: 12h45-13h30 | O23: ='TONG HOP'!AB11 -> 0 | P23: ='TONG HOP'!AB22 -> TIẾNG ANH 1 | Q23: ='TONG HOP'!AB33 -> 0 | R23: ='TONG HOP'!AB44 -> 0 | S23: ='TONG HOP'!AB55 -> 0 | T23: ='TONG HOP'!AB66 -> 0
B24: 7 | C24: 13h30-14h15 | D24: ='TONG HOP'!AA12 -> 0 | E24: ='TONG HOP'!AA23 -> 0 | F24: ='TONG HOP'!AA34 -> 0 | G24: ='TONG HOP'!AA45 -> 0 | H24: ='TONG HOP'!AA56 -> 0 | I24: ='TONG HOP'!AA67 -> 0 | M24: 7 | N24: 13h30-14h15 | O24: ='TONG HOP'!AB12 -> 0 | P24: ='TONG HOP'!AB23 -> 0 | Q24: ='TONG HOP'!AB34 -> 0 | R24: ='TONG HOP'!AB45 -> 0 | S24: ='TONG HOP'!AB56 -> 0 | T24: ='TONG HOP'!AB67 -> 0
B25: 8 | C25: 14h45-15h30 | D25: ='TONG HOP'!AA13 -> 0 | E25: ='TONG HOP'!AA24 -> 0 | F25: ='TONG HOP'!AA35 -> 0 | G25: ='TONG HOP'!AA46 -> 0 | H25: ='TONG HOP'!AA57 -> 0 | I25: ='TONG HOP'!AA68 -> 0 | M25: 8 | N25: 14h45-15h30 | O25: ='TONG HOP'!AB13 -> 0 | P25: ='TONG HOP'!AB24 -> 0 | Q25: ='TONG HOP'!AB35 -> 0 | R25: ='TONG HOP'!AB46 -> 0 | S25: ='TONG HOP'!AB57 -> 0 | T25: ='TONG HOP'!AB68 -> 0
B26: 9 | C26: 15h30-16h15 | D26: ='TONG HOP'!AA14 -> 0 | E26: ='TONG HOP'!AA25 -> A018 | F26: ='TONG HOP'!AA36 -> 0 | G26: ='TONG HOP'!AA47 -> 0 | H26: ='TONG HOP'!AA58 -> 0 | I26: ='TONG HOP'!AA69 -> 0 | M26: 9 | N26: 15h30-16h15 | O26: ='TONG HOP'!AB14 -> 0 | P26: ='TONG HOP'!AB25 -> A018 | Q26: ='TONG HOP'!AB36 -> 0 | R26: ='TONG HOP'!AB47 -> 0 | S26: ='TONG HOP'!AB58 -> 0 | T26: ='TONG HOP'!AB69 -> 0
B27: 10 | C27: 16h15-17h00(LT) 16h15-17h15(TH) | D27: ='TONG HOP'!AA15 -> 0 | E27: ='TONG HOP'!AA26 -> C.DIỆU | F27: ='TONG HOP'!AA37 -> 0 | G27: ='TONG HOP'!AA48 -> 0 | H27: ='TONG HOP'!AA59 -> 0 | I27: ='TONG HOP'!AA70 -> 0 | M27: 10 | N27: 16h15-17h00(LT) 16h15-17h15(TH) | O27: ='TONG HOP'!AB15 -> 0 | P27: ='TONG HOP'!AB26 -> C.DIỆU | Q27: ='TONG HOP'!AB37 -> 0 | R27: ='TONG HOP'!AB48 -> 0 | S27: ='TONG HOP'!AB59 -> 0 | T27: ='TONG HOP'!AB70 -> 0
A28: =A15 -> ÁP DỤNG TỪ NGÀY 12/10/2026 ĐẾN NGÀY 31/10/2026 | L28: =A28 -> ÁP DỤNG TỪ NGÀY 12/10/2026 ĐẾN NGÀY 31/10/2026
A29: LỚP: | C29: ='TONG HOP'!AC5 -> T26LRMT2 | L29: LỚP: | N29: ='TONG HOP'!AD5 -> T26MT2
A30: Buổi | B30: Tiết | C30: Giờ dạy | D30: THỨ HAI | E30: THỨ BA | F30: THỨ TƯ | G30: THỨ NĂM | H30: THỨ SÁU | I30: THỨ BẢY | J30: CHỦ NHẬT | L30: Buổi | M30: Tiết | N30: Giờ dạy | O30: THỨ HAI | P30: THỨ BA | Q30: THỨ TƯ | R30: THỨ NĂM | S30: THỨ SÁU | T30: THỨ BẢY | U30: CHỦ NHẬT
A31: SÁNG | B31: 1 | C31: 7h00-7h45 | D31: ='TONG HOP'!AC6 -> 0 | E31: ='TONG HOP'!AC17 -> TIẾNG ANH 1 | F31: ='TONG HOP'!AC28 -> 0 | G31: ='TONG HOP'!AC39 -> KỸ NĂNG | H31: ='TONG HOP'!AC50 -> 0 | I31: ='TONG HOP'!AC61 -> 0 | L31: SÁNG | M31: 1 | N31: 7h00-7h45 | O31: ='TONG HOP'!AD6 -> 0 | P31: ='TONG HOP'!AD17 -> TIẾNG ANH 1 | Q31: ='TONG HOP'!AD28 -> 0 | R31: ='TONG HOP'!AD39 -> KỸ NĂNG | S31: ='TONG HOP'!AD50 -> 0 | T31: ='TONG HOP'!AD61 -> 0
B32: 2 | C32: 7h45-8h30 | D32: ='TONG HOP'!AC7 -> 0 | E32: ='TONG HOP'!AC18 -> 0 | F32: ='TONG HOP'!AC29 -> 0 | G32: ='TONG HOP'!AC40 -> THIẾT YẾU | H32: ='TONG HOP'!AC51 -> 0 | I32: ='TONG HOP'!AC62 -> 0 | M32: 2 | N32: 7h45-8h30 | O32: ='TONG HOP'!AD7 -> 0 | P32: ='TONG HOP'!AD18 -> 0 | Q32: ='TONG HOP'!AD29 -> 0 | R32: ='TONG HOP'!AD40 -> THIẾT YẾU | S32: ='TONG HOP'!AD51 -> 0 | T32: ='TONG HOP'!AD62 -> 0
B33: 3 | C33: 9h00-9h45 | D33: ='TONG HOP'!AC8 -> 0 | E33: ='TONG HOP'!AC19 -> 0 | F33: ='TONG HOP'!AC30 -> 0 | G33: ='TONG HOP'!AC41 -> 0 | H33: ='TONG HOP'!AC52 -> 0 | I33: ='TONG HOP'!AC63 -> 0 | M33: 3 | N33: 9h00-9h45 | O33: ='TONG HOP'!AD8 -> 0 | P33: ='TONG HOP'!AD19 -> 0 | Q33: ='TONG HOP'!AD30 -> 0 | R33: ='TONG HOP'!AD41 -> 0 | S33: ='TONG HOP'!AD52 -> 0 | T33: ='TONG HOP'!AD63 -> 0
B34: 4 | C34: 9h45-10h30 | D34: ='TONG HOP'!AC9 -> 0 | E34: ='TONG HOP'!AC20 -> A018 | F34: ='TONG HOP'!AC31 -> 0 | G34: ='TONG HOP'!AC42 -> A111 | H34: ='TONG HOP'!AC53 -> 0 | I34: ='TONG HOP'!AC64 -> 0 | M34: 4 | N34: 9h45-10h30 | O34: ='TONG HOP'!AD9 -> 0 | P34: ='TONG HOP'!AD20 -> A018 | Q34: ='TONG HOP'!AD31 -> 0 | R34: ='TONG HOP'!AD42 -> A111 | S34: ='TONG HOP'!AD53 -> 0 | T34: ='TONG HOP'!AD64 -> 0
B35: 5 | C35: 10h30-11h15(LT) 10h30-11h30(TH) | D35: ='TONG HOP'!AC10 -> 0 | E35: ='TONG HOP'!AC21 -> T.HOÀNG | F35: ='TONG HOP'!AC32 -> 0 | G35: ='TONG HOP'!AC43 -> C.CHIÊU LINH | H35: ='TONG HOP'!AC54 -> 0 | I35: ='TONG HOP'!AC65 -> 0 | M35: 5 | N35: 10h30-11h15(LT) 10h30-11h30(TH) | O35: ='TONG HOP'!AD10 -> 0 | P35: ='TONG HOP'!AD21 -> T.HOÀNG | Q35: ='TONG HOP'!AD32 -> 0 | R35: ='TONG HOP'!AD43 -> C.CHIÊU LINH | S35: ='TONG HOP'!AD54 -> 0 | T35: ='TONG HOP'!AD65 -> 0
A36: CHIỀU | B36: 6 | C36: 12h45-13h30 | D36: ='TONG HOP'!AC11 -> HỌC VĂN HÓA | E36: ='TONG HOP'!AC22 -> HỌC VĂN HÓA | F36: ='TONG HOP'!AC33 -> HỌC VĂN HÓA | G36: ='TONG HOP'!AC44 -> HỌC VĂN HÓA | H36: ='TONG HOP'!AC55 -> HỌC VĂN HÓA | I36: ='TONG HOP'!AC66 -> 0 | L36: CHIỀU | M36: 6 | N36: 12h45-13h30 | O36: ='TONG HOP'!AD11 -> HỌC VĂN HÓA | P36: ='TONG HOP'!AD22 -> HỌC VĂN HÓA | Q36: ='TONG HOP'!AD33 -> HỌC VĂN HÓA | R36: ='TONG HOP'!AD44 -> HỌC VĂN HÓA | S36: ='TONG HOP'!AD55 -> HỌC VĂN HÓA | T36: ='TONG HOP'!AD66 -> 0
B37: 7 | C37: 13h30-14h15 | D37: ='TONG HOP'!AC12 -> THEO TKB TTGDTX | E37: ='TONG HOP'!AC23 -> THEO TKB TTGDTX | F37: ='TONG HOP'!AC34 -> THEO TKB TTGDTX | G37: ='TONG HOP'!AC45 -> THEO TKB TTGDTX | H37: ='TONG HOP'!AC56 -> THEO TKB TTGDTX | I37: ='TONG HOP'!AC67 -> 0 | M37: 7 | N37: 13h30-14h15 | O37: ='TONG HOP'!AD12 -> THEO TKB TTGDTX | P37: ='TONG HOP'!AD23 -> THEO TKB TTGDTX | Q37: ='TONG HOP'!AD34 -> THEO TKB TTGDTX | R37: ='TONG HOP'!AD45 -> THEO TKB TTGDTX | S37: ='TONG HOP'!AD56 -> THEO TKB TTGDTX | T37: ='TONG HOP'!AD67 -> 0
B38: 8 | C38: 14h45-15h30 | D38: ='TONG HOP'!AC13 -> QUẬN 1 | E38: ='TONG HOP'!AC24 -> QUẬN 1 | F38: ='TONG HOP'!AC35 -> QUẬN 1 | G38: ='TONG HOP'!AC46 -> QUẬN 1 | H38: ='TONG HOP'!AC57 -> QUẬN 1 | I38: ='TONG HOP'!AC68 -> 0 | M38: 8 | N38: 14h45-15h30 | O38: ='TONG HOP'!AD13 -> QUẬN 1 | P38: ='TONG HOP'!AD24 -> QUẬN 1 | Q38: ='TONG HOP'!AD35 -> QUẬN 1 | R38: ='TONG HOP'!AD46 -> QUẬN 1 | S38: ='TONG HOP'!AD57 -> QUẬN 1 | T38: ='TONG HOP'!AD68 -> 0
B39: 9 | C39: 15h30-16h15 | D39: ='TONG HOP'!AC14 -> 0 | E39: ='TONG HOP'!AC25 -> 0 | F39: ='TONG HOP'!AC36 -> 0 | G39: ='TONG HOP'!AC47 -> 0 | H39: ='TONG HOP'!AC58 -> 0 | I39: ='TONG HOP'!AC69 -> 0 | M39: 9 | N39: 15h30-16h15 | O39: ='TONG HOP'!AD14 -> 0 | P39: ='TONG HOP'!AD25 -> 0 | Q39: ='TONG HOP'!AD36 -> 0 | R39: ='TONG HOP'!AD47 -> 0 | S39: ='TONG HOP'!AD58 -> 0 | T39: ='TONG HOP'!AD69 -> 0
B40: 10 | C40: 16h15-17h00(LT) 16h15-17h15(TH) | D40: ='TONG HOP'!AC15 -> 0 | E40: ='TONG HOP'!AC26 -> 0 | F40: ='TONG HOP'!AC37 -> 0 | G40: ='TONG HOP'!AC48 -> 0 | H40: ='TONG HOP'!AC59 -> 0 | I40: ='TONG HOP'!AC70 -> 0 | M40: 10 | N40: 16h15-17h00(LT) 16h15-17h15(TH) | O40: ='TONG HOP'!AD15 -> 0 | P40: ='TONG HOP'!AD26 -> 0 | Q40: ='TONG HOP'!AD37 -> 0 | R40: ='TONG HOP'!AD48 -> 0 | S40: ='TONG HOP'!AD59 -> 0 | T40: ='TONG HOP'!AD70 -> 0
A41: =A2 -> ÁP DỤNG TỪ NGÀY 12/10/2026 ĐẾN NGÀY 31/10/2026 | L41: =A41 -> ÁP DỤNG TỪ NGÀY 12/10/2026 ĐẾN NGÀY 31/10/2026
A42: LỚP: | C42: ='TONG HOP'!AE5 -> T26TKĐH2 | L42: LỚP: | N42: ='TONG HOP'!AF5 -> T26UDPM2
A43: Buổi | B43: Tiết | C43: Giờ dạy | D43: THỨ HAI | E43: THỨ BA | F43: THỨ TƯ | G43: THỨ NĂM | H43: THỨ SÁU | I43: THỨ BẢY | J43: CHỦ NHẬT | L43: Buổi | M43: Tiết | N43: Giờ dạy | O43: THỨ HAI | P43: THỨ BA | Q43: THỨ TƯ | R43: THỨ NĂM | S43: THỨ SÁU | T43: THỨ BẢY | U43: CHỦ NHẬT
A44: SÁNG | B44: 1 | C44: 7h00-7h45 | D44: ='TONG HOP'!AE6 -> TIN HỌC | E44: ='TONG HOP'!AE17 -> TIẾNG ANH 1 | F44: ='TONG HOP'!AE28 -> MỸ THUẬT CB | G44: ='TONG HOP'!AE39 -> KỸ NĂNG | H44: ='TONG HOP'!AE50 -> LR VÀ CĐ | I44: ='TONG HOP'!AE61 -> 0 | L44: SÁNG | M44: 1 | N44: 7h00-7h45 | O44: ='TONG HOP'!AF6 -> TIN HỌC | P44: ='TONG HOP'!AF17 -> TIẾNG ANH 1 | Q44: ='TONG HOP'!AF28 -> KT LẬP TRÌNH | R44: ='TONG HOP'!AF39 -> KỸ NĂNG | S44: ='TONG HOP'!AF50 -> XỬ LÝ ẢNH | T44: ='TONG HOP'!AF61 -> TK WEB
B45: 2 | C45: 7h45-8h30 | D45: ='TONG HOP'!AE7 -> 0 | E45: ='TONG HOP'!AE18 -> 0 | F45: ='TONG HOP'!AE29 -> 0 | G45: ='TONG HOP'!AE40 -> THIẾT YẾU | H45: ='TONG HOP'!AE51 -> MÁY TÍNH | I45: ='TONG HOP'!AE62 -> 0 | M45: 2 | N45: 7h45-8h30 | O45: ='TONG HOP'!AF7 -> 0 | P45: ='TONG HOP'!AF18 -> 0 | Q45: ='TONG HOP'!AF29 -> 0 | R45: ='TONG HOP'!AF40 -> THIẾT YẾU | S45: ='TONG HOP'!AF51 -> VỚI PHOTOSHOP | T45: ='TONG HOP'!AF62 -> 0
B46: 3 | C46: 9h00-9h45 | D46: ='TONG HOP'!AE8 -> 0 | E46: ='TONG HOP'!AE19 -> 0 | F46: ='TONG HOP'!AE30 -> 0 | G46: ='TONG HOP'!AE41 -> 0 | H46: ='TONG HOP'!AE52 -> 0 | I46: ='TONG HOP'!AE63 -> 0 | M46: 3 | N46: 9h00-9h45 | O46: ='TONG HOP'!AF8 -> 0 | P46: ='TONG HOP'!AF19 -> 0 | Q46: ='TONG HOP'!AF30 -> 0 | R46: ='TONG HOP'!AF41 -> 0 | S46: ='TONG HOP'!AF52 -> 0 | T46: ='TONG HOP'!AF63 -> 0
B47: 4 | C47: 9h45-10h30 | D47: ='TONG HOP'!AE9 -> B514 | E47: ='TONG HOP'!AE20 -> A018 | F47: ='TONG HOP'!AE31 -> B506 | G47: ='TONG HOP'!AE42 -> A111 | H47: ='TONG HOP'!AE53 -> B504 | I47: ='TONG HOP'!AE64 -> 0 | M47: 4 | N47: 9h45-10h30 | O47: ='TONG HOP'!AF9 -> B504 | P47: ='TONG HOP'!AF20 -> A018 | Q47: ='TONG HOP'!AF31 -> B514 | R47: ='TONG HOP'!AF42 -> A111 | S47: ='TONG HOP'!AF53 -> B514 | T47: ='TONG HOP'!AF64 -> B513
B48: 5 | C48: 10h30-11h15(LT) 10h30-11h30(TH) | D48: ='TONG HOP'!AE10 -> T.DUY | E48: ='TONG HOP'!AE21 -> T.HOÀNG | F48: ='TONG HOP'!AE32 -> C.S.MAI | G48: ='TONG HOP'!AE43 -> C.CHIÊU LINH | H48: ='TONG HOP'!AE54 -> T.THÀNH | I48: ='TONG HOP'!AE65 -> 0 | M48: 5 | N48: 10h30-11h15(LT) 10h30-11h30(TH) | O48: ='TONG HOP'!AF10 -> C.HÂN | P48: ='TONG HOP'!AF21 -> T.HOÀNG | Q48: ='TONG HOP'!AF32 -> C.HÂN | R48: ='TONG HOP'!AF43 -> C.CHIÊU LINH | S48: ='TONG HOP'!AF54 -> T.LIÊN | T48: ='TONG HOP'!AF65 -> T.TÀI
A49: CHIỀU | B49: 6 | C49: 12h45-13h30 | D49: ='TONG HOP'!AE11 -> HỌC VĂN HÓA | E49: ='TONG HOP'!AE22 -> HỌC VĂN HÓA | F49: ='TONG HOP'!AE33 -> HỌC VĂN HÓA | G49: ='TONG HOP'!AE44 -> HỌC VĂN HÓA | H49: ='TONG HOP'!AE55 -> HỌC VĂN HÓA | I49: ='TONG HOP'!AE66 -> NGHỆ THUẬT | L49: CHIỀU | M49: 6 | N49: 12h45-13h30 | O49: ='TONG HOP'!AF11 -> HỌC VĂN HÓA | P49: ='TONG HOP'!AF22 -> HỌC VĂN HÓA | Q49: ='TONG HOP'!AF33 -> HỌC VĂN HÓA | R49: ='TONG HOP'!AF44 -> HỌC VĂN HÓA | S49: ='TONG HOP'!AF55 -> HỌC VĂN HÓA | T49: ='TONG HOP'!AF66 -> 0
B50: 7 | C50: 13h30-14h15 | D50: ='TONG HOP'!AE12 -> THEO TKB TTGDTX | E50: ='TONG HOP'!AE23 -> THEO TKB TTGDTX | F50: ='TONG HOP'!AE34 -> THEO TKB TTGDTX | G50: ='TONG HOP'!AE45 -> THEO TKB TTGDTX | H50: ='TONG HOP'!AE56 -> THEO TKB TTGDTX | I50: ='TONG HOP'!AE67 -> CHỮ | M50: 7 | N50: 13h30-14h15 | O50: ='TONG HOP'!AF12 -> THEO TKB TTGDTX | P50: ='TONG HOP'!AF23 -> THEO TKB TTGDTX | Q50: ='TONG HOP'!AF34 -> THEO TKB TTGDTX | R50: ='TONG HOP'!AF45 -> THEO TKB TTGDTX | S50: ='TONG HOP'!AF56 -> THEO TKB TTGDTX | T50: ='TONG HOP'!AF67 -> 0
B51: 8 | C51: 14h45-15h30 | D51: ='TONG HOP'!AE13 -> QUẬN 1 | E51: ='TONG HOP'!AE24 -> QUẬN 1 | F51: ='TONG HOP'!AE35 -> QUẬN 1 | G51: ='TONG HOP'!AE46 -> QUẬN 1 | H51: ='TONG HOP'!AE57 -> QUẬN 1 | I51: ='TONG HOP'!AE68 -> 0 | M51: 8 | N51: 14h45-15h30 | O51: ='TONG HOP'!AF13 -> QUẬN 1 | P51: ='TONG HOP'!AF24 -> QUẬN 1 | Q51: ='TONG HOP'!AF35 -> QUẬN 1 | R51: ='TONG HOP'!AF46 -> QUẬN 1 | S51: ='TONG HOP'!AF57 -> QUẬN 1 | T51: ='TONG HOP'!AF68 -> 0
B52: 9 | C52: 15h30-16h15 | D52: ='TONG HOP'!AE14 -> 0 | E52: ='TONG HOP'!AE25 -> 0 | F52: ='TONG HOP'!AE36 -> 0 | G52: ='TONG HOP'!AE47 -> 0 | H52: ='TONG HOP'!AE58 -> 0 | I52: ='TONG HOP'!AE69 -> B515 | M52: 9 | N52: 15h30-16h15 | O52: ='TONG HOP'!AF14 -> 0 | P52: ='TONG HOP'!AF25 -> 0 | Q52: ='TONG HOP'!AF36 -> 0 | R52: ='TONG HOP'!AF47 -> 0 | S52: ='TONG HOP'!AF58 -> 0 | T52: ='TONG HOP'!AF69 -> 0
B53: 10 | C53: 16h15-17h00(LT) 16h15-17h15(TH) | D53: ='TONG HOP'!AE15 -> 0 | E53: ='TONG HOP'!AE26 -> 0 | F53: ='TONG HOP'!AE37 -> 0 | G53: ='TONG HOP'!AE48 -> 0 | H53: ='TONG HOP'!AE59 -> 0 | I53: ='TONG HOP'!AE70 -> C.THƯ | M53: 10 | N53: 16h15-17h00(LT) 16h15-17h15(TH) | O53: ='TONG HOP'!AF15 -> 0 | P53: ='TONG HOP'!AF26 -> 0 | Q53: ='TONG HOP'!AF37 -> 0 | R53: ='TONG HOP'!AF48 -> 0 | S53: ='TONG HOP'!AF59 -> 0 | T53: ='TONG HOP'!AF70 -> 0
A54: =A41 -> ÁP DỤNG TỪ NGÀY 12/10/2026 ĐẾN NGÀY 31/10/2026 | L54: =L41 -> ÁP DỤNG TỪ NGÀY 12/10/2026 ĐẾN NGÀY 31/10/2026
A55: LỚP: | C55: ='TONG HOP'!AG5 -> 0 | L55: LỚP:
A56: Buổi | B56: Tiết | C56: Giờ dạy | D56: THỨ HAI | E56: THỨ BA | F56: THỨ TƯ | G56: THỨ NĂM | H56: THỨ SÁU | I56: THỨ BẢY | J56: CHỦ NHẬT | L56: Buổi | M56: Tiết | N56: Giờ dạy | O56: THỨ HAI | P56: THỨ BA | Q56: THỨ TƯ | R56: THỨ NĂM | S56: THỨ SÁU | T56: THỨ BẢY | U56: CHỦ NHẬT
A57: SÁNG | B57: 1 | C57: 7h00-7h45 | D57: ='TONG HOP'!AG6 -> 0 | E57: ='TONG HOP'!AG17 -> 0 | F57: ='TONG HOP'!AG28 -> 0 | G57: ='TONG HOP'!AG39 -> 0 | H57: ='TONG HOP'!AG50 -> 0 | I57: ='TONG HOP'!AG61 -> 0 | L57: SÁNG | M57: 1 | N57: 7h00-7h45
B58: 2 | C58: 7h45-8h30 | D58: ='TONG HOP'!AG7 -> 0 | E58: ='TONG HOP'!AG18 -> 0 | F58: ='TONG HOP'!AG29 -> 0 | G58: ='TONG HOP'!AG40 -> 0 | H58: ='TONG HOP'!AG51 -> 0 | I58: ='TONG HOP'!AG62 -> 0 | M58: 2 | N58: 7h45-8h30
B59: 3 | C59: 9h00-9h45 | D59: ='TONG HOP'!AG8 -> 0 | E59: ='TONG HOP'!AG19 -> 0 | F59: ='TONG HOP'!AG30 -> 0 | G59: ='TONG HOP'!AG41 -> 0 | H59: ='TONG HOP'!AG52 -> 0 | I59: ='TONG HOP'!AG63 -> 0 | M59: 3 | N59: 9h00-9h45
B60: 4 | C60: 9h45-10h30 | D60: ='TONG HOP'!AG9 -> 0 | E60: ='TONG HOP'!AG20 -> 0 | F60: ='TONG HOP'!AG31 -> 0 | G60: ='TONG HOP'!AG42 -> 0 | H60: ='TONG HOP'!AG53 -> 0 | I60: ='TONG HOP'!AG64 -> 0 | M60: 4 | N60: 9h45-10h30
B61: 5 | C61: 10h30-11h15(LT) 10h30-11h30(TH) | D61: ='TONG HOP'!AG10 -> 0 | E61: ='TONG HOP'!AG21 -> 0 | F61: ='TONG HOP'!AG32 -> 0 | G61: ='TONG HOP'!AG43 -> 0 | H61: ='TONG HOP'!AG54 -> 0 | I61: ='TONG HOP'!AG65 -> 0 | M61: 5 | N61: 10h30-11h15(LT) 10h30-11h30(TH)
A62: CHIỀU | B62: 6 | C62: 12h45-13h30 | D62: ='TONG HOP'!AG11 -> 0 | E62: ='TONG HOP'!AG22 -> 0 | F62: ='TONG HOP'!AG33 -> 0 | G62: ='TONG HOP'!AG44 -> 0 | H62: ='TONG HOP'!AG55 -> HỌC VĂN HÓA | I62: ='TONG HOP'!AG66 -> 0 | L62: CHIỀU | M62: 6 | N62: 12h45-13h30
B63: 7 | C63: 13h30-14h15 | D63: ='TONG HOP'!AG12 -> 0 | E63: ='TONG HOP'!AG23 -> 0 | F63: ='TONG HOP'!AG34 -> 0 | G63: ='TONG HOP'!AG45 -> 0 | H63: ='TONG HOP'!AG56 -> THEO TKB TTGDTX | I63: ='TONG HOP'!AG67 -> 0 | M63: 7 | N63: 13h30-14h15
B64: 8 | C64: 14h45-15h30 | D64: ='TONG HOP'!AG13 -> 0 | E64: ='TONG HOP'!AG24 -> 0 | F64: ='TONG HOP'!AG35 -> 0 | G64: ='TONG HOP'!AG46 -> 0 | H64: ='TONG HOP'!AG57 -> QUẬN 1 | I64: ='TONG HOP'!AG68 -> 0 | M64: 8 | N64: 14h45-15h30
B65: 9 | C65: 15h30-16h15 | D65: ='TONG HOP'!AG14 -> 0 | E65: ='TONG HOP'!AG25 -> 0 | F65: ='TONG HOP'!AG36 -> 0 | G65: ='TONG HOP'!AG47 -> 0 | H65: ='TONG HOP'!AG58 -> 0 | I65: ='TONG HOP'!AG69 -> 0 | M65: 9 | N65: 15h30-16h15
B66: 10 | C66: 16h15-17h00(LT) 16h15-17h15(TH) | D66: ='TONG HOP'!AG15 -> 0 | E66: ='TONG HOP'!AG26 -> 0 | F66: ='TONG HOP'!AG37 -> 0 | G66: ='TONG HOP'!AG48 -> 0 | H66: ='TONG HOP'!AG59 -> 0 | I66: ='TONG HOP'!AG70 -> 0 | M66: 10 | N66: 16h15-17h00(LT) 16h15-17h15(TH)
A67: =A2 -> ÁP DỤNG TỪ NGÀY 12/10/2026 ĐẾN NGÀY 31/10/2026 | L67: =L2 -> ÁP DỤNG TỪ NGÀY 12/10/2026 ĐẾN NGÀY 31/10/2026
A68: LỚP: | C68: ='TONG HOP'!AI5 -> 0 | E68: GVCN: NGUYỄN MINH QUÂN. SĐT: 0918.093.530 | L68: LỚP:
A69: Buổi | B69: Tiết | C69: Giờ dạy | D69: THỨ HAI | E69: THỨ BA | F69: THỨ TƯ | G69: THỨ NĂM | H69: THỨ SÁU | I69: THỨ BẢY | J69: CHỦ NHẬT | L69: Buổi | M69: Tiết | N69: Giờ dạy | O69: THỨ HAI | P69: THỨ BA | Q69: THỨ TƯ | R69: THỨ NĂM | S69: THỨ SÁU | T69: THỨ BẢY | U69: CHỦ NHẬT
A70: SÁNG | B70: 1 | C70: 7h00-7h45 | D70: ='TONG HOP'!AI6 -> 0 | E70: ='TONG HOP'!AI17 -> 0 | F70: ='TONG HOP'!AI28 -> 0 | G70: ='TONG HOP'!AI39 -> 0 | H70: ='TONG HOP'!AI50 -> 0 | I70: ='TONG HOP'!AI61 -> 0 | L70: SÁNG | M70: 1 | N70: 7h00-7h45
B71: 2 | C71: 7h45-8h30 | D71: ='TONG HOP'!AI7 -> 0 | E71: ='TONG HOP'!AI18 -> 0 | F71: ='TONG HOP'!AI29 -> 0 | G71: ='TONG HOP'!AI40 -> 0 | H71: ='TONG HOP'!AI51 -> 0 | I71: ='TONG HOP'!AI62 -> 0 | M71: 2 | N71: 7h45-8h30
B72: 3 | C72: 9h00-9h45 | D72: ='TONG HOP'!AI8 -> 0 | E72: ='TONG HOP'!AI19 -> 0 | F72: ='TONG HOP'!AI30 -> 0 | G72: ='TONG HOP'!AI41 -> 0 | H72: ='TONG HOP'!AI52 -> 0 | I72: ='TONG HOP'!AI63 -> 0 | M72: 3 | N72: 9h00-9h45
B73: 4 | C73: 9h45-10h30 | D73: ='TONG HOP'!AI9 -> 0 | E73: ='TONG HOP'!AI20 -> 0 | F73: ='TONG HOP'!AI31 -> 0 | G73: ='TONG HOP'!AI42 -> 0 | H73: ='TONG HOP'!AI53 -> 0 | I73: ='TONG HOP'!AI64 -> 0 | M73: 4 | N73: 9h45-10h30
B74: 5 | C74: 10h30-11h15(LT) 10h30-11h30(TH) | D74: ='TONG HOP'!AI10 -> 0 | E74: ='TONG HOP'!AI21 -> 0 | F74: ='TONG HOP'!AI32 -> 0 | G74: ='TONG HOP'!AI43 -> 0 | H74: ='TONG HOP'!AI54 -> 0 | I74: ='TONG HOP'!AI65 -> 0 | M74: 5 | N74: 10h30-11h15(LT) 10h30-11h30(TH)
A75: CHIỀU | B75: 6 | C75: 12h45-13h30 | D75: ='TONG HOP'!AI11 -> 0 | E75: ='TONG HOP'!AI22 -> 0 | F75: ='TONG HOP'!AI33 -> 0 | G75: ='TONG HOP'!AI44 -> 0 | H75: ='TONG HOP'!AI55 -> HỌC VĂN HÓA | I75: ='TONG HOP'!AI66 -> 0 | L75: CHIỀU | M75: 6 | N75: 12h45-13h30
B76: 7 | C76: 13h30-14h15 | D76: ='TONG HOP'!AI12 -> 0 | E76: ='TONG HOP'!AI23 -> 0 | F76: ='TONG HOP'!AI34 -> 0 | G76: ='TONG HOP'!AI45 -> 0 | H76: ='TONG HOP'!AI56 -> THEO TKB TTGDTX | I76: ='TONG HOP'!AI67 -> 0 | M76: 7 | N76: 13h30-14h15
B77: 8 | C77: 14h45-15h30 | D77: ='TONG HOP'!AI13 -> 0 | E77: ='TONG HOP'!AI24 -> 0 | F77: ='TONG HOP'!AI35 -> 0 | G77: ='TONG HOP'!AI46 -> 0 | H77: ='TONG HOP'!AI57 -> QUẬN 1 | I77: ='TONG HOP'!AI68 -> 0 | M77: 8 | N77: 14h45-15h30
B78: 9 | C78: 15h30-16h15 | D78: ='TONG HOP'!AI14 -> 0 | E78: ='TONG HOP'!AI25 -> 0 | F78: ='TONG HOP'!AI36 -> 0 | G78: ='TONG HOP'!AI47 -> 0 | H78: ='TONG HOP'!AI58 -> 0 | I78: ='TONG HOP'!AI69 -> 0 | M78: 9 | N78: 15h30-16h15
B79: 10 | C79: 16h15-17h00(LT) 16h15-17h15(TH) | D79: ='TONG HOP'!AI15 -> 0 | E79: ='TONG HOP'!AI26 -> 0 | F79: ='TONG HOP'!AI37 -> 0 | G79: ='TONG HOP'!AI48 -> 0 | H79: ='TONG HOP'!AI59 -> 0 | I79: ='TONG HOP'!AI70 -> 0 | M79: 10 | N79: 16h15-17h00(LT) 16h15-17h15(TH)
A81: Lưu ý:
A82: Thời gian học: Một giờ dạy thực hành/tích hợp là 60 phút, Một giờ dạy lý thuyết/trực tuyến là 45 phút
B83: Ca sáng: Giờ lý thuyết: Từ 7h00(T1) – 8h30 - ra chơi - 9h00 – 11h15(T5), Giờ thực hành: Từ 7h00(T1) – 8h30 - ra chơi - 9h00 – 11h30 (T4)
B84: Ca chiều: Giờ lý thuyết: Từ 12h45 (T6) – 14h15 - ra chơi - 14h45 – 17h00 (T10), Giờ thực hành: Từ 12h45 (T5) – 14h15 - ra chơi - 14h45 – 17h15 (T8)
B85: Ca tối: Từ 17h45 – 19h15 - ra chơi - 19h30 – 21h00

Sheet Khoa ĐIỆN-ĐIỆN LẠNH
A1: T H Ờ I K H Ó A B I Ể U - K H O A ĐIỆN - ĐIỆN LẠNH
A2: ='Khoa CK OT'!A2:I2 -> ÁP DỤNG TỪ NGÀY 12/10/2026 ĐẾN NGÀY 31/10/2026 | L2: =A2 -> ÁP DỤNG TỪ NGÀY 12/10/2026 ĐẾN NGÀY 31/10/2026
A3: LỚP: | C3: ='TONG HOP'!AJ5 -> C26DC2-N1 | L3: LỚP: | N3: ='TONG HOP'!AK5 -> C26DC2-N2
A4: Buổi | B4: Tiết | C4: Giờ dạy | D4: THỨ HAI | E4: THỨ BA | F4: THỨ TƯ | G4: THỨ NĂM | H4: THỨ SÁU | I4: THỨ BẢY | L4: Buổi | M4: Tiết | N4: Giờ dạy | O4: THỨ HAI | P4: THỨ BA | Q4: THỨ TƯ | R4: THỨ NĂM | S4: THỨ SÁU | T4: THỨ BẢY
A5: SÁNG | B5: 1 | C5: 7h00-7h45 | D5: ='TONG HOP'!AJ6 -> 0 | E5: ='TONG HOP'!AJ17 -> GDCT | F5: ='TONG HOP'!AJ28 -> SD CCDC | G5: ='TONG HOP'!AJ39 -> 0 | H5: ='TONG HOP'!AJ50 -> 0 | I5: ='TONG HOP'!AJ61 -> ĐO LƯỜNG | L5: SÁNG | M5: 1 | N5: 7h00-7h45 | O5: ='TONG HOP'!AK6 -> 0 | P5: ='TONG HOP'!AK17 -> GDCT | Q5: ='TONG HOP'!AK28 -> 0 | R5: ='TONG HOP'!AK39 -> 0 | S5: ='TONG HOP'!AK50 -> 0 | T5: ='TONG HOP'!AK61 -> 0
B6: 2 | C6: 7h45-8h30 | D6: ='TONG HOP'!AJ7 -> 0 | E6: ='TONG HOP'!AJ18 -> THAM QUAN | F6: ='TONG HOP'!AJ29 -> CN ĐIỆN | G6: ='TONG HOP'!AJ40 -> 0 | H6: ='TONG HOP'!AJ51 -> 0 | I6: ='TONG HOP'!AJ62 -> ĐIỆN - ĐIỆN TỬ | M6: 2 | N6: 7h45-8h30 | O6: ='TONG HOP'!AK7 -> 0 | P6: ='TONG HOP'!AK18 -> THAM QUAN | Q6: ='TONG HOP'!AK29 -> 0 | R6: ='TONG HOP'!AK40 -> 0 | S6: ='TONG HOP'!AK51 -> 0 | T6: ='TONG HOP'!AK62 -> 0
B7: 3 | C7: 9h00-9h45 | D7: ='TONG HOP'!AJ8 -> 0 | E7: ='TONG HOP'!AJ19 -> THỰC TẾ | F7: ='TONG HOP'!AJ30 -> 0 | G7: ='TONG HOP'!AJ41 -> 0 | H7: ='TONG HOP'!AJ52 -> 0 | I7: ='TONG HOP'!AJ63 -> 0 | M7: 3 | N7: 9h00-9h45 | O7: ='TONG HOP'!AK8 -> 0 | P7: ='TONG HOP'!AK19 -> THỰC TẾ | Q7: ='TONG HOP'!AK30 -> 0 | R7: ='TONG HOP'!AK41 -> 0 | S7: ='TONG HOP'!AK52 -> 0 | T7: ='TONG HOP'!AK63 -> 0
B8: 4 | C8: 9h45-10h30 | D8: ='TONG HOP'!AJ9 -> 0 | E8: ='TONG HOP'!AJ20 -> 0 | F8: ='TONG HOP'!AJ31 -> B203 | G8: ='TONG HOP'!AJ42 -> 0 | H8: ='TONG HOP'!AJ53 -> 0 | I8: ='TONG HOP'!AJ64 -> B212 | M8: 4 | N8: 9h45-10h30 | O8: ='TONG HOP'!AK9 -> 0 | P8: ='TONG HOP'!AK20 -> 0 | Q8: ='TONG HOP'!AK31 -> 0 | R8: ='TONG HOP'!AK42 -> 0 | S8: ='TONG HOP'!AK53 -> 0 | T8: ='TONG HOP'!AK64 -> 0
B9: 5 | C9: 10h30-11h15(LT) 10h30-11h30(TH) | D9: ='TONG HOP'!AJ10 -> 0 | E9: ='TONG HOP'!AJ21 -> C.NGUYÊN | F9: ='TONG HOP'!AJ32 -> T.LƯU | G9: ='TONG HOP'!AJ43 -> 0 | H9: ='TONG HOP'!AJ54 -> 0 | I9: ='TONG HOP'!AJ65 -> T.HÙNG | M9: 5 | N9: 10h30-11h15(LT) 10h30-11h30(TH) | O9: ='TONG HOP'!AK10 -> 0 | P9: ='TONG HOP'!AK21 -> C.NGUYÊN | Q9: ='TONG HOP'!AK32 -> 0 | R9: ='TONG HOP'!AK43 -> 0 | S9: ='TONG HOP'!AK54 -> 0 | T9: ='TONG HOP'!AK65 -> 0
A10: CHIỀU | B10: 6 | C10: 12h45-13h30 | D10: ='TONG HOP'!AJ11 -> 0 | E10: ='TONG HOP'!AJ22 -> TIẾNG ANH 1 | F10: ='TONG HOP'!AJ33 -> KT ĐIỆN | G10: ='TONG HOP'!AJ44 -> GDTC | H10: ='TONG HOP'!AJ55 -> 0 | I10: ='TONG HOP'!AJ66 -> ĐO LƯỜNG | L10: CHIỀU | M10: 6 | N10: 12h45-13h30 | O10: ='TONG HOP'!AK11 -> 0 | P10: ='TONG HOP'!AK22 -> TIẾNG ANH 1 | Q10: ='TONG HOP'!AK33 -> KT ĐIỆN | R10: ='TONG HOP'!AK44 -> GDTC | S10: ='TONG HOP'!AK55 -> SD CCDC | T10: ='TONG HOP'!AK66 -> 0
B11: 7 | C11: 13h30-14h15 | D11: ='TONG HOP'!AJ12 -> 0 | E11: ='TONG HOP'!AJ23 -> 0 | F11: ='TONG HOP'!AJ34 -> 0 | G11: ='TONG HOP'!AJ45 -> 0 | H11: ='TONG HOP'!AJ56 -> 0 | I11: ='TONG HOP'!AJ67 -> ĐIỆN - ĐIỆN TỬ | M11: 7 | N11: 13h30-14h15 | O11: ='TONG HOP'!AK12 -> 0 | P11: ='TONG HOP'!AK23 -> 0 | Q11: ='TONG HOP'!AK34 -> 0 | R11: ='TONG HOP'!AK45 -> 0 | S11: ='TONG HOP'!AK56 -> CN ĐIỆN | T11: ='TONG HOP'!AK67 -> 0
B12: 8 | C12: 14h45-15h30 | D12: ='TONG HOP'!AJ13 -> 0 | E12: ='TONG HOP'!AJ24 -> 0 | F12: ='TONG HOP'!AJ35 -> 0 | G12: ='TONG HOP'!AJ46 -> 0 | H12: ='TONG HOP'!AJ57 -> 0 | I12: ='TONG HOP'!AJ68 -> 0 | M12: 8 | N12: 14h45-15h30 | O12: ='TONG HOP'!AK13 -> 0 | P12: ='TONG HOP'!AK24 -> 0 | Q12: ='TONG HOP'!AK35 -> 0 | R12: ='TONG HOP'!AK46 -> 0 | S12: ='TONG HOP'!AK57 -> 0 | T12: ='TONG HOP'!AK68 -> 0
B13: 9 | C13: 15h30-16h15 | D13: ='TONG HOP'!AJ14 -> 0 | E13: ='TONG HOP'!AJ25 -> A017 | F13: ='TONG HOP'!AJ36 -> A015 | G13: ='TONG HOP'!AJ47 -> NHÀ THI ĐẤU | H13: ='TONG HOP'!AJ58 -> 0 | I13: ='TONG HOP'!AJ69 -> B212 | M13: 9 | N13: 15h30-16h15 | O13: ='TONG HOP'!AK14 -> 0 | P13: ='TONG HOP'!AK25 -> A017 | Q13: ='TONG HOP'!AK36 -> A015 | R13: ='TONG HOP'!AK47 -> NHÀ THI ĐẤU | S13: ='TONG HOP'!AK58 -> B203 | T13: ='TONG HOP'!AK69 -> 0
B14: 10 | C14: 16h15-17h00(LT) 16h15-17h15(TH) | D14: ='TONG HOP'!AJ15 -> 0 | E14: ='TONG HOP'!AJ26 -> C.PHƯƠNG | F14: ='TONG HOP'!AJ37 -> T.CÔNG | G14: ='TONG HOP'!AJ48 -> T.THANH | H14: ='TONG HOP'!AJ59 -> 0 | I14: ='TONG HOP'!AJ70 -> T.HÙNG | M14: 10 | N14: 16h15-17h00(LT) 16h15-17h15(TH) | O14: ='TONG HOP'!AK15 -> 0 | P14: ='TONG HOP'!AK26 -> C.PHƯƠNG | Q14: ='TONG HOP'!AK37 -> T.CÔNG | R14: ='TONG HOP'!AK48 -> T.THANH | S14: ='TONG HOP'!AK59 -> T.CHƯƠNG | T14: ='TONG HOP'!AK70 -> 0
A15: =L2 -> ÁP DỤNG TỪ NGÀY 12/10/2026 ĐẾN NGÀY 31/10/2026 | L15: =A2 -> ÁP DỤNG TỪ NGÀY 12/10/2026 ĐẾN NGÀY 31/10/2026
A16: LỚP: | C16: ='TONG HOP'!AL5 -> C26TĐH2 | L16: LỚP: | N16: ='TONG HOP'!AM5 -> T26DC2
A17: Buổi | B17: Tiết | C17: Giờ dạy | D17: THỨ HAI | E17: THỨ BA | F17: THỨ TƯ | G17: THỨ NĂM | H17: THỨ SÁU | I17: THỨ BẢY | L17: Buổi | M17: Tiết | N17: Giờ dạy | O17: THỨ HAI | P17: THỨ BA | Q17: THỨ TƯ | R17: THỨ NĂM | S17: THỨ SÁU | T17: THỨ BẢY
A18: SÁNG | B18: 1 | C18: 7h00-7h45 | D18: ='TONG HOP'!AL6 -> 0 | E18: ='TONG HOP'!AL17 -> GDCT | F18: ='TONG HOP'!AL28 -> KT AN TOÀN | G18: ='TONG HOP'!AL39 -> 0 | H18: ='TONG HOP'!AL50 -> 0 | I18: ='TONG HOP'!AL61 -> 0 | L18: SÁNG | M18: 1 | N18: 7h00-7h45 | O18: ='TONG HOP'!AM6 -> KT AN TOÀN | P18: ='TONG HOP'!AM17 -> PHÁP LUẬT | Q18: ='TONG HOP'!AM28 -> CUNG CẤP ĐIỆN | R18: ='TONG HOP'!AM39 -> TIẾNG ANH 1 | S18: ='TONG HOP'!AM50 -> KT ĐIỆN | T18: ='TONG HOP'!AM61 -> TIN HỌC
B19: 2 | C19: 7h45-8h30 | D19: ='TONG HOP'!AL7 -> 0 | E19: ='TONG HOP'!AL18 -> THAM QUAN | F19: ='TONG HOP'!AL29 -> VÀ BH LĐ | G19: ='TONG HOP'!AL40 -> 0 | H19: ='TONG HOP'!AL51 -> 0 | I19: ='TONG HOP'!AL62 -> 0 | M19: 2 | N19: 7h45-8h30 | O19: ='TONG HOP'!AM7 -> VÀ BHLĐ | P19: ='TONG HOP'!AM18 -> 0 | Q19: ='TONG HOP'!AM29 -> 0 | R19: ='TONG HOP'!AM40 -> 0 | S19: ='TONG HOP'!AM51 -> 0 | T19: ='TONG HOP'!AM62 -> 0
B20: 3 | C20: 9h00-9h45 | D20: ='TONG HOP'!AL8 -> 0 | E20: ='TONG HOP'!AL19 -> THỰC TẾ | F20: ='TONG HOP'!AL30 -> 0 | G20: ='TONG HOP'!AL41 -> 0 | H20: ='TONG HOP'!AL52 -> 0 | I20: ='TONG HOP'!AL63 -> 0 | M20: 3 | N20: 9h00-9h45 | O20: ='TONG HOP'!AM8 -> 0 | P20: ='TONG HOP'!AM19 -> 0 | Q20: ='TONG HOP'!AM30 -> 0 | R20: ='TONG HOP'!AM41 -> 0 | S20: ='TONG HOP'!AM52 -> 0 | T20: ='TONG HOP'!AM63 -> 0
B21: 4 | C21: 9h45-10h30 | D21: ='TONG HOP'!AL9 -> 0 | E21: ='TONG HOP'!AL20 -> 0 | F21: ='TONG HOP'!AL31 -> A112 | G21: ='TONG HOP'!AL42 -> 0 | H21: ='TONG HOP'!AL53 -> 0 | I21: ='TONG HOP'!AL64 -> 0 | M21: 4 | N21: 9h45-10h30 | O21: ='TONG HOP'!AM9 -> A112 | P21: ='TONG HOP'!AM20 -> A111 | Q21: ='TONG HOP'!AM31 -> A113 | R21: ='TONG HOP'!AM42 -> A018 | S21: ='TONG HOP'!AM53 -> A111 | T21: ='TONG HOP'!AM64 -> B204
B22: 5 | C22: 10h30-11h15(LT) 10h30-11h30(TH) | D22: ='TONG HOP'!AL10 -> 0 | E22: ='TONG HOP'!AL21 -> C.NGUYÊN | F22: ='TONG HOP'!AL32 -> T.CHƯƠNG | G22: ='TONG HOP'!AL43 -> 0 | H22: ='TONG HOP'!AL54 -> 0 | I22: ='TONG HOP'!AL65 -> 0 | M22: 5 | N22: 10h30-11h15(LT) 10h30-11h30(TH) | O22: ='TONG HOP'!AM10 -> T.LƯU | P22: ='TONG HOP'!AM21 -> C.HỒNG | Q22: ='TONG HOP'!AM32 -> T.V.TUẤN | R22: ='TONG HOP'!AM43 -> T.CÔNG HOÀNG | S22: ='TONG HOP'!AM54 -> T.V.HÙNG | T22: ='TONG HOP'!AM65 -> T.HIẾU
A23: CHIỀU | B23: 6 | C23: 12h45-13h30 | D23: ='TONG HOP'!AL11 -> SD CÔNG CỤ | E23: ='TONG HOP'!AL22 -> TIẾNG ANH 1 | F23: ='TONG HOP'!AL33 -> SD CÔNG CỤ | G23: ='TONG HOP'!AL44 -> GDTC | H23: ='TONG HOP'!AL55 -> 0 | I23: ='TONG HOP'!AL66 -> 0 | L23: CHIỀU | M23: 6 | N23: 12h45-13h30 | O23: ='TONG HOP'!AM11 -> HỌC VĂN HÓA | P23: ='TONG HOP'!AM22 -> HỌC VĂN HÓA | Q23: ='TONG HOP'!AM33 -> HỌC VĂN HÓA | R23: ='TONG HOP'!AM44 -> HỌC VĂN HÓA | S23: ='TONG HOP'!AM55 -> HỌC VĂN HÓA | T23: ='TONG HOP'!AM66 -> TIN HỌC
B24: 7 | C24: 13h30-14h15 | D24: ='TONG HOP'!AL12 -> DỤNG CỤ | E24: ='TONG HOP'!AL23 -> 0 | F24: ='TONG HOP'!AL34 -> DỤNG CỤ | G24: ='TONG HOP'!AL45 -> 0 | H24: ='TONG HOP'!AL56 -> 0 | I24: ='TONG HOP'!AL67 -> 0 | M24: 7 | N24: 13h30-14h15 | O24: ='TONG HOP'!AM12 -> THEO TKB TTGDTX | P24: ='TONG HOP'!AM23 -> THEO TKB TTGDTX | Q24: ='TONG HOP'!AM34 -> THEO TKB TTGDTX | R24: ='TONG HOP'!AM45 -> THEO TKB TTGDTX | S24: ='TONG HOP'!AM56 -> THEO TKB TTGDTX | T24: ='TONG HOP'!AM67 -> 0
B25: 8 | C25: 14h45-15h30 | D25: ='TONG HOP'!AL13 -> 0 | E25: ='TONG HOP'!AL24 -> 0 | F25: ='TONG HOP'!AL35 -> 0 | G25: ='TONG HOP'!AL46 -> 0 | H25: ='TONG HOP'!AL57 -> 0 | I25: ='TONG HOP'!AL68 -> 0 | M25: 8 | N25: 14h45-15h30 | O25: ='TONG HOP'!AM13 -> QUẬN 1 | P25: ='TONG HOP'!AM24 -> QUẬN 1 | Q25: ='TONG HOP'!AM35 -> QUẬN 1 | R25: ='TONG HOP'!AM46 -> QUẬN 1 | S25: ='TONG HOP'!AM57 -> QUẬN 1 | T25: ='TONG HOP'!AM68 -> 0
B26: 9 | C26: 15h30-16h15 | D26: ='TONG HOP'!AL14 -> B203 | E26: ='TONG HOP'!AL25 -> A017 | F26: ='TONG HOP'!AL36 -> B203 | G26: ='TONG HOP'!AL47 -> NHÀ THI ĐẤU | H26: ='TONG HOP'!AL58 -> 0 | I26: ='TONG HOP'!AL69 -> 0 | M26: 9 | N26: 15h30-16h15 | O26: ='TONG HOP'!AM14 -> 0 | P26: ='TONG HOP'!AM25 -> 0 | Q26: ='TONG HOP'!AM36 -> 0 | R26: ='TONG HOP'!AM47 -> 0 | S26: ='TONG HOP'!AM58 -> 0 | T26: ='TONG HOP'!AM69 -> B204
B27: 10 | C27: 16h15-17h00(LT) 16h15-17h15(TH) | D27: ='TONG HOP'!AL15 -> T.CHƯƠNG | E27: ='TONG HOP'!AL26 -> C.PHƯƠNG | F27: ='TONG HOP'!AL37 -> T.CHƯƠNG | G27: ='TONG HOP'!AL48 -> T.THANH | H27: ='TONG HOP'!AL59 -> 0 | I27: ='TONG HOP'!AL70 -> 0 | M27: 10 | N27: 16h15-17h00(LT) 16h15-17h15(TH) | O27: ='TONG HOP'!AM15 -> 0 | P27: ='TONG HOP'!AM26 -> 0 | Q27: ='TONG HOP'!AM37 -> 0 | R27: ='TONG HOP'!AM48 -> 0 | S27: ='TONG HOP'!AM59 -> 0 | T27: ='TONG HOP'!AM70 -> T.HIẾU
A28: =L15 -> ÁP DỤNG TỪ NGÀY 12/10/2026 ĐẾN NGÀY 31/10/2026 | L28: =A15 -> ÁP DỤNG TỪ NGÀY 12/10/2026 ĐẾN NGÀY 31/10/2026
A29: LỚP: | C29: ='TONG HOP'!AN5 -> T26KTML2-N1 | L29: LỚP: | N29: ='TONG HOP'!AO5 -> T26KTML2-N2
A30: Buổi | B30: Tiết | C30: Giờ dạy | D30: THỨ HAI | E30: THỨ BA | F30: THỨ TƯ | G30: THỨ NĂM | H30: THỨ SÁU | I30: THỨ BẢY | L30: Buổi | M30: Tiết | N30: Giờ dạy | O30: THỨ HAI | P30: THỨ BA | Q30: THỨ TƯ | R30: THỨ NĂM | S30: THỨ SÁU | T30: THỨ BẢY
A31: SÁNG | B31: 1 | C31: 7h00-7h45 | D31: ='TONG HOP'!AN6 -> KT ĐIỆN- | E31: ='TONG HOP'!AN17 -> PHÁP LUẬT | F31: ='TONG HOP'!AN28 -> TIN HỌC | G31: ='TONG HOP'!AN39 -> TIẾNG ANH 1 | H31: ='TONG HOP'!AN50 -> CS KT NHIỆT | I31: ='TONG HOP'!AN61 -> THỰC TẬP | L31: SÁNG | M31: 1 | N31: 7h00-7h45 | O31: ='TONG HOP'!AO6 -> KT ĐIỆN- | P31: ='TONG HOP'!AO17 -> PHÁP LUẬT | Q31: ='TONG HOP'!AO28 -> TIN HỌC | R31: ='TONG HOP'!AO39 -> TIẾNG ANH 1 | S31: ='TONG HOP'!AO50 -> CS KT NHIỆT | T31: ='TONG HOP'!AO61 -> 0
B32: 2 | C32: 7h45-8h30 | D32: ='TONG HOP'!AN7 -> ĐIỆN TỬ | E32: ='TONG HOP'!AN18 -> 0 | F32: ='TONG HOP'!AN29 -> 0 | G32: ='TONG HOP'!AN40 -> 0 | H32: ='TONG HOP'!AN51 -> LẠNH VÀ KK | I32: ='TONG HOP'!AN62 -> GÒ HÀN | M32: 2 | N32: 7h45-8h30 | O32: ='TONG HOP'!AO7 -> ĐIỆN TỬ | P32: ='TONG HOP'!AO18 -> 0 | Q32: ='TONG HOP'!AO29 -> 0 | R32: ='TONG HOP'!AO40 -> 0 | S32: ='TONG HOP'!AO51 -> LẠNH VÀ KK | T32: ='TONG HOP'!AO62 -> 0
B33: 3 | C33: 9h00-9h45 | D33: ='TONG HOP'!AN8 -> 0 | E33: ='TONG HOP'!AN19 -> 0 | F33: ='TONG HOP'!AN30 -> 0 | G33: ='TONG HOP'!AN41 -> 0 | H33: ='TONG HOP'!AN52 -> 0 | I33: ='TONG HOP'!AN63 -> 0 | M33: 3 | N33: 9h00-9h45 | O33: ='TONG HOP'!AO8 -> 0 | P33: ='TONG HOP'!AO19 -> 0 | Q33: ='TONG HOP'!AO30 -> 0 | R33: ='TONG HOP'!AO41 -> 0 | S33: ='TONG HOP'!AO52 -> 0 | T33: ='TONG HOP'!AO63 -> 0
B34: 4 | C34: 9h45-10h30 | D34: ='TONG HOP'!AN9 -> A307 | E34: ='TONG HOP'!AN20 -> A111 | F34: ='TONG HOP'!AN31 -> B204 | G34: ='TONG HOP'!AN42 -> A018 | H34: ='TONG HOP'!AN53 -> A308 | I34: ='TONG HOP'!AN64 -> C007 | M34: 4 | N34: 9h45-10h30 | O34: ='TONG HOP'!AO9 -> A307 | P34: ='TONG HOP'!AO20 -> A111 | Q34: ='TONG HOP'!AO31 -> B204 | R34: ='TONG HOP'!AO42 -> A018 | S34: ='TONG HOP'!AO53 -> A308 | T34: ='TONG HOP'!AO64 -> 0
B35: 5 | C35: 10h30-11h15(LT) 10h30-11h30(TH) | D35: ='TONG HOP'!AN10 -> T.CÔNG | E35: ='TONG HOP'!AN21 -> C.HỒNG | F35: ='TONG HOP'!AN32 -> T.HIẾU | G35: ='TONG HOP'!AN43 -> T.CÔNG HOÀNG | H35: ='TONG HOP'!AN54 -> T.QUANG | I35: ='TONG HOP'!AN65 -> T.TRƯƠNG | M35: 5 | N35: 10h30-11h15(LT) 10h30-11h30(TH) | O35: ='TONG HOP'!AO10 -> T.CÔNG | P35: ='TONG HOP'!AO21 -> C.HỒNG | Q35: ='TONG HOP'!AO32 -> T.HIẾU | R35: ='TONG HOP'!AO43 -> T.CÔNG HOÀNG | S35: ='TONG HOP'!AO54 -> T.QUANG | T35: ='TONG HOP'!AO65 -> 0
A36: CHIỀU | B36: 6 | C36: 12h45-13h30 | D36: ='TONG HOP'!AN11 -> HỌC VĂN HÓA | E36: ='TONG HOP'!AN22 -> HỌC VĂN HÓA | F36: ='TONG HOP'!AN33 -> HỌC VĂN HÓA | G36: ='TONG HOP'!AN44 -> HỌC VĂN HÓA | H36: ='TONG HOP'!AN55 -> HỌC VĂN HÓA | I36: ='TONG HOP'!AN66 -> 0 | L36: CHIỀU | M36: 6 | N36: 12h45-13h30 | O36: ='TONG HOP'!AO11 -> HỌC VĂN HÓA | P36: ='TONG HOP'!AO22 -> HỌC VĂN HÓA | Q36: ='TONG HOP'!AO33 -> HỌC VĂN HÓA | R36: ='TONG HOP'!AO44 -> HỌC VĂN HÓA | S36: ='TONG HOP'!AO55 -> HỌC VĂN HÓA | T36: ='TONG HOP'!AO66 -> THỰC TẬP
B37: 7 | C37: 13h30-14h15 | D37: ='TONG HOP'!AN12 -> THEO TKB TTGDTX | E37: ='TONG HOP'!AN23 -> THEO TKB TTGDTX | F37: ='TONG HOP'!AN34 -> THEO TKB TTGDTX | G37: ='TONG HOP'!AN45 -> THEO TKB TTGDTX | H37: ='TONG HOP'!AN56 -> THEO TKB TTGDTX | I37: ='TONG HOP'!AN67 -> 0 | M37: 7 | N37: 13h30-14h15 | O37: ='TONG HOP'!AO12 -> THEO TKB TTGDTX | P37: ='TONG HOP'!AO23 -> THEO TKB TTGDTX | Q37: ='TONG HOP'!AO34 -> THEO TKB TTGDTX | R37: ='TONG HOP'!AO45 -> THEO TKB TTGDTX | S37: ='TONG HOP'!AO56 -> THEO TKB TTGDTX | T37: ='TONG HOP'!AO67 -> GÒ HÀN
B38: 8 | C38: 14h45-15h30 | D38: ='TONG HOP'!AN13 -> QUẬN 1 | E38: ='TONG HOP'!AN24 -> QUẬN 1 | F38: ='TONG HOP'!AN35 -> QUẬN 1 | G38: ='TONG HOP'!AN46 -> QUẬN 1 | H38: ='TONG HOP'!AN57 -> QUẬN 1 | I38: ='TONG HOP'!AN68 -> 0 | M38: 8 | N38: 14h45-15h30 | O38: ='TONG HOP'!AO13 -> QUẬN 1 | P38: ='TONG HOP'!AO24 -> QUẬN 1 | Q38: ='TONG HOP'!AO35 -> QUẬN 1 | R38: ='TONG HOP'!AO46 -> QUẬN 1 | S38: ='TONG HOP'!AO57 -> QUẬN 1 | T38: ='TONG HOP'!AO68 -> 0
B39: 9 | C39: 15h30-16h15 | D39: ='TONG HOP'!AN14 -> 0 | E39: ='TONG HOP'!AN25 -> 0 | F39: ='TONG HOP'!AN36 -> 0 | G39: ='TONG HOP'!AN47 -> 0 | H39: ='TONG HOP'!AN58 -> 0 | I39: ='TONG HOP'!AN69 -> 0 | M39: 9 | N39: 15h30-16h15 | O39: ='TONG HOP'!AO14 -> 0 | P39: ='TONG HOP'!AO25 -> 0 | Q39: ='TONG HOP'!AO36 -> 0 | R39: ='TONG HOP'!AO47 -> 0 | S39: ='TONG HOP'!AO58 -> 0 | T39: ='TONG HOP'!AO69 -> C007
B40: 10 | C40: 16h15-17h00(LT) 16h15-17h15(TH) | D40: ='TONG HOP'!AN15 -> 0 | E40: ='TONG HOP'!AN26 -> 0 | F40: ='TONG HOP'!AN37 -> 0 | G40: ='TONG HOP'!AN48 -> 0 | H40: ='TONG HOP'!AN59 -> 0 | I40: ='TONG HOP'!AN70 -> 0 | M40: 10 | N40: 16h15-17h00(LT) 16h15-17h15(TH) | O40: ='TONG HOP'!AO15 -> 0 | P40: ='TONG HOP'!AO26 -> 0 | Q40: ='TONG HOP'!AO37 -> 0 | R40: ='TONG HOP'!AO48 -> 0 | S40: ='TONG HOP'!AO59 -> 0 | T40: ='TONG HOP'!AO70 -> T.TRƯƠNG
A41: =L28 -> ÁP DỤNG TỪ NGÀY 12/10/2026 ĐẾN NGÀY 31/10/2026 | L41: =A28 -> ÁP DỤNG TỪ NGÀY 12/10/2026 ĐẾN NGÀY 31/10/2026
A42: LỚP: | C42: ='TONG HOP'!AP5 -> 0 | L42: LỚP: | N42: ='TONG HOP'!AQ5 -> 0
A43: Buổi | B43: Tiết | C43: Giờ dạy | D43: THỨ HAI | E43: THỨ BA | F43: THỨ TƯ | G43: THỨ NĂM | H43: THỨ SÁU | I43: THỨ BẢY | L43: Buổi | M43: Tiết | N43: Giờ dạy | O43: THỨ HAI | P43: THỨ BA | Q43: THỨ TƯ | R43: THỨ NĂM | S43: THỨ SÁU | T43: THỨ BẢY
A44: SÁNG | B44: 1 | C44: 7h00-7h45 | D44: ='TONG HOP'!AP6 -> 0 | E44: ='TONG HOP'!AP17 -> 0 | F44: ='TONG HOP'!AP28 -> 0 | G44: ='TONG HOP'!AP39 -> 0 | H44: ='TONG HOP'!AP50 -> 0 | I44: ='TONG HOP'!AP61 -> 0 | L44: SÁNG | M44: 1 | N44: 7h00-7h45 | O44: ='TONG HOP'!AQ6 -> 0 | P44: ='TONG HOP'!AQ17 -> 0 | Q44: ='TONG HOP'!AQ28 -> 0 | R44: ='TONG HOP'!AQ39 -> 0 | S44: ='TONG HOP'!AQ50 -> 0 | T44: ='TONG HOP'!AQ61 -> 0
B45: 2 | C45: 7h45-8h30 | D45: ='TONG HOP'!AP7 -> 0 | E45: ='TONG HOP'!AP18 -> 0 | F45: ='TONG HOP'!AP29 -> 0 | G45: ='TONG HOP'!AP40 -> 0 | H45: ='TONG HOP'!AP51 -> 0 | I45: ='TONG HOP'!AP62 -> 0 | M45: 2 | N45: 7h45-8h30 | O45: ='TONG HOP'!AQ7 -> 0 | P45: ='TONG HOP'!AQ18 -> 0 | Q45: ='TONG HOP'!AQ29 -> 0 | R45: ='TONG HOP'!AQ40 -> 0 | S45: ='TONG HOP'!AQ51 -> 0 | T45: ='TONG HOP'!AQ62 -> 0
B46: 3 | C46: 9h00-9h45 | D46: ='TONG HOP'!AP8 -> 0 | E46: ='TONG HOP'!AP19 -> 0 | F46: ='TONG HOP'!AP30 -> 0 | G46: ='TONG HOP'!AP41 -> 0 | H46: ='TONG HOP'!AP52 -> 0 | I46: ='TONG HOP'!AP63 -> 0 | M46: 3 | N46: 9h00-9h45 | O46: ='TONG HOP'!AQ8 -> 0 | P46: ='TONG HOP'!AQ19 -> 0 | Q46: ='TONG HOP'!AQ30 -> 0 | R46: ='TONG HOP'!AQ41 -> 0 | S46: ='TONG HOP'!AQ52 -> 0 | T46: ='TONG HOP'!AQ63 -> 0
B47: 4 | C47: 9h45-10h30 | D47: ='TONG HOP'!AP9 -> 0 | E47: ='TONG HOP'!AP20 -> 0 | F47: ='TONG HOP'!AP31 -> 0 | G47: ='TONG HOP'!AP42 -> 0 | H47: ='TONG HOP'!AP53 -> 0 | I47: ='TONG HOP'!AP64 -> 0 | M47: 4 | N47: 9h45-10h30 | O47: ='TONG HOP'!AQ9 -> 0 | P47: ='TONG HOP'!AQ20 -> 0 | Q47: ='TONG HOP'!AQ31 -> 0 | R47: ='TONG HOP'!AQ42 -> 0 | S47: ='TONG HOP'!AQ53 -> 0 | T47: ='TONG HOP'!AQ64 -> 0
B48: 5 | C48: 10h30-11h15(LT) 10h30-11h30(TH) | D48: ='TONG HOP'!AP10 -> 0 | E48: ='TONG HOP'!AP21 -> 0 | F48: ='TONG HOP'!AP32 -> 0 | G48: ='TONG HOP'!AP43 -> 0 | H48: ='TONG HOP'!AP54 -> 0 | I48: ='TONG HOP'!AP65 -> 0 | M48: 5 | N48: 10h30-11h15(LT) 10h30-11h30(TH) | O48: ='TONG HOP'!AQ10 -> 0 | P48: ='TONG HOP'!AQ21 -> 0 | Q48: ='TONG HOP'!AQ32 -> 0 | R48: ='TONG HOP'!AQ43 -> 0 | S48: ='TONG HOP'!AQ54 -> 0 | T48: ='TONG HOP'!AQ65 -> 0
A49: CHIỀU | B49: 6 | C49: 12h45-13h30 | D49: ='TONG HOP'!AP11 -> 0 | E49: ='TONG HOP'!AP22 -> 0 | F49: ='TONG HOP'!AP33 -> 0 | G49: ='TONG HOP'!AP44 -> 0 | H49: ='TONG HOP'!AP55 -> 0 | I49: ='TONG HOP'!AP66 -> 0 | L49: CHIỀU | M49: 6 | N49: 12h45-13h30 | O49: ='TONG HOP'!AQ11 -> 0 | P49: ='TONG HOP'!AQ22 -> 0 | Q49: ='TONG HOP'!AQ33 -> 0 | R49: ='TONG HOP'!AQ44 -> 0 | S49: ='TONG HOP'!AQ55 -> 0 | T49: ='TONG HOP'!AQ66 -> 0
B50: 7 | C50: 13h30-14h15 | D50: ='TONG HOP'!AP12 -> 0 | E50: ='TONG HOP'!AP23 -> 0 | F50: ='TONG HOP'!AP34 -> 0 | G50: ='TONG HOP'!AP45 -> 0 | H50: ='TONG HOP'!AP56 -> 0 | I50: ='TONG HOP'!AP67 -> 0 | M50: 7 | N50: 13h30-14h15 | O50: ='TONG HOP'!AQ12 -> 0 | P50: ='TONG HOP'!AQ23 -> 0 | Q50: ='TONG HOP'!AQ34 -> 0 | R50: ='TONG HOP'!AQ45 -> 0 | S50: ='TONG HOP'!AQ56 -> 0 | T50: ='TONG HOP'!AQ67 -> 0
B51: 8 | C51: 14h45-15h30 | D51: ='TONG HOP'!AP13 -> 0 | E51: ='TONG HOP'!AP24 -> 0 | F51: ='TONG HOP'!AP35 -> 0 | G51: ='TONG HOP'!AP46 -> 0 | H51: ='TONG HOP'!AP57 -> 0 | I51: ='TONG HOP'!AP68 -> 0 | M51: 8 | N51: 14h45-15h30 | O51: ='TONG HOP'!AQ13 -> 0 | P51: ='TONG HOP'!AQ24 -> 0 | Q51: ='TONG HOP'!AQ35 -> 0 | R51: ='TONG HOP'!AQ46 -> 0 | S51: ='TONG HOP'!AQ57 -> 0 | T51: ='TONG HOP'!AQ68 -> 0
B52: 9 | C52: 15h30-16h15 | D52: ='TONG HOP'!AP14 -> 0 | E52: ='TONG HOP'!AP25 -> 0 | F52: ='TONG HOP'!AP36 -> 0 | G52: ='TONG HOP'!AP47 -> 0 | H52: ='TONG HOP'!AP58 -> 0 | I52: ='TONG HOP'!AP69 -> 0 | M52: 9 | N52: 15h30-16h15 | O52: ='TONG HOP'!AQ14 -> 0 | P52: ='TONG HOP'!AQ25 -> 0 | Q52: ='TONG HOP'!AQ36 -> 0 | R52: ='TONG HOP'!AQ47 -> 0 | S52: ='TONG HOP'!AQ58 -> 0 | T52: ='TONG HOP'!AQ69 -> 0
B53: 10 | C53: 16h15-17h00(LT) 16h15-17h15(TH) | D53: ='TONG HOP'!AP15 -> 0 | E53: ='TONG HOP'!AP26 -> 0 | F53: ='TONG HOP'!AP37 -> 0 | G53: ='TONG HOP'!AP48 -> 0 | H53: ='TONG HOP'!AP59 -> 0 | I53: ='TONG HOP'!AP70 -> 0 | M53: 10 | N53: 16h15-17h00(LT) 16h15-17h15(TH) | O53: ='TONG HOP'!AQ15 -> 0 | P53: ='TONG HOP'!AQ26 -> 0 | Q53: ='TONG HOP'!AQ37 -> 0 | R53: ='TONG HOP'!AQ48 -> 0 | S53: ='TONG HOP'!AQ59 -> 0 | T53: ='TONG HOP'!AQ70 -> 0
A54: =L15 -> ÁP DỤNG TỪ NGÀY 12/10/2026 ĐẾN NGÀY 31/10/2026 | L54: =A15 -> ÁP DỤNG TỪ NGÀY 12/10/2026 ĐẾN NGÀY 31/10/2026
A55: LỚP: | C55: ='TONG HOP'!AR5 -> 0 | E55: GVCN: TRẦN CÔNG HOÀNG. SĐT: 0972.802.252 | L55: LỚP:
A56: Buổi | B56: Tiết | C56: Giờ dạy | D56: THỨ HAI | E56: THỨ BA | F56: THỨ TƯ | G56: THỨ NĂM | H56: THỨ SÁU | I56: THỨ BẢY | L56: Buổi | M56: Tiết | N56: Giờ dạy | O56: THỨ HAI | P56: THỨ BA | Q56: THỨ TƯ | R56: THỨ NĂM | S56: THỨ SÁU | T56: THỨ BẢY
A57: SÁNG | B57: 1 | C57: 7h00-7h45 | D57: ='TONG HOP'!AR6 -> 0 | E57: ='TONG HOP'!AR17 -> 0 | F57: ='TONG HOP'!AR28 -> 0 | G57: ='TONG HOP'!AR39 -> 0 | H57: ='TONG HOP'!AR50 -> 0 | I57: ='TONG HOP'!AR61 -> 0 | L57: SÁNG | M57: 1 | N57: 7h00-7h45
B58: 2 | C58: 7h45-8h30 | D58: ='TONG HOP'!AR7 -> 0 | E58: ='TONG HOP'!AR18 -> 0 | F58: ='TONG HOP'!AR29 -> 0 | G58: ='TONG HOP'!AR40 -> 0 | H58: ='TONG HOP'!AR51 -> 0 | I58: ='TONG HOP'!AR62 -> 0 | M58: 2 | N58: 7h45-8h30
B59: 3 | C59: 9h00-9h45 | D59: ='TONG HOP'!AR8 -> 0 | E59: ='TONG HOP'!AR19 -> 0 | F59: ='TONG HOP'!AR30 -> 0 | G59: ='TONG HOP'!AR41 -> 0 | H59: ='TONG HOP'!AR52 -> 0 | I59: ='TONG HOP'!AR63 -> 0 | M59: 3 | N59: 9h00-9h45
B60: 4 | C60: 9h45-10h30 | D60: ='TONG HOP'!AR9 -> 0 | E60: ='TONG HOP'!AR20 -> 0 | F60: ='TONG HOP'!AR31 -> 0 | G60: ='TONG HOP'!AR42 -> 0 | H60: ='TONG HOP'!AR53 -> 0 | I60: ='TONG HOP'!AR64 -> 0 | M60: 4 | N60: 9h45-10h30
B61: 5 | C61: 10h30-11h15(LT) 10h30-11h30(TH) | D61: ='TONG HOP'!AR10 -> 0 | E61: ='TONG HOP'!AR21 -> 0 | F61: ='TONG HOP'!AR32 -> 0 | G61: ='TONG HOP'!AR43 -> 0 | H61: ='TONG HOP'!AR54 -> 0 | I61: ='TONG HOP'!AR65 -> 0 | M61: 5 | N61: 10h30-11h15(LT) 10h30-11h30(TH)
A62: CHIỀU | B62: 6 | C62: 12h45-13h30 | D62: ='TONG HOP'!AR11 -> 0 | E62: ='TONG HOP'!AR22 -> 0 | F62: ='TONG HOP'!AR33 -> 0 | G62: ='TONG HOP'!AR44 -> 0 | H62: ='TONG HOP'!AR55 -> 0 | I62: ='TONG HOP'!AR66 -> 0 | L62: CHIỀU | M62: 6 | N62: 12h45-13h30
B63: 7 | C63: 13h30-14h15 | D63: ='TONG HOP'!AR12 -> 0 | E63: ='TONG HOP'!AR23 -> 0 | F63: ='TONG HOP'!AR34 -> 0 | G63: ='TONG HOP'!AR45 -> 0 | H63: ='TONG HOP'!AR56 -> 0 | I63: ='TONG HOP'!AR67 -> 0 | M63: 7 | N63: 13h30-14h15
B64: 8 | C64: 14h45-15h30 | D64: ='TONG HOP'!AR13 -> 0 | E64: ='TONG HOP'!AR24 -> 0 | F64: ='TONG HOP'!AR35 -> 0 | G64: ='TONG HOP'!AR46 -> 0 | H64: ='TONG HOP'!AR57 -> 0 | I64: ='TONG HOP'!AR68 -> 0 | M64: 8 | N64: 14h45-15h30
B65: 9 | C65: 15h30-16h15 | D65: ='TONG HOP'!AR14 -> 0 | E65: ='TONG HOP'!AR25 -> 0 | F65: ='TONG HOP'!AR36 -> 0 | G65: ='TONG HOP'!AR47 -> 0 | H65: ='TONG HOP'!AR58 -> 0 | I65: ='TONG HOP'!AR69 -> 0 | M65: 9 | N65: 15h30-16h15
B66: 10 | C66: 16h15-17h00(LT) 16h15-17h15(TH) | D66: ='TONG HOP'!AR15 -> 0 | E66: ='TONG HOP'!AR26 -> 0 | F66: ='TONG HOP'!AR37 -> 0 | G66: ='TONG HOP'!AR48 -> 0 | H66: ='TONG HOP'!AR59 -> 0 | I66: ='TONG HOP'!AR70 -> 0 | M66: 10 | N66: 16h15-17h00(LT) 16h15-17h15(TH)
A67: =L54 -> ÁP DỤNG TỪ NGÀY 12/10/2026 ĐẾN NGÀY 31/10/2026
A68: LỚP: | C68: ='TONG HOP'!AS5 -> C24KTML-LT | E68: GVCN: DƯƠNG VĂN TUẤN. SĐT: 0904.594.220
A69: Buổi | B69: Tiết | C69: Giờ dạy | D69: THỨ HAI | E69: THỨ BA | F69: THỨ TƯ | G69: THỨ NĂM | H69: THỨ SÁU | I69: THỨ BẢY | J69: CHỦ NHẬT
A70: SÁNG | B70: 1 | C70: 7h00-7h45
B71: 2 | C71: 7h45-8h30
B72: 3 | C72: 9h00-9h45
B73: 4 | C73: 9h45-10h30
B74: 5 | C74: 10h30-11h15(LT) 10h30-11h30(TH)
A75: CHIỀU | B75: 6 | C75: 12h45-13h30
B76: 7 | C76: 13h30-14h15
B77: 8 | C77: 14h45-15h30
B78: 9 | C78: 15h30-16h15
B79: 10 | C79: 16h15-17h00(LT) 16h15-17h15(TH)
A80: TỐI | B80: 11 | C80: 17h45-18h30 | D80: ='TONG HOP'!AS11 -> 0 | E80: ='TONG HOP'!AS22 -> 0 | F80: ='TONG HOP'!AS33 -> 0 | G80: ='TONG HOP'!AS44 -> 0 | H80: ='TONG HOP'!AS55 -> 0 | I80: ='TONG HOP'!AS66 -> 0
B81: 12 | C81: 18h30-19h15 | D81: ='TONG HOP'!AS12 -> 0 | E81: ='TONG HOP'!AS23 -> 0 | F81: ='TONG HOP'!AS34 -> 0 | G81: ='TONG HOP'!AS45 -> 0 | H81: ='TONG HOP'!AS56 -> 0 | I81: ='TONG HOP'!AS67 -> 0
B82: 13 | C82: 19h30-20h15 | D82: ='TONG HOP'!AS14 -> 0 | E82: ='TONG HOP'!AS25 -> 0 | F82: ='TONG HOP'!AS36 -> 0 | G82: ='TONG HOP'!AS47 -> 0 | H82: ='TONG HOP'!AS58 -> 0 | I82: ='TONG HOP'!AS69 -> 0
B83: 14 | C83: 20h15-21h00 | D83: ='TONG HOP'!AS15 -> 0 | E83: ='TONG HOP'!AS26 -> 0 | F83: ='TONG HOP'!AS37 -> 0 | G83: ='TONG HOP'!AS48 -> 0 | H83: ='TONG HOP'!AS59 -> 0 | I83: ='TONG HOP'!AS70 -> 0
A85: Thời gian học: Một giờ dạy thực hành/tích hợp là 60 phút, Một giờ dạy lý thuyết/trực tuyến là 45 phút
B86: Ca sáng: Giờ lý thuyết: Từ 7h00(T1) – 8h30 - ra chơi - 9h00 – 11h15(T5), Giờ thực hành: Từ 7h00(T1) – 8h30 - ra chơi - 9h00 – 11h30 (T4)
B87: Ca chiều: Giờ lý thuyết: Từ 12h45 (T6) – 14h15 - ra chơi - 14h45 – 17h00 (T10), Giờ thực hành: Từ 12h45 (T5) – 14h15 - ra chơi - 14h45 – 17h15 (T8)
B88: Ca tối: Từ 17h45 – 19h15 - ra chơi - 19h30 – 21h00

Sheet KHOA Kinh tế
A1: T H Ờ I K H Ó A B I Ể U - K H O A KINH TẾ
A2: ='Khoa CK OT'!A2:I2 -> ÁP DỤNG TỪ NGÀY 12/10/2026 ĐẾN NGÀY 31/10/2026 | K2: =A2 -> ÁP DỤNG TỪ NGÀY 12/10/2026 ĐẾN NGÀY 31/10/2026
A3: LỚP: | C3: ='TONG HOP'!BD5 -> C26KT2 | K3: LỚP: | M3: ='TONG HOP'!BE5 -> C26QTKD2
A4: Buổi | B4: Tiết | C4: Giờ dạy | D4: THỨ HAI | E4: THỨ BA | F4: THỨ TƯ | G4: THỨ NĂM | H4: THỨ SÁU | I4: THỨ BẢY | K4: Buổi | L4: Tiết | M4: Giờ dạy | N4: THỨ HAI | O4: THỨ BA | P4: THỨ TƯ | Q4: THỨ NĂM | R4: THỨ SÁU | S4: THỨ BẢY
A5: SÁNG | B5: 1 | C5: 7h00-7h45 | D5: ='TONG HOP'!BD6 -> 0 | E5: ='TONG HOP'!BD17 -> GDTC | F5: ='TONG HOP'!BD28 -> 0 | G5: ='TONG HOP'!BD39 -> GDCT | H5: ='TONG HOP'!BD50 -> 0 | I5: ='TONG HOP'!BD61 -> 0 | K5: SÁNG | L5: 1 | M5: 7h00-7h45 | N5: ='TONG HOP'!BE6 -> 0 | O5: ='TONG HOP'!BE17 -> GDTC | P5: ='TONG HOP'!BE28 -> 0 | Q5: ='TONG HOP'!BE39 -> GDCT | R5: ='TONG HOP'!BE50 -> KỸ NĂNG MỀM | S5: ='TONG HOP'!BE61 -> 0
B6: 2 | C6: 7h45-8h30 | D6: ='TONG HOP'!BD7 -> 0 | E6: ='TONG HOP'!BD18 -> 0 | F6: ='TONG HOP'!BD29 -> 0 | G6: ='TONG HOP'!BD40 -> 0 | H6: ='TONG HOP'!BD51 -> 0 | I6: ='TONG HOP'!BD62 -> 0 | L6: 2 | M6: 7h45-8h30 | N6: ='TONG HOP'!BE7 -> 0 | O6: ='TONG HOP'!BE18 -> 0 | P6: ='TONG HOP'!BE29 -> 0 | Q6: ='TONG HOP'!BE40 -> 0 | R6: ='TONG HOP'!BE51 -> 0 | S6: ='TONG HOP'!BE62 -> 0
B7: 3 | C7: 9h00-9h45 | D7: ='TONG HOP'!BD8 -> 0 | E7: ='TONG HOP'!BD19 -> 0 | F7: ='TONG HOP'!BD30 -> 0 | G7: ='TONG HOP'!BD41 -> 0 | H7: ='TONG HOP'!BD52 -> 0 | I7: ='TONG HOP'!BD63 -> 0 | L7: 3 | M7: 9h00-9h45 | N7: ='TONG HOP'!BE8 -> 0 | O7: ='TONG HOP'!BE19 -> 0 | P7: ='TONG HOP'!BE30 -> 0 | Q7: ='TONG HOP'!BE41 -> 0 | R7: ='TONG HOP'!BE52 -> 0 | S7: ='TONG HOP'!BE63 -> 0
B8: 4 | C8: 9h45-10h30 | D8: ='TONG HOP'!BD9 -> 0 | E8: ='TONG HOP'!BD20 -> NHÀ THI ĐẤU | F8: ='TONG HOP'!BD31 -> 0 | G8: ='TONG HOP'!BD42 -> A110 | H8: ='TONG HOP'!BD53 -> 0 | I8: ='TONG HOP'!BD64 -> 0 | L8: 4 | M8: 9h45-10h30 | N8: ='TONG HOP'!BE9 -> 0 | O8: ='TONG HOP'!BE20 -> NHÀ THI ĐẤU | P8: ='TONG HOP'!BE31 -> 0 | Q8: ='TONG HOP'!BE42 -> A110 | R8: ='TONG HOP'!BE53 -> A203 | S8: ='TONG HOP'!BE64 -> 0
B9: 5 | C9: 10h30-11h15(LT) 10h30-11h30(TH) | D9: ='TONG HOP'!BD10 -> 0 | E9: ='TONG HOP'!BD21 -> T.THANH | F9: ='TONG HOP'!BD32 -> 0 | G9: ='TONG HOP'!BD43 -> C.THỦY | H9: ='TONG HOP'!BD54 -> 0 | I9: ='TONG HOP'!BD65 -> 0 | L9: 5 | M9: 10h30-11h15(LT) 10h30-11h30(TH) | N9: ='TONG HOP'!BE10 -> 0 | O9: ='TONG HOP'!BE21 -> T.THANH | P9: ='TONG HOP'!BE32 -> 0 | Q9: ='TONG HOP'!BE43 -> C.THỦY | R9: ='TONG HOP'!BE54 -> T.DUY | S9: ='TONG HOP'!BE65 -> 0
A10: CHIỀU | B10: 6 | C10: 12h45-13h30 | D10: ='TONG HOP'!BD11 -> 0 | E10: ='TONG HOP'!BD22 -> TIẾNG ANH 1 | F10: ='TONG HOP'!BD33 -> 0 | G10: ='TONG HOP'!BD44 -> 0 | H10: ='TONG HOP'!BD55 -> 0 | I10: ='TONG HOP'!BD66 -> 0 | K10: CHIỀU | L10: 6 | M10: 12h45-13h30 | N10: ='TONG HOP'!BE11 -> MARKETING CB | O10: ='TONG HOP'!BE22 -> TIẾNG ANH 1 | P10: ='TONG HOP'!BE33 -> 0 | Q10: ='TONG HOP'!BE44 -> KỸ NĂNG MỀM | R10: ='TONG HOP'!BE55 -> KINH TẾ VI MÔ | S10: ='TONG HOP'!BE66 -> 0
B11: 7 | C11: 13h30-14h15 | D11: ='TONG HOP'!BD12 -> 0 | E11: ='TONG HOP'!BD23 -> 0 | F11: ='TONG HOP'!BD34 -> 0 | G11: ='TONG HOP'!BD45 -> 0 | H11: ='TONG HOP'!BD56 -> 0 | I11: ='TONG HOP'!BD67 -> 0 | L11: 7 | M11: 13h30-14h15 | N11: ='TONG HOP'!BE12 -> 0 | O11: ='TONG HOP'!BE23 -> 0 | P11: ='TONG HOP'!BE34 -> 0 | Q11: ='TONG HOP'!BE45 -> 0 | R11: ='TONG HOP'!BE56 -> 0 | S11: ='TONG HOP'!BE67 -> 0
B12: 8 | C12: 14h45-15h30 | D12: ='TONG HOP'!BD13 -> 0 | E12: ='TONG HOP'!BD24 -> 0 | F12: ='TONG HOP'!BD35 -> 0 | G12: ='TONG HOP'!BD46 -> 0 | H12: ='TONG HOP'!BD57 -> 0 | I12: ='TONG HOP'!BD68 -> 0 | L12: 8 | M12: 14h45-15h30 | N12: ='TONG HOP'!BE13 -> AD TỪ 18/10 | O12: ='TONG HOP'!BE24 -> 0 | P12: ='TONG HOP'!BE35 -> 0 | Q12: ='TONG HOP'!BE46 -> 0 | R12: ='TONG HOP'!BE57 -> 0 | S12: ='TONG HOP'!BE68 -> 0
B13: 9 | C13: 15h30-16h15 | D13: ='TONG HOP'!BD14 -> 0 | E13: ='TONG HOP'!BD25 -> A018 | F13: ='TONG HOP'!BD36 -> 0 | G13: ='TONG HOP'!BD47 -> 0 | H13: ='TONG HOP'!BD58 -> 0 | I13: ='TONG HOP'!BD69 -> 0 | L13: 9 | M13: 15h30-16h15 | N13: ='TONG HOP'!BE14 -> A307 | O13: ='TONG HOP'!BE25 -> A018 | P13: ='TONG HOP'!BE36 -> 0 | Q13: ='TONG HOP'!BE47 -> A203 | R13: ='TONG HOP'!BE58 -> A017 | S13: ='TONG HOP'!BE69 -> 0
B14: 10 | C14: 16h15-17h00(LT) 16h15-17h15(TH) | D14: ='TONG HOP'!BD15 -> 0 | E14: ='TONG HOP'!BD26 -> C.DIỆU | F14: ='TONG HOP'!BD37 -> 0 | G14: ='TONG HOP'!BD48 -> 0 | H14: ='TONG HOP'!BD59 -> 0 | I14: ='TONG HOP'!BD70 -> 0 | L14: 10 | M14: 16h15-17h00(LT) 16h15-17h15(TH) | N14: ='TONG HOP'!BE15 -> C.NGUYỆT | O14: ='TONG HOP'!BE26 -> C.DIỆU | P14: ='TONG HOP'!BE37 -> 0 | Q14: ='TONG HOP'!BE48 -> T.DUY | R14: ='TONG HOP'!BE59 -> C.KHUYÊN | S14: ='TONG HOP'!BE70 -> 0
A15: ='Khoa CK OT'!A15:I15 -> ÁP DỤNG TỪ NGÀY 12/10/2026 ĐẾN NGÀY 31/10/2026 | K15: =A15 -> ÁP DỤNG TỪ NGÀY 12/10/2026 ĐẾN NGÀY 31/10/2026
A16: LỚP: | C16: ='TONG HOP'!BF5 -> T26KT2 | K16: LỚP: | M16: ='TONG HOP'!BG5 -> 0
A17: Buổi | B17: Tiết | C17: Giờ dạy | D17: THỨ HAI | E17: THỨ BA | F17: THỨ TƯ | G17: THỨ NĂM | H17: THỨ SÁU | I17: THỨ BẢY | K17: Buổi | L17: Tiết | M17: Giờ dạy | N17: THỨ HAI | O17: THỨ BA | P17: THỨ TƯ | Q17: THỨ NĂM | R17: THỨ SÁU | S17: THỨ BẢY
A18: SÁNG | B18: 1 | C18: 7h00-7h45 | D18: ='TONG HOP'!BF6 -> MARKETING | E18: ='TONG HOP'!BF17 -> KỸ NĂNG | F18: ='TONG HOP'!BF28 -> NGUYÊN LÝ | G18: ='TONG HOP'!BF39 -> TIẾNG ANH 1 | H18: ='TONG HOP'!BF50 -> NGUYÊN LÝ | I18: ='TONG HOP'!BF61 -> 0 | K18: SÁNG | L18: 1 | M18: 7h00-7h45 | N18: ='TONG HOP'!BG6 -> 0 | O18: ='TONG HOP'!BG17 -> 0 | P18: ='TONG HOP'!BG28 -> 0 | Q18: ='TONG HOP'!BG39 -> 0 | R18: ='TONG HOP'!BG50 -> 0 | S18: ='TONG HOP'!BG61 -> 0
B19: 2 | C19: 7h45-8h30 | D19: ='TONG HOP'!BF7 -> CƠ BẢN | E19: ='TONG HOP'!BF18 -> THIẾT YẾU | F19: ='TONG HOP'!BF29 -> THỐNG KÊ | G19: ='TONG HOP'!BF40 -> 0 | H19: ='TONG HOP'!BF51 -> KẾ TOÁN | I19: ='TONG HOP'!BF62 -> 0 | L19: 2 | M19: 7h45-8h30 | N19: ='TONG HOP'!BG7 -> 0 | O19: ='TONG HOP'!BG18 -> 0 | P19: ='TONG HOP'!BG29 -> 0 | Q19: ='TONG HOP'!BG40 -> 0 | R19: ='TONG HOP'!BG51 -> 0 | S19: ='TONG HOP'!BG62 -> 0
B20: 3 | C20: 9h00-9h45 | D20: ='TONG HOP'!BF8 -> 0 | E20: ='TONG HOP'!BF19 -> 0 | F20: ='TONG HOP'!BF30 -> 0 | G20: ='TONG HOP'!BF41 -> 0 | H20: ='TONG HOP'!BF52 -> 0 | I20: ='TONG HOP'!BF63 -> 0 | L20: 3 | M20: 9h00-9h45 | N20: ='TONG HOP'!BG8 -> 0 | O20: ='TONG HOP'!BG19 -> 0 | P20: ='TONG HOP'!BG30 -> 0 | Q20: ='TONG HOP'!BG41 -> 0 | R20: ='TONG HOP'!BG52 -> 0 | S20: ='TONG HOP'!BG63 -> 0
B21: 4 | C21: 9h45-10h30 | D21: ='TONG HOP'!BF9 -> A018 | E21: ='TONG HOP'!BF20 -> A112 | F21: ='TONG HOP'!BF31 -> A110 | G21: ='TONG HOP'!BF42 -> A112 | H21: ='TONG HOP'!BF53 -> A110 | I21: ='TONG HOP'!BF64 -> 0 | L21: 4 | M21: 9h45-10h30 | N21: ='TONG HOP'!BG9 -> 0 | O21: ='TONG HOP'!BG20 -> 0 | P21: ='TONG HOP'!BG31 -> 0 | Q21: ='TONG HOP'!BG42 -> 0 | R21: ='TONG HOP'!BG53 -> 0 | S21: ='TONG HOP'!BG64 -> 0
B22: 5 | C22: 10h30-11h15(LT) 10h30-11h30(TH) | D22: ='TONG HOP'!BF10 -> C.NGUYỆT | E22: ='TONG HOP'!BF21 -> C.CHIÊU LINH | F22: ='TONG HOP'!BF32 -> C.PHƯƠNG | G22: ='TONG HOP'!BF43 -> C.DIỆU | H22: ='TONG HOP'!BF54 -> C.D.TRANG | I22: ='TONG HOP'!BF65 -> 0 | L22: 5 | M22: 10h30-11h15(LT) 10h30-11h30(TH) | N22: ='TONG HOP'!BG10 -> 0 | O22: ='TONG HOP'!BG21 -> 0 | P22: ='TONG HOP'!BG32 -> 0 | Q22: ='TONG HOP'!BG43 -> 0 | R22: ='TONG HOP'!BG54 -> 0 | S22: ='TONG HOP'!BG65 -> 0
A23: CHIỀU | B23: 6 | C23: 12h45-13h30 | D23: ='TONG HOP'!BF11 -> HỌC VĂN HÓA | E23: ='TONG HOP'!BF22 -> HỌC VĂN HÓA | F23: ='TONG HOP'!BF33 -> HỌC VĂN HÓA | G23: ='TONG HOP'!BF44 -> HỌC VĂN HÓA | H23: ='TONG HOP'!BF55 -> HỌC VĂN HÓA | I23: ='TONG HOP'!BF66 -> 0 | K23: CHIỀU | L23: 6 | M23: 12h45-13h30 | N23: ='TONG HOP'!BG11 -> 0 | O23: ='TONG HOP'!BG22 -> 0 | P23: ='TONG HOP'!BG33 -> 0 | Q23: ='TONG HOP'!BG44 -> 0 | R23: ='TONG HOP'!BG55 -> 0 | S23: ='TONG HOP'!BG66 -> 0
B24: 7 | C24: 13h30-14h15 | D24: ='TONG HOP'!BF12 -> THEO TKB TTGDTX | E24: ='TONG HOP'!BF23 -> THEO TKB TTGDTX | F24: ='TONG HOP'!BF34 -> THEO TKB TTGDTX | G24: ='TONG HOP'!BF45 -> THEO TKB TTGDTX | H24: ='TONG HOP'!BF56 -> THEO TKB TTGDTX | I24: ='TONG HOP'!BF67 -> 0 | L24: 7 | M24: 13h30-14h15 | N24: ='TONG HOP'!BG12 -> 0 | O24: ='TONG HOP'!BG23 -> 0 | P24: ='TONG HOP'!BG34 -> 0 | Q24: ='TONG HOP'!BG45 -> 0 | R24: ='TONG HOP'!BG56 -> 0 | S24: ='TONG HOP'!BG67 -> 0
B25: 8 | C25: 14h45-15h30 | D25: ='TONG HOP'!BF13 -> QUẬN 1 | E25: ='TONG HOP'!BF24 -> QUẬN 1 | F25: ='TONG HOP'!BF35 -> QUẬN 1 | G25: ='TONG HOP'!BF46 -> QUẬN 1 | H25: ='TONG HOP'!BF57 -> QUẬN 1 | I25: ='TONG HOP'!BF68 -> 0 | L25: 8 | M25: 14h45-15h30 | N25: ='TONG HOP'!BG13 -> 0 | O25: ='TONG HOP'!BG24 -> 0 | P25: ='TONG HOP'!BG35 -> 0 | Q25: ='TONG HOP'!BG46 -> 0 | R25: ='TONG HOP'!BG57 -> 0 | S25: ='TONG HOP'!BG68 -> 0
B26: 9 | C26: 15h30-16h15 | D26: ='TONG HOP'!BF14 -> 0 | E26: ='TONG HOP'!BF25 -> 0 | F26: ='TONG HOP'!BF36 -> 0 | G26: ='TONG HOP'!BF47 -> 0 | H26: ='TONG HOP'!BF58 -> 0 | I26: ='TONG HOP'!BF69 -> 0 | L26: 9 | M26: 15h30-16h15 | N26: ='TONG HOP'!BG14 -> 0 | O26: ='TONG HOP'!BG25 -> 0 | P26: ='TONG HOP'!BG36 -> 0 | Q26: ='TONG HOP'!BG47 -> 0 | R26: ='TONG HOP'!BG58 -> 0 | S26: ='TONG HOP'!BG69 -> 0
B27: 10 | C27: 16h15-17h00(LT) 16h15-17h15(TH) | D27: ='TONG HOP'!BF15 -> 0 | E27: ='TONG HOP'!BF26 -> 0 | F27: ='TONG HOP'!BF37 -> 0 | G27: ='TONG HOP'!BF48 -> 0 | H27: ='TONG HOP'!BF59 -> 0 | I27: ='TONG HOP'!BF70 -> 0 | L27: 10 | M27: 16h15-17h00(LT) 16h15-17h15(TH) | N27: ='TONG HOP'!BG15 -> 0 | O27: ='TONG HOP'!BG26 -> 0 | P27: ='TONG HOP'!BG37 -> 0 | Q27: ='TONG HOP'!BG48 -> 0 | R27: ='TONG HOP'!BG59 -> 0 | S27: ='TONG HOP'!BG70 -> 0
A28: Lưu ý:
A29: Thời gian học: Một giờ dạy thực hành/tích hợp là 60 phút, Một giờ dạy lý thuyết/trực tuyến là 45 phút
B30: Ca sáng: Giờ lý thuyết: Từ 7h00(T1) – 8h30 - ra chơi - 9h00 – 11h15(T5), Giờ thực hành: Từ 7h00(T1) – 8h30 - ra chơi - 9h00 – 11h30 (T4)
B31: Ca chiều: Giờ lý thuyết: Từ 12h45 (T6) – 14h15 - ra chơi - 14h45 – 17h00 (T10), Giờ thực hành: Từ 12h45 (T5) – 14h15 - ra chơi - 14h45 – 17h15 (T8)
B32: Ca tối: Từ 17h45 – 19h15 - ra chơi - 19h30 – 21h00

Sheet Khoa CN TP
A1: T H Ờ I K H Ó A B I Ể U - K H O A C Ô N G N G H Ệ T H Ự C P H Ẩ M
A2: ='Khoa CK OT'!A2:I2 -> ÁP DỤNG TỪ NGÀY 12/10/2026 ĐẾN NGÀY 31/10/2026 | K2: =A2 -> ÁP DỤNG TỪ NGÀY 12/10/2026 ĐẾN NGÀY 31/10/2026
A3: LỚP: | C3: ='TONG HOP'!AT5 -> C26TP1 | K3: LỚP: | M3: ='TONG HOP'!AU5 -> T26TP1
A4: Buổi | B4: Tiết | C4: Giờ dạy | D4: THỨ HAI | E4: THỨ BA | F4: THỨ TƯ | G4: THỨ NĂM | H4: THỨ SÁU | I4: THỨ BẢY | K4: Buổi | L4: Tiết | M4: Giờ dạy | N4: THỨ HAI | O4: THỨ BA | P4: THỨ TƯ | Q4: THỨ NĂM | R4: THỨ SÁU | S4: THỨ BẢY
A5: SÁNG | B5: 1 | C5: 7h00-7h45 | D5: ='TONG HOP'!AT6 -> 0 | E5: ='TONG HOP'!AT17 -> GDTC | F5: ='TONG HOP'!AT28 -> VI SINH TP | G5: ='TONG HOP'!AT39 -> GDCT | H5: ='TONG HOP'!AT50 -> TN HÓA SINH | I5: ='TONG HOP'!AT61 -> THÍ NGHIỆM | K5: SÁNG | L5: 1 | M5: 7h00-7h45 | N5: ='TONG HOP'!AU6 -> TN HÓA SINH | O5: ='TONG HOP'!AU17 -> KỸ NĂNG | P5: ='TONG HOP'!AU28 -> KT PHÒNG | Q5: ='TONG HOP'!AU39 -> TIẾNG ANH 1 | R5: ='TONG HOP'!AU50 -> VI SINH TP | S5: ='TONG HOP'!AU61 -> AN TOÀN
B6: 2 | C6: 7h45-8h30 | D6: ='TONG HOP'!AT7 -> 0 | E6: ='TONG HOP'!AT18 -> 0 | F6: ='TONG HOP'!AT29 -> 0 | G6: ='TONG HOP'!AT40 -> 0 | H6: ='TONG HOP'!AT51 -> TP | I6: ='TONG HOP'!AT62 -> HÓA SINH | L6: 2 | M6: 7h45-8h30 | N6: ='TONG HOP'!AU7 -> TP | O6: ='TONG HOP'!AU18 -> THIẾT YẾU | P6: ='TONG HOP'!AU29 -> THÍ NGHIỆM | Q6: ='TONG HOP'!AU40 -> 0 | R6: ='TONG HOP'!AU51 -> 0 | S6: ='TONG HOP'!AU62 -> LAO ĐỘNG
B7: 3 | C7: 9h00-9h45 | D7: ='TONG HOP'!AT8 -> 0 | E7: ='TONG HOP'!AT19 -> 0 | F7: ='TONG HOP'!AT30 -> 0 | G7: ='TONG HOP'!AT41 -> 0 | H7: ='TONG HOP'!AT52 -> 0 | I7: ='TONG HOP'!AT63 -> 0 | L7: 3 | M7: 9h00-9h45 | N7: ='TONG HOP'!AU8 -> 0 | O7: ='TONG HOP'!AU19 -> 0 | P7: ='TONG HOP'!AU30 -> 0 | Q7: ='TONG HOP'!AU41 -> 0 | R7: ='TONG HOP'!AU52 -> 0 | S7: ='TONG HOP'!AU63 -> 0
B8: 4 | C8: 9h45-10h30 | D8: ='TONG HOP'!AT9 -> 0 | E8: ='TONG HOP'!AT20 -> NHÀ THI ĐẤU | F8: ='TONG HOP'!AT31 -> A111 | G8: ='TONG HOP'!AT42 -> A110 | H8: ='TONG HOP'!AT53 -> C102 | I8: ='TONG HOP'!AT64 -> C102 | L8: 4 | M8: 9h45-10h30 | N8: ='TONG HOP'!AU9 -> C102 | O8: ='TONG HOP'!AU20 -> A112 | P8: ='TONG HOP'!AU31 -> C102 | Q8: ='TONG HOP'!AU42 -> A112 | R8: ='TONG HOP'!AU53 -> A113 | S8: ='TONG HOP'!AU64 -> A018
B9: 5 | C9: 10h30-11h15(LT) 10h30-11h30(TH) | D9: ='TONG HOP'!AT10 -> 0 | E9: ='TONG HOP'!AT21 -> T.THANH | F9: ='TONG HOP'!AT32 -> C.QUỲNH ANH | G9: ='TONG HOP'!AT43 -> C.THỦY | H9: ='TONG HOP'!AT54 -> C.DIỆP | I9: ='TONG HOP'!AT65 -> C.DIỆP | L9: 5 | M9: 10h30-11h15(LT) 10h30-11h30(TH) | N9: ='TONG HOP'!AU10 -> C.DIỆP | O9: ='TONG HOP'!AU21 -> C.CHIÊU LINH | P9: ='TONG HOP'!AU32 -> C.DIỆP | Q9: ='TONG HOP'!AU43 -> C.DIỆU | R9: ='TONG HOP'!AU54 -> C.QUỲNH ANH | S9: ='TONG HOP'!AU65 -> C.THOA
A10: TỐI | B10: 11 | C10: 12h45-13h30 | D10: ='TONG HOP'!AT11 -> KỸ THUẬT | E10: ='TONG HOP'!AT22 -> TIẾNG ANH 1 | F10: ='TONG HOP'!AT33 -> KỸ THUẬT | G10: ='TONG HOP'!AT44 -> 0 | H10: ='TONG HOP'!AT55 -> 0 | I10: ='TONG HOP'!AT66 -> 0 | K10: CHIỀU | L10: 6 | M10: 12h45-13h30 | N10: ='TONG HOP'!AU11 -> HỌC VĂN HÓA | O10: ='TONG HOP'!AU22 -> HỌC VĂN HÓA | P10: ='TONG HOP'!AU33 -> HỌC VĂN HÓA | Q10: ='TONG HOP'!AU44 -> HỌC VĂN HÓA | R10: ='TONG HOP'!AU55 -> HỌC VĂN HÓA | S10: ='TONG HOP'!AU66 -> TN HÓA SINH
B11: 12 | C11: 13h30-14h15 | D11: ='TONG HOP'!AT12 -> PHÒNG TN | E11: ='TONG HOP'!AT23 -> 0 | F11: ='TONG HOP'!AT34 -> PHÒNG TN | G11: ='TONG HOP'!AT45 -> 0 | H11: ='TONG HOP'!AT56 -> 0 | I11: ='TONG HOP'!AT67 -> 0 | L11: 7 | M11: 13h30-14h15 | N11: ='TONG HOP'!AU12 -> THEO TKB TTGDTX | O11: ='TONG HOP'!AU23 -> THEO TKB TTGDTX | P11: ='TONG HOP'!AU34 -> THEO TKB TTGDTX | Q11: ='TONG HOP'!AU45 -> THEO TKB TTGDTX | R11: ='TONG HOP'!AU56 -> THEO TKB TTGDTX | S11: ='TONG HOP'!AU67 -> TP
B12: 13 | C12: 14h45-15h30 | D12: ='TONG HOP'!AT13 -> 0 | E12: ='TONG HOP'!AT24 -> 0 | F12: ='TONG HOP'!AT35 -> 0 | H12: ='TONG HOP'!AT57 -> 0 | I12: ='TONG HOP'!AT68 -> 0 | L12: 8 | M12: 14h45-15h30 | N12: ='TONG HOP'!AU13 -> QUẬN 1 | O12: ='TONG HOP'!AU24 -> QUẬN 1 | P12: ='TONG HOP'!AU35 -> QUẬN 1 | Q12: ='TONG HOP'!AU46 -> QUẬN 1 | R12: ='TONG HOP'!AU57 -> QUẬN 1 | S12: ='TONG HOP'!AU68 -> 0
B13: 14 | C13: 15h30-16h15 | D13: ='TONG HOP'!AT14 -> C102 | E13: ='TONG HOP'!AT25 -> A018 | F13: ='TONG HOP'!AT36 -> C102 | G13: ='TONG HOP'!AT47 -> 0 | H13: ='TONG HOP'!AT58 -> 0 | I13: ='TONG HOP'!AT69 -> 0 | L13: 9 | M13: 15h30-16h15 | N13: ='TONG HOP'!AU14 -> 0 | O13: ='TONG HOP'!AU25 -> 0 | P13: ='TONG HOP'!AU36 -> 0 | Q13: ='TONG HOP'!AU47 -> 0 | R13: ='TONG HOP'!AU58 -> 0 | S13: ='TONG HOP'!AU69 -> C102
C14: 16h15-17h00(LT) 16h15-17h15(TH) | D14: ='TONG HOP'!AT15 -> C.DIỆP | E14: ='TONG HOP'!AT26 -> C.DIỆU | F14: ='TONG HOP'!AT37 -> C.DIỆP | G14: ='TONG HOP'!AT48 -> 0 | H14: ='TONG HOP'!AT59 -> 0 | I14: ='TONG HOP'!AT70 -> 0 | L14: 10 | M14: 16h15-17h00(LT) 16h15-17h15(TH) | N14: ='TONG HOP'!AU15 -> 0 | O14: ='TONG HOP'!AU26 -> 0 | P14: ='TONG HOP'!AU37 -> 0 | Q14: ='TONG HOP'!AU48 -> 0 | R14: ='TONG HOP'!AU59 -> 0 | S14: ='TONG HOP'!AU70 -> C.DIỆP
A15: =A2 -> ÁP DỤNG TỪ NGÀY 12/10/2026 ĐẾN NGÀY 31/10/2026 | K15: =K2 -> ÁP DỤNG TỪ NGÀY 12/10/2026 ĐẾN NGÀY 31/10/2026
A16: LỚP: | C16: ='TONG HOP'!AV5 -> C26TP-LT | K16: LỚP:
A17: Buổi | B17: Tiết | C17: Giờ dạy | D17: THỨ HAI | E17: THỨ BA | F17: THỨ TƯ | G17: THỨ NĂM | H17: THỨ SÁU | I17: THỨ BẢY | K17: Buổi | L17: Tiết | M17: Giờ dạy | N17: THỨ HAI | O17: THỨ BA | P17: THỨ TƯ | Q17: THỨ NĂM | R17: THỨ SÁU | S17: THỨ BẢY
A18: SÁNG | B18: 1 | C18: 7h00-7h45 | D18: ='TONG HOP'!AV6 -> BQ CB THỊT | E18: ='TONG HOP'!AV17 -> THÍ NGHIỆM | F18: ='TONG HOP'!AV28 -> 0 | G18: ='TONG HOP'!AV39 -> THÍ NGHIỆM | H18: ='TONG HOP'!AV50 -> 0 | I18: ='TONG HOP'!AV61 -> GDCT | K18: SÁNG | L18: 1 | M18: 7h00-7h45 | N18: ='TONG HOP'!AZ6 -> 0 | O18: ='TONG HOP'!AZ17 -> 0 | P18: ='TONG HOP'!AZ28 -> 0 | Q18: ='TONG HOP'!AZ39 -> 0 | R18: ='TONG HOP'!AZ50 -> 0 | S18: ='TONG HOP'!AZ61 -> 0
B19: 2 | C19: 7h45-8h30 | D19: ='TONG HOP'!AV7 -> VÀ THỦY SẢN | E19: ='TONG HOP'!AV18 -> VI SINH TP | F19: ='TONG HOP'!AV29 -> 0 | G19: ='TONG HOP'!AV40 -> HÓA SINH TP | H19: ='TONG HOP'!AV51 -> 0 | I19: ='TONG HOP'!AV62 -> 0 | L19: 2 | M19: 7h45-8h30 | N19: ='TONG HOP'!AZ7 -> 0 | O19: ='TONG HOP'!AZ18 -> 0 | P19: ='TONG HOP'!AY29 -> 0 | Q19: ='TONG HOP'!AZ40 -> 0 | R19: ='TONG HOP'!AZ51 -> 0 | S19: ='TONG HOP'!AZ62 -> 0
B20: 3 | C20: 9h00-9h45 | D20: ='TONG HOP'!AV8 -> 0 | E20: ='TONG HOP'!AV19 -> 0 | F20: ='TONG HOP'!AV30 -> 0 | G20: ='TONG HOP'!AV41 -> 0 | H20: ='TONG HOP'!AV52 -> 0 | I20: ='TONG HOP'!AV63 -> 0 | L20: 3 | M20: 9h00-9h45 | N20: ='TONG HOP'!AZ8 -> 0 | O20: ='TONG HOP'!AZ19 -> 0 | P20: ='TONG HOP'!AZ30 -> 0 | Q20: ='TONG HOP'!AZ41 -> 0 | R20: ='TONG HOP'!AZ52 -> 0 | S20: ='TONG HOP'!AZ63 -> 0
B21: 4 | C21: 9h45-10h30 | D21: ='TONG HOP'!AV9 -> C103 | E21: ='TONG HOP'!AV20 -> C107 | F21: ='TONG HOP'!AV31 -> 0 | G21: ='TONG HOP'!AV42 -> C102 | H21: ='TONG HOP'!AV53 -> 0 | I21: ='TONG HOP'!AV64 -> A015 | L21: 4 | M21: 9h45-10h30 | N21: ='TONG HOP'!AZ9 -> 0 | O21: ='TONG HOP'!AZ20 -> 0 | P21: ='TONG HOP'!AZ31 -> 0 | Q21: ='TONG HOP'!AZ42 -> 0 | R21: ='TONG HOP'!AZ53 -> 0 | S21: ='TONG HOP'!AZ64 -> 0
B22: 5 | C22: 10h30-11h15(LT) 10h30-11h30(TH) | D22: ='TONG HOP'!AV10 -> T.XUÂN | E22: ='TONG HOP'!AV21 -> C.QUỲNH ANH | F22: ='TONG HOP'!AV32 -> 0 | G22: ='TONG HOP'!AV43 -> C.THANH VY | H22: ='TONG HOP'!AV54 -> 0 | I22: ='TONG HOP'!AV65 -> C.NGUYÊN | L22: 5 | M22: 10h30-11h15(LT) 10h30-11h30(TH) | N22: ='TONG HOP'!AZ10 -> 0 | O22: ='TONG HOP'!AZ21 -> 0 | P22: ='TONG HOP'!AZ32 -> 0 | Q22: ='TONG HOP'!AZ43 -> 0 | R22: ='TONG HOP'!AZ54 -> 0 | S22: ='TONG HOP'!AZ65 -> 0
A23: CHIỀU | B23: 6 | C23: 12h45-13h30 | D23: ='TONG HOP'!AV11 -> 0 | E23: ='TONG HOP'!AV22 -> THÍ NGHIỆM | F23: ='TONG HOP'!AV33 -> 0 | G23: ='TONG HOP'!AV44 -> 0 | H23: ='TONG HOP'!AV55 -> 0 | I23: ='TONG HOP'!AV66 -> 0 | K23: CHIỀU | L23: 6 | M23: 12h45-13h30 | N23: ='TONG HOP'!AZ11 -> 0 | O23: ='TONG HOP'!AZ22 -> 0 | P23: ='TONG HOP'!AZ33 -> 0 | Q23: ='TONG HOP'!AZ44 -> 0 | R23: ='TONG HOP'!AZ55 -> 0 | S23: ='TONG HOP'!AZ66 -> 0
B24: 7 | C24: 13h30-14h15 | D24: ='TONG HOP'!AV12 -> 0 | E24: ='TONG HOP'!AV23 -> VI SINH TP | F24: ='TONG HOP'!AV34 -> 0 | G24: ='TONG HOP'!AV45 -> 0 | H24: ='TONG HOP'!AV56 -> 0 | I24: ='TONG HOP'!AV67 -> 0 | L24: 7 | M24: 13h30-14h15 | N24: ='TONG HOP'!AZ12 -> 0 | O24: ='TONG HOP'!AZ23 -> 0 | P24: ='TONG HOP'!AZ34 -> 0 | Q24: ='TONG HOP'!AZ45 -> 0 | R24: ='TONG HOP'!AZ56 -> 0 | S24: ='TONG HOP'!AZ67 -> 0
B25: 8 | C25: 14h45-15h30 | D25: ='TONG HOP'!AV13 -> 0 | E25: ='TONG HOP'!AV24 -> 0 | F25: ='TONG HOP'!AV35 -> 0 | G25: ='TONG HOP'!AV46 -> 0 | H25: ='TONG HOP'!AV57 -> 0 | I25: ='TONG HOP'!AV68 -> 0 | L25: 8 | M25: 14h45-15h30 | N25: ='TONG HOP'!AZ13 -> 0 | O25: ='TONG HOP'!AZ24 -> 0 | P25: ='TONG HOP'!AZ35 -> 0 | Q25: ='TONG HOP'!AZ46 -> 0 | R25: ='TONG HOP'!AZ57 -> 0 | S25: ='TONG HOP'!AZ68 -> 0
B26: 9 | C26: 15h30-16h15 | D26: ='TONG HOP'!AV14 -> 0 | E26: ='TONG HOP'!AV25 -> C107 | F26: ='TONG HOP'!AV36 -> 0 | G26: ='TONG HOP'!AV47 -> 0 | H26: ='TONG HOP'!AV58 -> 0 | I26: ='TONG HOP'!AV69 -> 0 | L26: 9 | M26: 15h30-16h15 | N26: ='TONG HOP'!AZ14 -> 0 | O26: ='TONG HOP'!AZ25 -> 0 | P26: ='TONG HOP'!AZ36 -> 0 | Q26: ='TONG HOP'!AZ47 -> 0 | R26: ='TONG HOP'!AZ58 -> 0 | S26: ='TONG HOP'!AZ69 -> 0
B27: 10 | C27: 16h15-17h00(LT) 16h15-17h15(TH) | D27: ='TONG HOP'!AV15 -> 0 | E27: ='TONG HOP'!AV26 -> C.QUỲNH ANH | F27: ='TONG HOP'!AV37 -> 0 | G27: ='TONG HOP'!AV48 -> 0 | H27: ='TONG HOP'!AV59 -> 0 | I27: ='TONG HOP'!AV70 -> 0 | L27: 10 | M27: 16h15-17h00(LT) 16h15-17h15(TH) | N27: ='TONG HOP'!AZ15 -> 0 | O27: ='TONG HOP'!AZ26 -> 0 | P27: ='TONG HOP'!AZ37 -> 0 | Q27: ='TONG HOP'!AZ48 -> 0 | R27: ='TONG HOP'!AZ59 -> 0 | S27: ='TONG HOP'!AZ70 -> 0
A28: =A15 -> ÁP DỤNG TỪ NGÀY 12/10/2026 ĐẾN NGÀY 31/10/2026 | K28: =K15 -> ÁP DỤNG TỪ NGÀY 12/10/2026 ĐẾN NGÀY 31/10/2026
A29: LỚP: | C29: ='TONG HOP'!AX5 -> T25TP1 | E29: GVCN: PHAN THỊ BẢO VY. SĐT: 0903.960.582 | K29: LỚP: | M29: ='TONG HOP'!AY5 -> T25TP2 | O29: GVCN: THÁI THỊ DIỆP. SĐT: 0974.666.341
A30: Buổi | B30: Tiết | C30: Giờ dạy | D30: THỨ HAI | E30: THỨ BA | F30: THỨ TƯ | G30: THỨ NĂM | H30: THỨ SÁU | I30: THỨ BẢY | K30: Buổi | L30: Tiết | M30: Giờ dạy | N30: THỨ HAI | O30: THỨ BA | P30: THỨ TƯ | Q30: THỨ NĂM | R30: THỨ SÁU | S30: THỨ BẢY
A31: SÁNG | B31: 1 | C31: 7h00-7h45 | D31: ='TONG HOP'!AX6 -> 0 | E31: ='TONG HOP'!AX17 -> 0 | F31: ='TONG HOP'!AX28 -> 0 | G31: ='TONG HOP'!AX39 -> 0 | H31: ='TONG HOP'!AX50 -> 0 | I31: ='TONG HOP'!AX61 -> 0 | K31: SÁNG | L31: 1 | M31: 7h00-7h45 | N31: ='TONG HOP'!AY6 -> 0 | O31: ='TONG HOP'!AY17 -> 0 | P31: ='TONG HOP'!AY28 -> 0 | Q31: ='TONG HOP'!AY39 -> 0 | R31: ='TONG HOP'!AY50 -> 0 | S31: ='TONG HOP'!AY61 -> 0
B32: 2 | C32: 7h45-8h30 | D32: ='TONG HOP'!AX7 -> 0 | E32: ='TONG HOP'!AX18 -> 0 | F32: ='TONG HOP'!AX29 -> 0 | G32: ='TONG HOP'!AX40 -> 0 | H32: ='TONG HOP'!AX51 -> 0 | I32: ='TONG HOP'!AX62 -> 0 | L32: 2 | M32: 7h45-8h30 | N32: ='TONG HOP'!AY7 -> 0 | O32: ='TONG HOP'!AY18 -> 0 | P32: ='TONG HOP'!AY29 -> 0 | Q32: ='TONG HOP'!AY40 -> 0 | R32: ='TONG HOP'!AY51 -> 0 | S32: ='TONG HOP'!AY62 -> 0
B33: 3 | C33: 9h00-9h45 | D33: ='TONG HOP'!AX8 -> 0 | E33: ='TONG HOP'!AX19 -> 0 | F33: ='TONG HOP'!AX30 -> 0 | G33: ='TONG HOP'!AX41 -> 0 | H33: ='TONG HOP'!AX52 -> 0 | I33: ='TONG HOP'!AX63 -> 0 | L33: 3 | M33: 9h00-9h45 | N33: ='TONG HOP'!AY8 -> 0 | O33: ='TONG HOP'!AY19 -> 0 | P33: ='TONG HOP'!AY30 -> 0 | Q33: ='TONG HOP'!AY41 -> 0 | R33: ='TONG HOP'!AY52 -> 0 | S33: ='TONG HOP'!AY63 -> 0
B34: 4 | C34: 9h45-10h30 | D34: ='TONG HOP'!AX9 -> 0 | E34: ='TONG HOP'!AX20 -> 0 | F34: ='TONG HOP'!AX31 -> 0 | G34: ='TONG HOP'!AX42 -> 0 | H34: ='TONG HOP'!AX53 -> 0 | I34: ='TONG HOP'!AX64 -> 0 | L34: 4 | M34: 9h45-10h30 | N34: ='TONG HOP'!AY9 -> 0 | O34: ='TONG HOP'!AY20 -> 0 | P34: ='TONG HOP'!AY31 -> 0 | Q34: ='TONG HOP'!AY42 -> 0 | R34: ='TONG HOP'!AY53 -> 0 | S34: ='TONG HOP'!AY64 -> 0
B35: 5 | C35: 10h30-11h15(LT) 10h30-11h30(TH) | D35: ='TONG HOP'!AX10 -> 0 | E35: ='TONG HOP'!AX21 -> 0 | F35: ='TONG HOP'!AX32 -> 0 | G35: ='TONG HOP'!AX43 -> 0 | H35: ='TONG HOP'!AX54 -> 0 | I35: ='TONG HOP'!AX65 -> 0 | L35: 5 | M35: 10h30-11h15(LT) 10h30-11h30(TH) | N35: ='TONG HOP'!AY10 -> 0 | O35: ='TONG HOP'!AY21 -> 0 | P35: ='TONG HOP'!AY32 -> 0 | Q35: ='TONG HOP'!AY43 -> 0 | R35: ='TONG HOP'!AY54 -> 0 | S35: ='TONG HOP'!AY65 -> 0
A36: CHIỀU | B36: 6 | C36: 12h45-13h30 | D36: ='TONG HOP'!AX11 -> HỌC VĂN HÓA | E36: ='TONG HOP'!AX22 -> HỌC VĂN HÓA | F36: ='TONG HOP'!AX33 -> HỌC VĂN HÓA | G36: ='TONG HOP'!AX44 -> HỌC VĂN HÓA | H36: ='TONG HOP'!AX55 -> HỌC VĂN HÓA | I36: ='TONG HOP'!AX66 -> 0 | K36: CHIỀU | L36: 6 | M36: 12h45-13h30 | N36: ='TONG HOP'!AY11 -> 0 | O36: ='TONG HOP'!AY22 -> 0 | P36: ='TONG HOP'!AY33 -> 0 | Q36: ='TONG HOP'!AY44 -> 0 | R36: ='TONG HOP'!AY55 -> 0 | S36: ='TONG HOP'!AY66 -> 0
B37: 7 | C37: 13h30-14h15 | D37: ='TONG HOP'!AX12 -> THEO TKB TTGDTX | E37: ='TONG HOP'!AX23 -> THEO TKB TTGDTX | F37: ='TONG HOP'!AX34 -> THEO TKB TTGDTX | G37: ='TONG HOP'!AX45 -> THEO TKB TTGDTX | H37: ='TONG HOP'!AX56 -> THEO TKB TTGDTX | I37: ='TONG HOP'!AX67 -> 0 | L37: 7 | M37: 13h30-14h15 | N37: ='TONG HOP'!AY12 -> 0 | O37: ='TONG HOP'!AY23 -> 0 | P37: ='TONG HOP'!AY34 -> 0 | Q37: ='TONG HOP'!AY45 -> 0 | R37: ='TONG HOP'!AY56 -> 0 | S37: ='TONG HOP'!AY67 -> 0
B38: 8 | C38: 14h45-15h30 | D38: ='TONG HOP'!AX13 -> QUẬN 1 | E38: ='TONG HOP'!AX24 -> QUẬN 1 | F38: ='TONG HOP'!AX35 -> QUẬN 1 | G38: ='TONG HOP'!AX46 -> QUẬN 1 | H38: ='TONG HOP'!AX57 -> QUẬN 1 | I38: ='TONG HOP'!AX68 -> 0 | L38: 8 | M38: 14h45-15h30 | N38: ='TONG HOP'!AY13 -> 0 | O38: ='TONG HOP'!AY24 -> 0 | P38: ='TONG HOP'!AY35 -> 0 | Q38: ='TONG HOP'!AY46 -> 0 | R38: ='TONG HOP'!AY57 -> 0 | S38: ='TONG HOP'!AY68 -> 0
B39: 9 | C39: 15h30-16h15 | D39: ='TONG HOP'!AX14 -> 0 | E39: ='TONG HOP'!AX25 -> 0 | F39: ='TONG HOP'!AX36 -> 0 | G39: ='TONG HOP'!AX47 -> 0 | H39: ='TONG HOP'!AX58 -> 0 | I39: ='TONG HOP'!AX69 -> 0 | L39: 9 | M39: 15h30-16h15 | N39: ='TONG HOP'!AY14 -> 0 | O39: ='TONG HOP'!AY25 -> 0 | P39: ='TONG HOP'!AY36 -> 0 | Q39: ='TONG HOP'!AY47 -> 0 | R39: ='TONG HOP'!AY58 -> 0 | S39: ='TONG HOP'!AY69 -> 0
B40: 10 | C40: 16h15-17h00(LT) 16h15-17h15(TH) | D40: ='TONG HOP'!AX15 -> 0 | E40: ='TONG HOP'!AX26 -> 0 | F40: ='TONG HOP'!AX37 -> 0 | G40: ='TONG HOP'!AX48 -> 0 | H40: ='TONG HOP'!AX59 -> 0 | I40: ='TONG HOP'!AX70 -> 0 | L40: 10 | M40: 16h15-17h00(LT) 16h15-17h15(TH) | N40: ='TONG HOP'!AY15 -> 0 | O40: ='TONG HOP'!AY26 -> 0 | P40: ='TONG HOP'!AY37 -> 0 | Q40: ='TONG HOP'!AY48 -> 0 | R40: ='TONG HOP'!AY59 -> 0 | S40: ='TONG HOP'!AY70 -> 0
A41: =A2 -> ÁP DỤNG TỪ NGÀY 12/10/2026 ĐẾN NGÀY 31/10/2026 | K41: =A2 -> ÁP DỤNG TỪ NGÀY 12/10/2026 ĐẾN NGÀY 31/10/2026
A42: LỚP: | K42: LỚP:
A43: Buổi | B43: Tiết | C43: Giờ dạy | D43: THỨ HAI | E43: THỨ BA | F43: THỨ TƯ | G43: THỨ NĂM | H43: THỨ SÁU | I43: THỨ BẢY | K43: Buổi | L43: Tiết | M43: Giờ dạy | N43: THỨ HAI | O43: THỨ BA | P43: THỨ TƯ | Q43: THỨ NĂM | R43: THỨ SÁU | S43: THỨ BẢY
A44: SÁNG | B44: 1 | C44: 7h00-7h45 | K44: SÁNG | L44: 1 | M44: 7h00-7h45 | N44: ='TONG HOP'!AZ6 -> 0 | O44: ='TONG HOP'!AZ17 -> 0 | P44: ='TONG HOP'!AZ28 -> 0 | Q44: ='TONG HOP'!AZ39 -> 0 | R44: ='TONG HOP'!AZ50 -> 0 | S44: ='TONG HOP'!AZ61 -> 0
B45: 2 | C45: 7h45-8h30 | L45: 2 | M45: 7h45-8h30 | N45: ='TONG HOP'!AZ7 -> 0 | O45: ='TONG HOP'!AZ18 -> 0 | P45: ='TONG HOP'!AY29 -> 0 | Q45: ='TONG HOP'!AZ40 -> 0 | R45: ='TONG HOP'!AZ51 -> 0 | S45: ='TONG HOP'!AZ62 -> 0
B46: 3 | C46: 9h00-9h45 | L46: 3 | M46: 9h00-9h45 | N46: ='TONG HOP'!AZ8 -> 0 | O46: ='TONG HOP'!AZ19 -> 0 | P46: ='TONG HOP'!AZ30 -> 0 | Q46: ='TONG HOP'!AZ41 -> 0 | R46: ='TONG HOP'!AZ52 -> 0 | S46: ='TONG HOP'!AZ63 -> 0
B47: 4 | C47: 9h45-10h30 | L47: 4 | M47: 9h45-10h30 | N47: ='TONG HOP'!AZ9 -> 0 | O47: ='TONG HOP'!AZ20 -> 0 | P47: ='TONG HOP'!AZ31 -> 0 | Q47: ='TONG HOP'!AZ42 -> 0 | R47: ='TONG HOP'!AZ53 -> 0 | S47: ='TONG HOP'!AZ64 -> 0
B48: 5 | C48: 10h30-11h15(LT) 10h30-11h30(TH) | L48: 5 | M48: 10h30-11h15(LT) 10h30-11h30(TH) | N48: ='TONG HOP'!AZ10 -> 0 | O48: ='TONG HOP'!AZ21 -> 0 | P48: ='TONG HOP'!AZ32 -> 0 | Q48: ='TONG HOP'!AZ43 -> 0 | R48: ='TONG HOP'!AZ54 -> 0 | S48: ='TONG HOP'!AZ65 -> 0
A49: CHIỀU | B49: 6 | C49: 12h45-13h30 | K49: CHIỀU | L49: 6 | M49: 12h45-13h30 | N49: ='TONG HOP'!AZ11 -> 0 | O49: ='TONG HOP'!AZ22 -> 0 | P49: ='TONG HOP'!AZ33 -> 0 | Q49: ='TONG HOP'!AZ44 -> 0 | R49: ='TONG HOP'!AZ55 -> 0 | S49: ='TONG HOP'!AZ66 -> 0
B50: 7 | C50: 13h30-14h15 | L50: 7 | M50: 13h30-14h15 | N50: ='TONG HOP'!AZ12 -> 0 | O50: ='TONG HOP'!AZ23 -> 0 | P50: ='TONG HOP'!AZ34 -> 0 | Q50: ='TONG HOP'!AZ45 -> 0 | R50: ='TONG HOP'!AZ56 -> 0 | S50: ='TONG HOP'!AZ67 -> 0
B51: 8 | C51: 14h45-15h30 | L51: 8 | M51: 14h45-15h30 | N51: ='TONG HOP'!AZ13 -> 0 | O51: ='TONG HOP'!AZ24 -> 0 | P51: ='TONG HOP'!AZ35 -> 0 | Q51: ='TONG HOP'!AZ46 -> 0 | R51: ='TONG HOP'!AZ57 -> 0 | S51: ='TONG HOP'!AZ68 -> 0
B52: 9 | C52: 15h30-16h15 | L52: 9 | M52: 15h30-16h15 | N52: ='TONG HOP'!AZ14 -> 0 | O52: ='TONG HOP'!AZ25 -> 0 | P52: ='TONG HOP'!AZ36 -> 0 | Q52: ='TONG HOP'!AZ47 -> 0 | R52: ='TONG HOP'!AZ58 -> 0 | S52: ='TONG HOP'!AZ69 -> 0
B53: 10 | C53: 16h15-17h00(LT) 16h15-17h15(TH) | L53: 10 | M53: 16h15-17h00(LT) 16h15-17h15(TH) | N53: ='TONG HOP'!AZ15 -> 0 | O53: ='TONG HOP'!AZ26 -> 0 | P53: ='TONG HOP'!AZ37 -> 0 | Q53: ='TONG HOP'!AZ48 -> 0 | R53: ='TONG HOP'!AZ59 -> 0 | S53: ='TONG HOP'!AZ70 -> 0
A54: =A15 -> ÁP DỤNG TỪ NGÀY 12/10/2026 ĐẾN NGÀY 31/10/2026 | K54: =A15 -> ÁP DỤNG TỪ NGÀY 12/10/2026 ĐẾN NGÀY 31/10/2026
A55: LỚP: | C55: ='TONG HOP'!BA5 -> C24TP2 | K55: LỚP:
A56: Buổi | B56: Tiết | C56: Giờ dạy | D56: THỨ HAI | E56: THỨ BA | F56: THỨ TƯ | G56: THỨ NĂM | H56: THỨ SÁU | I56: THỨ BẢY | J56: CHỦ NHẬT | K56: Buổi | L56: Tiết | M56: Giờ dạy | N56: THỨ HAI | O56: THỨ BA | P56: THỨ TƯ | Q56: THỨ NĂM | R56: THỨ SÁU | S56: THỨ BẢY | T56: CHỦ NHẬT
A57: SÁNG | B57: 1 | C57: 7h00-7h45 | K57: SÁNG | L57: 1 | M57: 7h00-7h45
B58: 2 | C58: 7h45-8h30 | L58: 2 | M58: 7h45-8h30
B59: 3 | C59: 9h00-9h45 | L59: 3 | M59: 9h00-9h45
B60: 4 | C60: 9h45-10h30 | L60: 4 | M60: 9h45-10h30
B61: 5 | C61: 10h30-11h15(LT) 10h30-11h30(TH) | L61: 5 | M61: 10h30-11h15(LT) 10h30-11h30(TH)
A62: CHIỀU | B62: 6 | C62: 12h45-13h30 | K62: CHIỀU | L62: 6 | M62: 12h45-13h30
B63: 7 | C63: 13h30-14h15 | L63: 7 | M63: 13h30-14h15
B64: 8 | C64: 14h45-15h30 | L64: 8 | M64: 14h45-15h30
B65: 9 | C65: 15h30-16h15 | L65: 9 | M65: 15h30-16h15
B66: 10 | C66: 16h15-17h00(LT) 16h15-17h15(TH) | L66: 10 | M66: 16h15-17h00(LT) 16h15-17h15(TH)
A67: TỐI | B67: 11 | D67: ='TONG HOP'!BA11 -> 0 | E67: ='TONG HOP'!BA22 -> 0 | F67: ='TONG HOP'!BA33 -> 0 | G67: ='TONG HOP'!BA44 -> 0 | H67: ='TONG HOP'!BA55 -> 0 | K67: TỐI | L67: 11 | M67: 17h45-18h30
B68: 12 | C68: 18h30-19h15 | D68: ='TONG HOP'!BA12 -> 0 | E68: ='TONG HOP'!BA23 -> 0 | F68: ='TONG HOP'!BA34 -> 0 | G68: ='TONG HOP'!BA45 -> 0 | H68: ='TONG HOP'!BA56 -> 0 | L68: 12 | M68: 18h30-19h15
B69: 13 | C69: 19h30-20h15 | D69: ='TONG HOP'!BA13 -> 0 | E69: ='TONG HOP'!BA24 -> 0 | F69: ='TONG HOP'!BA35 -> 0 | G69: ='TONG HOP'!BA46 -> 0 | H69: ='TONG HOP'!BA57 -> 0 | L69: 13 | M69: 19h30-20h15
B70: 14 | C70: 20h15-21h00 | D70: ='TONG HOP'!BA14 -> 0 | E70: ='TONG HOP'!BA25 -> 0 | F70: ='TONG HOP'!BA36 -> 0 | G70: ='TONG HOP'!BA47 -> 0 | H70: ='TONG HOP'!BA58 -> 0 | L70: 14 | M70: 20h15-21h00
D71: ='TONG HOP'!BA15 -> 0 | E71: ='TONG HOP'!BA26 -> 0 | F71: ='TONG HOP'!BA37 -> 0 | G71: ='TONG HOP'!BA48 -> 0 | H71: ='TONG HOP'!BA59 -> 0
A73: Lưu ý:
A74: Thời gian học: Một giờ dạy thực hành/tích hợp là 60 phút, Một giờ dạy lý thuyết/trực tuyến là 45 phút
B75: Ca sáng: Giờ lý thuyết: Từ 7h00(T1) – 8h30 - ra chơi - 9h00 – 11h15(T5), Giờ thực hành: Từ 7h00(T1) – 8h30 - ra chơi - 9h00 – 11h30 (T4)
B76: Ca chiều: Giờ lý thuyết: Từ 12h45 (T6) – 14h15 - ra chơi - 14h45 – 17h00 (T10), Giờ thực hành: Từ 12h45 (T5) – 14h15 - ra chơi - 14h45 – 17h15 (T8)
B77: Ca tối: Từ 17h45 – 19h15 - ra chơi - 19h30 – 21h00
